- using R Under development (unstable) (2025-07-01 r88373)
- using platform: x86_64-pc-linux-gnu
- R was compiled by
gcc-14 (Debian 14.2.0-19) 14.2.0
GNU Fortran (Debian 14.2.0-19) 14.2.0
- running under: Debian GNU/Linux 13 (trixie)
- using session charset: UTF-8
- checking for file ‘QurvE/DESCRIPTION’ ... OK
- this is package ‘QurvE’ version ‘1.1.1’
- package encoding: UTF-8
- checking CRAN incoming feasibility ... [1s/1s] OK
- checking package namespace information ... OK
- checking package dependencies ... INFO
Package suggested but not available for checking: ‘shinysurveys’
- checking if this is a source package ... OK
- checking if there is a namespace ... OK
- checking for executable files ... OK
- checking for hidden files and directories ... OK
- checking for portable file names ... OK
- checking for sufficient/correct file permissions ... OK
- checking whether package ‘QurvE’ can be installed ... OK
See the install log for details.
- checking package directory ... OK
- checking for future file timestamps ... OK
- checking ‘build’ directory ... OK
- checking DESCRIPTION meta-information ... NOTE
Author field differs from that derived from Authors@R
Author: ‘Nicolas T. Wirth [aut, cre, cph] (<https://orcid.org/0000-0003-0799-1321>), Jonathan Funk [aut] (Co-developer of shiny app.), Matthias Kahm [ctb] (Author of ‘grofit’ package, whose general data structure was adopted for QurvE.), Maik Kschischo [ctb] (Author of ‘grofit’ package, whose general data structure was adopted for QurvE.), Thomas Petzoldt [ctb] (<https://orcid.org/0000-0002-4951-6468>, Creator of the package ‘growthrates’, whose function for calculating linear regressions served as a template in QurvE.), Andrew Stein [ctb] (Creator of ‘xgxr’ package from which QurvE adopted code to plot axis ticks on log10 scale.), Michael W. Kearney [ctb] (Creator of ‘tfse’ package from which QurvE adopted the match_arg function.), Santiago I. Hurtado [ctb] (Creator of ‘RobustLinearReg’ package from which QurvE adopted the Theil Sehn Regression method.), Mark Heckmann [ctb] (Creator of the ‘zipFastener’ function; source: https://ryouready.wordpress.com/2009/03/27/r-zip-fastener-for-two-data-frames-combining-rows-or-columns-of-two-dataframes-in-an-alternating-manner/), Nicholas Hamilton [ctb] (Creator of the ‘colFmt’ function.), Evan Friedland [ctb] (Creator of the ‘inflect’ function.), Heather Turner [ctb] (Creator of the ‘base_breaks’ function.), Georgi N. Boshnakov [ctb] (Creator of ‘gbRd’ package from which functions are used to display function help pages within the shiny app.)’
Authors@R: ‘Nicolas T. Wirth [aut, cre, cph] (ORCID: <https://orcid.org/0000-0003-0799-1321>), Jonathan Funk [aut] (contribution: Co-developer of shiny app.), Matthias Kahm [ctb] (contribution: Author of ‘grofit’ package, whose general data structure was adopted for QurvE.), Maik Kschischo [ctb] (contribution: Author of ‘grofit’ package, whose general data structure was adopted for QurvE.), Thomas Petzoldt [ctb] (ORCID: <https://orcid.org/0000-0002-4951-6468>, contribution: Creator of the package ‘growthrates’, whose function for calculating linear regressions served as a template in QurvE.), Andrew Stein [ctb] (contribution: Creator of ‘xgxr’ package from which QurvE adopted code to plot axis ticks on log10 scale.), Michael W. Kearney [ctb] (contribution: Creator of ‘tfse’ package from which QurvE adopted the match_arg function.), Santiago I. Hurtado [ctb] (contribution: Creator of ‘RobustLinearReg’ package from which QurvE adopted the Theil Sehn Regression method.), Mark Heckmann [ctb] (contribution: Creator of the ‘zipFastener’ function; source: https://ryouready.wordpress.com/2009/03/27/r-zip-fastener-for-two-data-frames-combining-rows-or-columns-of-two-dataframes-in-an-alternating-manner/), Nicholas Hamilton [ctb] (contribution: Creator of the ‘colFmt’ function.), Evan Friedland [ctb] (contribution: Creator of the ‘inflect’ function.), Heather Turner [ctb] (contribution: Creator of the ‘base_breaks’ function.), Georgi N. Boshnakov [ctb] (contribution: Creator of ‘gbRd’ package from which functions are used to display function help pages within the shiny app.)’
- checking top-level files ... OK
- checking for left-over files ... OK
- checking index information ... OK
- checking package subdirectories ... OK
- checking code files for non-ASCII characters ... OK
- checking R files for syntax errors ... OK
- checking whether the package can be loaded ... [3s/3s] OK
- checking whether the package can be loaded with stated dependencies ... [2s/3s] OK
- checking whether the package can be unloaded cleanly ... [2s/3s] OK
- checking whether the namespace can be loaded with stated dependencies ... [2s/4s] OK
- checking whether the namespace can be unloaded cleanly ... [3s/3s] OK
- checking loading without being on the library search path ... [3s/3s] OK
- checking whether startup messages can be suppressed ... [3s/3s] OK
- checking use of S3 registration ... OK
- checking dependencies in R code ... OK
- checking S3 generic/method consistency ... OK
- checking replacement functions ... OK
- checking foreign function calls ... OK
- checking R code for possible problems ... [51s/67s] OK
- checking Rd files ... [1s/1s] OK
- checking Rd metadata ... OK
- checking Rd line widths ... OK
- checking Rd cross-references ... NOTE
Found the following Rd file(s) with Rd \link{} targets missing package
anchors:
fl.drFitModel.Rd: nlsLM
Please provide package anchors for all Rd \link{} targets not in the
package itself and the base packages.
- checking for missing documentation entries ... OK
- checking for code/documentation mismatches ... OK
- checking Rd \usage sections ... OK
- checking Rd contents ... OK
- checking for unstated dependencies in examples ... OK
- checking installed files from ‘inst/doc’ ... OK
- checking files in ‘vignettes’ ... OK
- checking examples ... [43s/58s] OK
- checking for unstated dependencies in vignettes ... OK
- checking package vignettes ... OK
- checking re-building of vignette outputs ... [13s/23s] OK
- checking PDF version of manual ... [8s/11s] OK
- checking HTML version of manual ... [4s/6s] OK
- checking for non-standard things in the check directory ... OK
- DONE
Status: 2 NOTEs