- using R Under development (unstable) (2022-05-24 r82398)
- using platform: x86_64-pc-linux-gnu (64-bit)
- using session charset: UTF-8
- checking for file ‘PVplr/DESCRIPTION’ ... OK
- checking extension type ... Package
- this is package ‘PVplr’ version ‘0.1.1’
- package encoding: UTF-8
- checking package namespace information ... OK
- checking package dependencies ... OK
- checking if this is a source package ... OK
- checking if there is a namespace ... OK
- checking for executable files ... OK
- checking for hidden files and directories ... OK
- checking for portable file names ... OK
- checking for sufficient/correct file permissions ... OK
- checking serialization versions ... OK
- checking whether package ‘PVplr’ can be installed ... OK
- checking package directory ... OK
- checking for future file timestamps ... OK
- checking ‘build’ directory ... OK
- checking DESCRIPTION meta-information ... OK
- checking top-level files ... OK
- checking for left-over files ... OK
- checking index information ... OK
- checking package subdirectories ... OK
- checking R files for non-ASCII characters ... OK
- checking R files for syntax errors ... OK
- checking whether the package can be loaded ... OK
- checking whether the package can be loaded with stated dependencies ... OK
- checking whether the package can be unloaded cleanly ... OK
- checking whether the namespace can be loaded with stated dependencies ... OK
- checking whether the namespace can be unloaded cleanly ... OK
- checking loading without being on the library search path ... OK
- checking use of S3 registration ... OK
- checking dependencies in R code ... OK
- checking S3 generic/method consistency ... OK
- checking replacement functions ... OK
- checking foreign function calls ... OK
- checking R code for possible problems ... [15s/24s] OK
- checking Rd files ... [0s/1s] OK
- checking Rd metadata ... OK
- checking Rd line widths ... OK
- checking Rd cross-references ... OK
- checking for missing documentation entries ... OK
- checking for code/documentation mismatches ... OK
- checking Rd \usage sections ... OK
- checking Rd contents ... OK
- checking for unstated dependencies in examples ... OK
- checking contents of ‘data’ directory ... OK
- checking data for non-ASCII characters ... OK
- checking LazyData ... OK
- checking data for ASCII and uncompressed saves ... OK
- checking installed files from ‘inst/doc’ ... OK
- checking files in ‘vignettes’ ... OK
- checking examples ... [57s/99s] OK
Examples with CPU (user + system) or elapsed time > 5s
user system elapsed
plr_seg_extract 4.898 0.305 9.226
plr_yoy_regression 4.934 0.224 9.192
plr_xbx_model 4.806 0.283 8.776
plr_weighted_regression 4.705 0.289 9.303
plr_xbx_utc_model 4.622 0.274 8.447
plr_var 4.557 0.261 9.648
plr_remove_outliers 4.415 0.344 8.735
plr_decomposition 4.427 0.275 9.016
plr_pvusa_model 4.278 0.255 8.038
- checking for unstated dependencies in ‘tests’ ... OK
- checking tests ... [61s/113s] OK
Running ‘prelim_test.R’ [61s/112s]
Running ‘testthat.R’ [0s/1s]
- checking for unstated dependencies in vignettes ... OK
- checking package vignettes in ‘inst/doc’ ... OK
- checking re-building of vignette outputs ... [75s/137s] OK
- checking PDF version of manual ... OK
- checking for non-standard things in the check directory ... OK
- DONE
Status: OK