- using R Under development (unstable) (2025-10-20 r88955)
- using platform: x86_64-pc-linux-gnu
- R was compiled by
gcc-15 (Debian 15.2.0-4) 15.2.0
GNU Fortran (Debian 15.2.0-4) 15.2.0
- running under: Debian GNU/Linux forky/sid
- using session charset: UTF-8
- checking for file ‘MultiObjMatch/DESCRIPTION’ ... OK
- checking extension type ... Package
- this is package ‘MultiObjMatch’ version ‘1.0.0’
- package encoding: UTF-8
- checking CRAN incoming feasibility ... [1s/1s] OK
- checking package namespace information ... OK
- checking package dependencies ... INFO
Package suggested but not available for checking: ‘rrelaxiv’
- checking if this is a source package ... OK
- checking if there is a namespace ... OK
- checking for executable files ... OK
- checking for hidden files and directories ... OK
- checking for portable file names ... OK
- checking for sufficient/correct file permissions ... OK
- checking serialization versions ... OK
- checking whether package ‘MultiObjMatch’ can be installed ... OK
See the install log for details.
- checking package directory ... OK
- checking for future file timestamps ... OK
- checking DESCRIPTION meta-information ... OK
- checking top-level files ... OK
- checking for left-over files ... OK
- checking index information ... OK
- checking package subdirectories ... OK
- checking code files for non-ASCII characters ... OK
- checking R files for syntax errors ... OK
- checking whether the package can be loaded ... [3s/4s] OK
- checking whether the package can be loaded with stated dependencies ... [2s/4s] OK
- checking whether the package can be unloaded cleanly ... [2s/3s] OK
- checking whether the namespace can be loaded with stated dependencies ... [3s/3s] OK
- checking whether the namespace can be unloaded cleanly ... [3s/5s] OK
- checking loading without being on the library search path ... [3s/3s] OK
- checking use of S3 registration ... OK
- checking dependencies in R code ... OK
- checking S3 generic/method consistency ... OK
- checking replacement functions ... OK
- checking foreign function calls ... OK
- checking R code for possible problems ... [17s/21s] OK
- checking Rd files ... [0s/0s] OK
- checking Rd metadata ... OK
- checking Rd line widths ... OK
- checking Rd cross-references ... OK
- checking for missing documentation entries ... OK
- checking for code/documentation mismatches ... OK
- checking Rd \usage sections ... OK
- checking Rd contents ... OK
- checking for unstated dependencies in examples ... OK
- checking examples ... [61s/68s] OK
Examples with CPU (user + system) or elapsed time > 5s
user system elapsed
compare_matching 7.412 0.271 8.528
get_pairdist_graph 7.384 0.082 8.808
matched_data 7.205 0.131 8.352
dist_bal_match 7.048 0.206 7.878
get_pairdist_balance_graph 7.039 0.175 7.891
compare_tables 6.773 0.157 7.751
get_tv_graph 6.821 0.069 7.932
get_balance_table 6.669 0.138 7.377
- checking for unstated dependencies in ‘tests’ ... OK
- checking tests ... [17s/21s] OK
Running ‘testthat.R’ [17s/21s]
- checking PDF version of manual ... [5s/7s] OK
- checking HTML version of manual ... [1s/2s] NOTE
Found the following HTML validation problems:
convert_index.html:49:1 (convert_index.Rd:12): Warning: missing </ul> before </div>
dummy.html:81:1 (dummy.Rd:32): Warning: missing </ul> before </div>
matched_index.html:49:1 (matched_index.Rd:12): Warning: missing </ul> before </div>
- checking for non-standard things in the check directory ... OK
- DONE
Status: 1 NOTE