- using R Under development (unstable) (2023-09-23 r85215)
- using platform: x86_64-pc-linux-gnu
- R was compiled by
gcc-13 (Debian 13.2.0-4) 13.2.0
GNU Fortran (Debian 13.2.0-4) 13.2.0
- running under: Debian GNU/Linux trixie/sid
- using session charset: UTF-8
- checking for file ‘Mqrcm/DESCRIPTION’ ... OK
- checking extension type ... Package
- this is package ‘Mqrcm’ version ‘1.2’
- checking package namespace information ... OK
- checking package dependencies ... OK
- checking if this is a source package ... OK
- checking if there is a namespace ... OK
- checking for executable files ... OK
- checking for hidden files and directories ... OK
- checking for portable file names ... OK
- checking for sufficient/correct file permissions ... OK
- checking serialization versions ... OK
- checking whether package ‘Mqrcm’ can be installed ... OK
See the install log for details.
- checking package directory ... OK
- checking for future file timestamps ... OK
- checking DESCRIPTION meta-information ... OK
- checking top-level files ... OK
- checking for left-over files ... OK
- checking index information ... OK
- checking package subdirectories ... OK
- checking R files for non-ASCII characters ... OK
- checking R files for syntax errors ... OK
- checking whether the package can be loaded ... [3s/6s] OK
- checking whether the package can be loaded with stated dependencies ... [3s/5s] OK
- checking whether the package can be unloaded cleanly ... [3s/5s] OK
- checking whether the namespace can be loaded with stated dependencies ... [3s/6s] OK
- checking whether the namespace can be unloaded cleanly ... [3s/6s] OK
- checking loading without being on the library search path ... [3s/6s] OK
- checking use of S3 registration ... OK
- checking dependencies in R code ... OK
- checking S3 generic/method consistency ... OK
- checking replacement functions ... OK
- checking foreign function calls ... OK
- checking R code for possible problems ... [20s/33s] OK
- checking Rd files ... [0s/0s] OK
- checking Rd metadata ... OK
- checking Rd line widths ... OK
- checking Rd cross-references ... OK
- checking for missing documentation entries ... OK
- checking for code/documentation mismatches ... OK
- checking Rd \usage sections ... NOTE
Objects in \usage without \alias in documentation object 'internals':
‘check.in’ ‘check.out’ ‘start.theta’ ‘iMqr.internal’ ‘cov.theta’
‘iobjfun’ ‘sortH’ ‘isigma’ ‘iMqr.newton’ ‘num.fun’ ‘make.bfun’
‘apply_bfun’ ‘p.bisec’ ‘slp.basis’ ‘is.slp’ ‘iqr.waldtest’
‘extract.p’ ‘pred.beta’ ‘print.iMqr’ ‘print.summary.iMqr’
‘terms.iMqr’ ‘model.matrix.iMqr’ ‘vcov.iMqr’ ‘nobs.iMqr’
Functions with \usage entries need to have the appropriate \alias
entries, and all their arguments documented.
The \usage entries must correspond to syntactically valid R code.
See chapter ‘Writing R documentation files’ in the ‘Writing R
Extensions’ manual.
- checking Rd contents ... OK
- checking for unstated dependencies in examples ... OK
- checking examples ... [5s/8s] OK
- checking PDF version of manual ... [4s/12s] OK
- checking HTML version of manual ... [1s/2s] OK
- checking for non-standard things in the check directory ... OK
- DONE
Status: 1 NOTE