- using R Under development (unstable) (2025-10-22 r88969)
- using platform: x86_64-pc-linux-gnu
- R was compiled by
gcc-15 (Debian 15.2.0-4) 15.2.0
GNU Fortran (Debian 15.2.0-4) 15.2.0
- running under: Debian GNU/Linux forky/sid
- using session charset: UTF-8
- checking for file ‘MiscMetabar/DESCRIPTION’ ... OK
- checking extension type ... Package
- this is package ‘MiscMetabar’ version ‘0.14.4’
- package encoding: UTF-8
- checking CRAN incoming feasibility ... [2s/3s] OK
- checking package namespace information ... OK
- checking package dependencies ... OK
- checking if this is a source package ... OK
- checking if there is a namespace ... OK
- checking for executable files ... OK
- checking for hidden files and directories ... OK
- checking for portable file names ... OK
- checking for sufficient/correct file permissions ... OK
- checking whether package ‘MiscMetabar’ can be installed ... OK
See the install log for details.
- checking package directory ... OK
- checking for future file timestamps ... OK
- checking ‘build’ directory ... OK
- checking DESCRIPTION meta-information ... OK
- checking top-level files ... OK
- checking for left-over files ... OK
- checking index information ... OK
- checking package subdirectories ... OK
- checking code files for non-ASCII characters ... OK
- checking R files for syntax errors ... OK
- checking whether the package can be loaded ... [12s/15s] OK
- checking whether the package can be loaded with stated dependencies ... [13s/17s] OK
- checking whether the package can be unloaded cleanly ... [12s/16s] OK
- checking whether the namespace can be loaded with stated dependencies ... [13s/17s] OK
- checking whether the namespace can be unloaded cleanly ... [13s/18s] OK
- checking loading without being on the library search path ... [12s/16s] OK
- checking use of S3 registration ... OK
- checking dependencies in R code ... OK
- checking S3 generic/method consistency ... OK
- checking replacement functions ... OK
- checking foreign function calls ... OK
- checking R code for possible problems ... [63s/80s] OK
- checking Rd files ... [1s/1s] OK
- checking Rd metadata ... OK
- checking Rd line widths ... OK
- checking Rd cross-references ... OK
- checking for missing documentation entries ... OK
- checking for code/documentation mismatches ... OK
- checking Rd \usage sections ... OK
- checking Rd contents ... OK
- checking for unstated dependencies in examples ... OK
- checking contents of ‘data’ directory ... OK
- checking data for non-ASCII characters ... [6s/8s] OK
- checking LazyData ... OK
- checking data for ASCII and uncompressed saves ... OK
- checking installed files from ‘inst/doc’ ... OK
- checking files in ‘vignettes’ ... OK
- checking examples ... [98s/138s] OK
Examples with CPU (user + system) or elapsed time > 5s
user system elapsed
LCBD_pq 4.983 0.252 7.054
SRS_curve_pq 4.657 0.289 6.344
tbl_sum_samdata 4.472 0.013 6.579
ggscatt_pq 4.405 0.044 6.909
tbl_sum_taxtable 4.282 0.013 5.840
summary_plot_pq 3.848 0.102 5.469
psmelt_samples_pq 3.896 0.028 6.382
subset_taxa_tax_control 3.491 0.054 5.042
- checking for unstated dependencies in ‘tests’ ... OK
- checking tests ... [81s/52s] OK
Running ‘spelling.R’ [0s/0s]
Running ‘testthat.R’ [80s/51s]
- checking for unstated dependencies in vignettes ... OK
- checking package vignettes ... OK
- checking re-building of vignette outputs ... [17s/24s] OK
- checking PDF version of manual ... [12s/15s] OK
- checking HTML version of manual ... [4s/8s] OK
- checking for non-standard things in the check directory ... OK
- DONE
Status: OK