- using R Under development (unstable) (2025-06-30 r88369)
- using platform: x86_64-pc-linux-gnu
- R was compiled by
gcc-14 (Debian 14.2.0-19) 14.2.0
GNU Fortran (Debian 14.2.0-19) 14.2.0
- running under: Debian GNU/Linux 13 (trixie)
- using session charset: UTF-8
- checking for file ‘MOTE/DESCRIPTION’ ... OK
- this is package ‘MOTE’ version ‘1.0.2’
- package encoding: UTF-8
- checking CRAN incoming feasibility ... [1s/1s] NOTE
Maintainer: ‘Erin M. Buchanan <buchananlab@gmail.com>’
Found the following \keyword or \concept entries
which likely give several index terms:
File ‘apa.Rd’:
\keyword{APA,}
\keyword{decimals,}
File ‘d.dep.t.avg.Rd’:
\keyword{average,}
\keyword{d,}
\keyword{paired-sample,}
\keyword{size,}
\keyword{t-test,}
File ‘d.dep.t.diff.Rd’:
\keyword{size,}
File ‘d.dep.t.diff.t.Rd’:
\keyword{measures,}
\keyword{sample,}
\keyword{size,}
\keyword{t-test,}
File ‘d.dep.t.rm.Rd’:
\keyword{d,}
\keyword{measures,}
\keyword{paired-sample,}
\keyword{size,}
\keyword{t-test,}
File ‘d.ind.t.Rd’:
\keyword{between-subjects,}
\keyword{deviation,}
\keyword{size,}
\keyword{t,}
File ‘d.ind.t.t.Rd’:
\keyword{size,}
File ‘d.prop.Rd’:
\keyword{proportions,}
\keyword{size,}
\keyword{test,}
File ‘d.single.t.Rd’:
\keyword{mean,}
\keyword{mu,}
\keyword{single-sample,}
\keyword{size,}
\keyword{t,}
\keyword{u,}
File ‘d.single.t.t.Rd’:
\keyword{size,}
File ‘d.to.r.Rd’:
\keyword{size,}
File ‘d.z.mean.Rd’:
\keyword{size,}
File ‘d.z.z.Rd’:
\keyword{size,}
File ‘delta.ind.t.Rd’:
\keyword{delta,}
\keyword{size,}
File ‘epsilon.full.SS.Rd’:
\keyword{epsilon,}
\keyword{size,}
File ‘eta.F.Rd’:
\keyword{eta,}
\keyword{size,}
File ‘eta.full.SS.Rd’:
\keyword{eta,}
\keyword{size,}
File ‘eta.partial.SS.Rd’:
\keyword{eta,}
\keyword{size,}
File ‘g.ind.t.Rd’:
\keyword{size,}
\keyword{t,}
File ‘ges.partial.SS.mix.Rd’:
\keyword{ges,}
\keyword{size,}
File ‘ges.partial.SS.rm.Rd’:
\keyword{ges,}
\keyword{size,}
File ‘odds.Rd’:
\keyword{size,}
File ‘omega.F.Rd’:
\keyword{omega,}
\keyword{size,}
File ‘omega.full.SS.Rd’:
\keyword{omega,}
\keyword{size,}
File ‘omega.gen.SS.rm.Rd’:
\keyword{omega,}
\keyword{size,}
File ‘omega.partial.SS.bn.Rd’:
\keyword{omega,}
\keyword{size,}
File ‘omega.partial.SS.rm.Rd’:
\keyword{omega,}
\keyword{size,}
File ‘r.correl.Rd’:
\keyword{size,}
File ‘v.chi.sq.Rd’:
\keyword{size,}
- checking package namespace information ... OK
- checking package dependencies ... OK
- checking if this is a source package ... OK
- checking if there is a namespace ... OK
- checking for executable files ... OK
- checking for hidden files and directories ... OK
- checking for portable file names ... OK
- checking for sufficient/correct file permissions ... OK
- checking serialization versions ... OK
- checking whether package ‘MOTE’ can be installed ... OK
See the install log for details.
- checking package directory ... OK
- checking for future file timestamps ... OK
- checking DESCRIPTION meta-information ... OK
- checking top-level files ... OK
- checking for left-over files ... OK
- checking index information ... OK
- checking package subdirectories ... OK
- checking code files for non-ASCII characters ... OK
- checking R files for syntax errors ... OK
- checking whether the package can be loaded ... [2s/3s] OK
- checking whether the package can be loaded with stated dependencies ... [2s/2s] OK
- checking whether the package can be unloaded cleanly ... [2s/3s] OK
- checking whether the namespace can be loaded with stated dependencies ... [2s/2s] OK
- checking whether the namespace can be unloaded cleanly ... [2s/3s] OK
- checking loading without being on the library search path ... [2s/3s] OK
- checking use of S3 registration ... OK
- checking dependencies in R code ... OK
- checking S3 generic/method consistency ... OK
- checking replacement functions ... OK
- checking foreign function calls ... OK
- checking R code for possible problems ... [13s/16s] OK
- checking Rd files ... [0s/1s] OK
- checking Rd metadata ... OK
- checking Rd line widths ... OK
- checking Rd cross-references ... OK
- checking for missing documentation entries ... OK
- checking for code/documentation mismatches ... OK
- checking Rd \usage sections ... OK
- checking Rd contents ... OK
- checking for unstated dependencies in examples ... OK
- checking contents of ‘data’ directory ... OK
- checking data for non-ASCII characters ... [0s/0s] OK
- checking LazyData ... OK
- checking data for ASCII and uncompressed saves ... OK
- checking examples ... [5s/6s] OK
- checking PDF version of manual ... [5s/6s] OK
- checking HTML version of manual ... [1s/2s] OK
- checking for non-standard things in the check directory ... OK
- DONE
Status: 1 NOTE