- using R Under development (unstable) (2025-10-19 r88945)
- using platform: x86_64-pc-linux-gnu
- R was compiled by
gcc-15 (Debian 15.2.0-4) 15.2.0
GNU Fortran (Debian 15.2.0-4) 15.2.0
- running under: Debian GNU/Linux forky/sid
- using session charset: UTF-8
- checking for file ‘LongDat/DESCRIPTION’ ... OK
- checking extension type ... Package
- this is package ‘LongDat’ version ‘1.1.3’
- package encoding: UTF-8
- checking CRAN incoming feasibility ... [1s/1s] OK
- checking package namespace information ... OK
- checking package dependencies ... OK
- checking if this is a source package ... OK
- checking if there is a namespace ... OK
- checking for executable files ... OK
- checking for hidden files and directories ... OK
- checking for portable file names ... OK
- checking for sufficient/correct file permissions ... OK
- checking whether package ‘LongDat’ can be installed ... OK
See the install log for details.
- checking package directory ... OK
- checking for future file timestamps ... OK
- checking ‘build’ directory ... OK
- checking DESCRIPTION meta-information ... OK
- checking top-level files ... OK
- checking for left-over files ... OK
- checking index information ... OK
- checking package subdirectories ... OK
- checking code files for non-ASCII characters ... OK
- checking R files for syntax errors ... OK
- checking whether the package can be loaded ... [4s/5s] OK
- checking whether the package can be loaded with stated dependencies ... [3s/4s] OK
- checking whether the package can be unloaded cleanly ... [4s/5s] OK
- checking whether the namespace can be loaded with stated dependencies ... [3s/4s] OK
- checking whether the namespace can be unloaded cleanly ... [4s/5s] OK
- checking loading without being on the library search path ... [4s/5s] OK
- checking use of S3 registration ... OK
- checking dependencies in R code ... OK
- checking S3 generic/method consistency ... OK
- checking replacement functions ... OK
- checking foreign function calls ... OK
- checking R code for possible problems ... [21s/26s] OK
- checking Rd files ... [0s/0s] OK
- checking Rd metadata ... OK
- checking Rd line widths ... OK
- checking Rd cross-references ... OK
- checking for missing documentation entries ... OK
- checking for code/documentation mismatches ... OK
- checking Rd \usage sections ... OK
- checking Rd contents ... OK
- checking for unstated dependencies in examples ... OK
- checking contents of ‘data’ directory ... OK
- checking data for non-ASCII characters ... [0s/0s] OK
- checking LazyData ... OK
- checking data for ASCII and uncompressed saves ... OK
- checking installed files from ‘inst/doc’ ... OK
- checking files in ‘vignettes’ ... OK
- checking examples ... [8s/11s] OK
- checking for unstated dependencies in vignettes ... OK
- checking package vignettes ... OK
- checking re-building of vignette outputs ... [33s/44s] OK
- checking PDF version of manual ... [5s/8s] OK
- checking HTML version of manual ... [1s/2s] NOTE
Found the following HTML validation problems:
ConModelTest_cont.html:64:1 (ConModelTest_cont.Rd:19): Warning: missing </ul> before </div>
ConModelTest_disc.html:64:1 (ConModelTest_disc.Rd:19): Warning: missing </ul> before </div>
NuModelTest_cont.html:60:1 (NuModelTest_cont.Rd:17): Warning: missing </ul> before </div>
NuModelTest_disc.html:60:1 (NuModelTest_disc.Rd:17): Warning: missing </ul> before </div>
cliff_cal.html:60:1 (cliff_cal.Rd:17): Warning: missing </ul> before </div>
correlation_posthoc.html:62:1 (correlation_posthoc.Rd:18): Warning: missing </ul> before </div>
data_preprocess.html:62:1 (data_preprocess.Rd:18): Warning: missing </ul> before </div>
factor_p_cal.html:70:1 (factor_p_cal.Rd:22): Warning: missing </ul> before </div>
final_result_summarize_cont.html:133:1 (final_result_summarize_cont.Rd:63): Warning: missing </ul> before </div>
final_result_summarize_disc.html:148:1 (final_result_summarize_disc.Rd:72): Warning: missing </ul> before </div>
fix_name_fun.html:47:1 (fix_name_fun.Rd:11): Warning: missing </ul> before </div>
random_neg_ctrl_cont.html:100:1 (random_neg_ctrl_cont.Rd:37): Warning: missing </ul> before </div>
random_neg_ctrl_disc.html:104:1 (random_neg_ctrl_disc.Rd:39): Warning: missing </ul> before </div>
rm_sparse_cont.html:82:1 (rm_sparse_cont.Rd:28): Warning: missing </ul> before </div>
rm_sparse_disc.html:82:1 (rm_sparse_disc.Rd:28): Warning: missing </ul> before </div>
unlist_table.html:56:1 (unlist_table.Rd:15): Warning: missing </ul> before </div>
wilcox_posthoc.html:83:1 (wilcox_posthoc.Rd:33): Warning: missing </ul> before </div>
- checking for non-standard things in the check directory ... OK
- DONE
Status: 1 NOTE