- using R Under development (unstable) (2022-08-08 r82695)
- using platform: x86_64-pc-linux-gnu (64-bit)
- using session charset: UTF-8
- checking for file ‘Hmisc/DESCRIPTION’ ... OK
- this is package ‘Hmisc’ version ‘4.7-0’
- package encoding: UTF-8
- checking package namespace information ... OK
- checking package dependencies ... OK
- checking if this is a source package ... OK
- checking if there is a namespace ... OK
- checking for executable files ... OK
- checking for hidden files and directories ... OK
- checking for portable file names ... OK
- checking for sufficient/correct file permissions ... OK
- checking serialization versions ... OK
- checking whether package ‘Hmisc’ can be installed ... OK
- checking package directory ... OK
- checking for future file timestamps ... OK
- checking DESCRIPTION meta-information ... OK
- checking top-level files ... OK
- checking for left-over files ... OK
- checking index information ... OK
- checking package subdirectories ... OK
- checking R files for non-ASCII characters ... OK
- checking R files for syntax errors ... OK
- checking whether the package can be loaded ... OK
- checking whether the package can be loaded with stated dependencies ... OK
- checking whether the package can be unloaded cleanly ... OK
- checking whether the namespace can be loaded with stated dependencies ... OK
- checking whether the namespace can be unloaded cleanly ... OK
- checking loading without being on the library search path ... OK
- checking use of S3 registration ... OK
- checking dependencies in R code ... OK
- checking S3 generic/method consistency ... OK
- checking replacement functions ... OK
- checking foreign function calls ... OK
- checking R code for possible problems ... [123s/192s] OK
- checking Rd files ... [3s/5s] OK
- checking Rd metadata ... OK
- checking Rd line widths ... OK
- checking Rd cross-references ... OK
- checking for missing documentation entries ... OK
- checking for code/documentation mismatches ... OK
- checking Rd \usage sections ... OK
- checking Rd contents ... OK
- checking for unstated dependencies in examples ... OK
- checking line endings in C/C++/Fortran sources/headers ... OK
- checking pragmas in C/C++ headers and code ... OK
- checking compilation flags used ... OK
- checking compiled code ... OK
- checking examples ... [46s/72s] OK
Examples with CPU (user + system) or elapsed time > 5s
user system elapsed
dotchart3 6.964 0.810 12.792
summaryS 4.366 0.046 6.335
xYplot 3.967 0.226 6.282
- checking PDF version of manual ... OK
- checking HTML version of manual ... NOTE
Found the following math rendering problems:
rcorr.cens.Rd:14: Undefined control sequence: \var in \var{Dxy}=2(\var{c}...
rcspline.plot.Rd:44: Undefined control sequence: \var in 1 - \var{f}
rcspline.plot.Rd:45: Undefined control sequence: \var in \var{f} = \frac{10}...
rcspline.restate.Rd:32: Undefined control sequence: \var in \var{k}-1
rm.boot.Rd:122: Undefined control sequence: \var in \var{k} - 1
rm.boot.Rd:345: Undefined control sequence: \var in \var{m} > \var{n}
rm.boot.Rd:347: Undefined control sequence: \var in \var{m} < \var{n}
rm.boot.Rd:348-349: Undefined control sequence: \var in \var{n} -
\var{m}
scat1d.Rd:19: Undefined control sequence: \var in \code{eps}*\var{w}
scat1d.Rd:22-23: Undefined control sequence: \var in ...\code{jitfrac}*\var{w},
\code{ji...
scat1d.Rd:178: Undefined control sequence: \var in \max{(.1, 125/\var{n})}
scat1d.Rd:230-231: Undefined control sequence: \var in ...de{fill}*\min{(\var{u}-\var{d},\va...
scat1d.Rd:236-237: Undefined control sequence: \var in ...de{fill}*\min{(\var{u}-\var{d},\va...
scat1d.Rd:239: Undefined control sequence: \var in \min{(\var{u}-\var{d},\va...
scat1d.Rd:283: Undefined control sequence: \var in \var{l}<\var{d}<\va...
transace.Rd:87: Undefined control sequence: \var in \var{ginverse}(\var...
transace.Rd:101-102: Undefined control sequence: \var in \var{ginverse}(\var...
transace.Rd:250: Undefined control sequence: \var in \var{ginverse}(\var...
transcan.Rd:272: Undefined control sequence: \var in \var{n} < 30
transcan.Rd:273: Undefined control sequence: \var in 30 <= \var{n} < 100
transcan.Rd:274: Undefined control sequence: \var in \var{n} \ge 100
transcan.Rd:770-771: Undefined control sequence: \var in ...rac{1-\frac{(1-\var{R2})(\var{n}-1...
transcan.Rd:783: Undefined control sequence: \var in + \var{m}
transcan.Rd:788-789: Undefined control sequence: \var in 1-\frac{(1-\var{R2})(\var{n}-1...
transcan.Rd:797: Undefined control sequence: \var in \sqrt{\var{n}-1}
- checking for non-standard things in the check directory ... OK
- DONE
Status: 1 NOTE