- using R Under development (unstable) (2025-10-28 r88973)
- using platform: x86_64-pc-linux-gnu
- R was compiled by
gcc-15 (Debian 15.2.0-4) 15.2.0
GNU Fortran (Debian 15.2.0-4) 15.2.0
- running under: Debian GNU/Linux forky/sid
- using session charset: UTF-8
- checking for file ‘DescTools/DESCRIPTION’ ... OK
- checking extension type ... Package
- this is package ‘DescTools’ version ‘0.99.60’
- package encoding: UTF-8
- checking CRAN incoming feasibility ... [4s/5s] OK
- checking package namespace information ... OK
- checking package dependencies ... INFO
Package suggested but not available for checking: ‘RDCOMClient’
- checking if this is a source package ... OK
- checking if there is a namespace ... OK
- checking for executable files ... OK
- checking for hidden files and directories ... OK
- checking for portable file names ... OK
- checking for sufficient/correct file permissions ... OK
- checking whether package ‘DescTools’ can be installed ... OK
See the install log for details.
- used C compiler: ‘gcc-15 (Debian 15.2.0-4) 15.2.0’
- used Fortran compiler: ‘GNU Fortran (Debian 15.2.0-4) 15.2.0’
- used C++ compiler: ‘g++-15 (Debian 15.2.0-4) 15.2.0’
- checking C++ specification ... OK
- checking package directory ... OK
- checking for future file timestamps ... OK
- checking ‘build’ directory ... OK
- checking DESCRIPTION meta-information ... OK
- checking top-level files ... OK
- checking for left-over files ... OK
- checking index information ... OK
- checking package subdirectories ... OK
- checking code files for non-ASCII characters ... OK
- checking R files for syntax errors ... OK
- checking whether the package can be loaded ... [2s/2s] OK
- checking whether the package can be loaded with stated dependencies ... [2s/3s] OK
- checking whether the package can be unloaded cleanly ... [2s/2s] OK
- checking whether the namespace can be loaded with stated dependencies ... [2s/2s] OK
- checking whether the namespace can be unloaded cleanly ... [2s/3s] OK
- checking loading without being on the library search path ... [2s/3s] OK
- checking whether startup messages can be suppressed ... [2s/2s] OK
- checking use of S3 registration ... OK
- checking dependencies in R code ... OK
- checking S3 generic/method consistency ... OK
- checking replacement functions ... OK
- checking foreign function calls ... OK
- checking R code for possible problems ... [69s/82s] OK
- checking Rd files ... [3s/3s] NOTE
checkRd: (-1) ConvUnit.Rd:46-108: Only 3 columns allowed in this table (row 1 has 1)
checkRd: (-1) ConvUnit.Rd:46-108: Only 3 columns allowed in this table (row 2 has 1)
checkRd: (-1) ConvUnit.Rd:46-108: Only 3 columns allowed in this table (row 5 has 2)
checkRd: (-1) ConvUnit.Rd:46-108: Only 3 columns allowed in this table (row 6 has 2)
checkRd: (-1) ConvUnit.Rd:46-108: Only 3 columns allowed in this table (row 7 has 2)
checkRd: (-1) ConvUnit.Rd:46-108: Only 3 columns allowed in this table (row 8 has 1)
checkRd: (-1) ConvUnit.Rd:46-108: Only 3 columns allowed in this table (row 9 has 2)
checkRd: (-1) ConvUnit.Rd:46-108: Only 3 columns allowed in this table (row 11 has 2)
checkRd: (-1) ConvUnit.Rd:46-108: Only 3 columns allowed in this table (row 12 has 2)
checkRd: (-1) ConvUnit.Rd:46-108: Only 3 columns allowed in this table (row 13 has 2)
checkRd: (-1) ConvUnit.Rd:46-108: Only 3 columns allowed in this table (row 14 has 2)
checkRd: (-1) ConvUnit.Rd:46-108: Only 3 columns allowed in this table (row 15 has 2)
checkRd: (-1) ConvUnit.Rd:46-108: Only 3 columns allowed in this table (row 18 has 2)
checkRd: (-1) ConvUnit.Rd:46-108: Only 3 columns allowed in this table (row 19 has 1)
checkRd: (-1) ConvUnit.Rd:46-108: Only 3 columns allowed in this table (row 20 has 2)
checkRd: (-1) ConvUnit.Rd:46-108: Only 3 columns allowed in this table (row 21 has 2)
checkRd: (-1) ConvUnit.Rd:46-108: Only 3 columns allowed in this table (row 22 has 2)
checkRd: (-1) ConvUnit.Rd:46-108: Only 3 columns allowed in this table (row 23 has 2)
checkRd: (-1) ConvUnit.Rd:46-108: Only 3 columns allowed in this table (row 24 has 2)
checkRd: (-1) ConvUnit.Rd:46-108: Only 3 columns allowed in this table (row 25 has 2)
checkRd: (-1) ConvUnit.Rd:46-108: Only 3 columns allowed in this table (row 26 has 1)
checkRd: (-1) ConvUnit.Rd:46-108: Only 3 columns allowed in this table (row 27 has 2)
checkRd: (-1) ConvUnit.Rd:46-108: Only 3 columns allowed in this table (row 28 has 2)
checkRd: (-1) ConvUnit.Rd:46-108: Only 3 columns allowed in this table (row 29 has 2)
checkRd: (-1) ConvUnit.Rd:46-108: Only 3 columns allowed in this table (row 30 has 2)
checkRd: (-1) ConvUnit.Rd:46-108: Only 3 columns allowed in this table (row 31 has 2)
checkRd: (-1) ConvUnit.Rd:46-108: Only 3 columns allowed in this table (row 32 has 2)
checkRd: (-1) ConvUnit.Rd:46-108: Only 3 columns allowed in this table (row 33 has 2)
checkRd: (-1) ConvUnit.Rd:46-108: Only 3 columns allowed in this table (row 34 has 1)
checkRd: (-1) ConvUnit.Rd:46-108: Only 3 columns allowed in this table (row 35 has 2)
checkRd: (-1) ConvUnit.Rd:46-108: Only 3 columns allowed in this table (row 39 has 2)
checkRd: (-1) ConvUnit.Rd:46-108: Only 3 columns allowed in this table (row 40 has 1)
checkRd: (-1) ConvUnit.Rd:46-108: Only 3 columns allowed in this table (row 41 has 2)
checkRd: (-1) ConvUnit.Rd:46-108: Only 3 columns allowed in this table (row 42 has 2)
checkRd: (-1) ConvUnit.Rd:46-108: Only 3 columns allowed in this table (row 43 has 2)
checkRd: (-1) ConvUnit.Rd:46-108: Only 3 columns allowed in this table (row 45 has 2)
checkRd: (-1) ConvUnit.Rd:46-108: Only 3 columns allowed in this table (row 46 has 1)
checkRd: (-1) ConvUnit.Rd:46-108: Only 3 columns allowed in this table (row 47 has 2)
checkRd: (-1) ConvUnit.Rd:46-108: Only 3 columns allowed in this table (row 48 has 2)
checkRd: (-1) ConvUnit.Rd:46-108: Only 3 columns allowed in this table (row 49 has 2)
checkRd: (-1) ConvUnit.Rd:46-108: Only 3 columns allowed in this table (row 51 has 1)
checkRd: (-1) ConvUnit.Rd:46-108: Only 3 columns allowed in this table (row 52 has 2)
checkRd: (-1) ConvUnit.Rd:46-108: Only 3 columns allowed in this table (row 53 has 2)
checkRd: (-1) ConvUnit.Rd:46-108: Only 3 columns allowed in this table (row 54 has 2)
checkRd: (-1) DescTools-package.Rd:23-444: Only 2 columns allowed in this table (row 1 has 1)
checkRd: (-1) DescTools-package.Rd:23-444: Only 2 columns allowed in this table (row 2 has 1)
checkRd: (-1) DescTools-package.Rd:23-444: Only 2 columns allowed in this table (row 51 has 1)
checkRd: (-1) DescTools-package.Rd:23-444: Only 2 columns allowed in this table (row 52 has 1)
checkRd: (-1) DescTools-package.Rd:23-444: Only 2 columns allowed in this table (row 90 has 1)
checkRd: (-1) DescTools-package.Rd:23-444: Only 2 columns allowed in this table (row 91 has 1)
checkRd: (-1) DescTools-package.Rd:23-444: Only 2 columns allowed in this table (row 110 has 1)
checkRd: (-1) DescTools-package.Rd:23-444: Only 2 columns allowed in this table (row 111 has 1)
checkRd: (-1) DescTools-package.Rd:23-444: Only 2 columns allowed in this table (row 128 has 1)
checkRd: (-1) DescTools-package.Rd:23-444: Only 2 columns allowed in this table (row 129 has 1)
checkRd: (-1) DescTools-package.Rd:23-444: Only 2 columns allowed in this table (row 137 has 1)
checkRd: (-1) DescTools-package.Rd:23-444: Only 2 columns allowed in this table (row 138 has 1)
checkRd: (-1) DescTools-package.Rd:23-444: Only 2 columns allowed in this table (row 167 has 1)
checkRd: (-1) DescTools-package.Rd:23-444: Only 2 columns allowed in this table (row 168 has 1)
checkRd: (-1) DescTools-package.Rd:23-444: Only 2 columns allowed in this table (row 201 has 1)
checkRd: (-1) DescTools-package.Rd:23-444: Only 2 columns allowed in this table (row 202 has 1)
checkRd: (-1) DescTools-package.Rd:23-444: Only 2 columns allowed in this table (row 216 has 1)
checkRd: (-1) DescTools-package.Rd:23-444: Only 2 columns allowed in this table (row 217 has 1)
checkRd: (-1) DescTools-package.Rd:23-444: Only 2 columns allowed in this table (row 298 has 1)
checkRd: (-1) DescTools-package.Rd:23-444: Only 2 columns allowed in this table (row 299 has 1)
checkRd: (-1) DescTools-package.Rd:23-444: Only 2 columns allowed in this table (row 340 has 1)
checkRd: (-1) DescTools-package.Rd:23-444: Only 2 columns allowed in this table (row 341 has 1)
checkRd: (-1) DescTools-package.Rd:23-444: Only 2 columns allowed in this table (row 361 has 1)
checkRd: (-1) DescTools-package.Rd:23-444: Only 2 columns allowed in this table (row 362 has 1)
checkRd: (-1) DescTools-package.Rd:23-444: Only 2 columns allowed in this table (row 370 has 1)
checkRd: (-1) DescTools-package.Rd:23-444: Only 2 columns allowed in this table (row 371 has 1)
checkRd: (-1) DescTools-package.Rd:23-444: Only 2 columns allowed in this table (row 374 has 1)
checkRd: (-1) DescTools-package.Rd:23-444: Only 2 columns allowed in this table (row 375 has 1)
checkRd: (-1) DescTools-package.Rd:23-444: Only 2 columns allowed in this table (row 411 has 1)
checkRd: (-1) DescTools-package.Rd:23-444: Only 2 columns allowed in this table (row 412 has 1)
checkRd: (-1) DescTools-package.Rd:23-444: Only 2 columns allowed in this table (row 424 has 1)
checkRd: (-1) DescTools-package.Rd:23-444: Only 2 columns allowed in this table (row 425 has 1)
checkRd: (-1) DescTools-package.Rd:23-444: Only 2 columns allowed in this table (row 429 has 1)
checkRd: (-1) DescTools-package.Rd:23-444: Only 2 columns allowed in this table (row 430 has 1)
checkRd: (-1) Format.Rd:98-112: Only 2 columns allowed in this table (row 13 has 1)
checkRd: (-1) Format.Rd:118-144: Only 3 columns allowed in this table (row 4 has 2)
checkRd: (-1) Format.Rd:118-144: Only 3 columns allowed in this table (row 9 has 2)
checkRd: (-1) Format.Rd:118-144: Only 3 columns allowed in this table (row 12 has 2)
checkRd: (-1) Format.Rd:118-144: Only 3 columns allowed in this table (row 15 has 2)
- checking Rd metadata ... OK
- checking Rd line widths ... OK
- checking Rd cross-references ... OK
- checking for missing documentation entries ... OK
- checking for code/documentation mismatches ... OK
- checking Rd \usage sections ... OK
- checking Rd contents ... OK
- checking for unstated dependencies in examples ... OK
- checking contents of ‘data’ directory ... OK
- checking data for non-ASCII characters ... [0s/0s] OK
- checking LazyData ... OK
- checking data for ASCII and uncompressed saves ... OK
- checking line endings in C/C++/Fortran sources/headers ... OK
- checking pragmas in C/C++ headers and code ... OK
- checking compilation flags used ... OK
- checking compiled code ... OK
- checking usage of KIND in Fortran files ... OK
- checking sizes of PDF files under ‘inst/doc’ ... OK
- checking installed files from ‘inst/doc’ ... OK
- checking files in ‘vignettes’ ... OK
- checking examples ... [31s/41s] OK
- checking for unstated dependencies in ‘demo’ ... OK
- checking for unstated dependencies in ‘tests’ ... OK
- checking tests ... [3s/5s] OK
Running ‘TestsPseudoR2.R’ [0s/0s]
Running ‘misc.R’ [2s/4s]
- checking for unstated dependencies in vignettes ... OK
- checking package vignettes ... OK
- checking re-building of vignette outputs ... [1s/2s] OK
- checking PDF version of manual ... [37s/47s] OK
- checking HTML version of manual ... [17s/28s] OK
- checking for non-standard things in the check directory ... OK
- DONE
Status: 1 NOTE