- using R Under development (unstable) (2025-10-28 r88973)
- using platform: x86_64-pc-linux-gnu
- R was compiled by
gcc-15 (Debian 15.2.0-4) 15.2.0
GNU Fortran (Debian 15.2.0-4) 15.2.0
- running under: Debian GNU/Linux forky/sid
- using session charset: UTF-8
- checking for file ‘CoopGame/DESCRIPTION’ ... OK
- checking extension type ... Package
- this is package ‘CoopGame’ version ‘0.2.2’
- package encoding: UTF-8
- checking CRAN incoming feasibility ... [1s/2s] NOTE
Maintainer: ‘Jochen Staudacher <jochen.staudacher@hs-kempten.de>’
Package CITATION file contains call(s) to old-style personList() or
as.personList(). Please use c() on person objects instead.
Package CITATION file contains call(s) to old-style citEntry(). Please
use bibentry() instead.
- checking package namespace information ... OK
- checking package dependencies ... OK
- checking if this is a source package ... OK
- checking if there is a namespace ... OK
- checking for executable files ... OK
- checking for hidden files and directories ... OK
- checking for portable file names ... OK
- checking for sufficient/correct file permissions ... OK
- checking serialization versions ... OK
- checking whether package ‘CoopGame’ can be installed ... OK
See the install log for details.
- checking package directory ... OK
- checking for future file timestamps ... OK
- checking ‘build’ directory ... OK
- checking DESCRIPTION meta-information ... OK
- checking top-level files ... OK
- checking for left-over files ... OK
- checking index information ... OK
- checking package subdirectories ... OK
- checking code files for non-ASCII characters ... OK
- checking R files for syntax errors ... OK
- checking whether the package can be loaded ... [0s/1s] OK
- checking whether the package can be loaded with stated dependencies ... [0s/1s] OK
- checking whether the package can be unloaded cleanly ... [0s/1s] OK
- checking whether the namespace can be loaded with stated dependencies ... [0s/1s] OK
- checking whether the namespace can be unloaded cleanly ... [0s/1s] OK
- checking loading without being on the library search path ... [0s/1s] OK
- checking use of S3 registration ... OK
- checking dependencies in R code ... OK
- checking S3 generic/method consistency ... OK
- checking replacement functions ... OK
- checking foreign function calls ... OK
- checking R code for possible problems ... [10s/16s] OK
- checking Rd files ... [1s/2s] NOTE
checkRd: (-1) stopOnInconsistentEstateAndClaimsVector.Rd:26-28: Only 3 columns allowed in this table (row 1 has 2)
checkRd: (-1) stopOnInconsistentEstateAndClaimsVector.Rd:26-28: Only 3 columns allowed in this table (row 2 has 2)
checkRd: (-1) stopOnInvalidAllocation.Rd:29-34: Only 3 columns allowed in this table (row 1 has 2)
checkRd: (-1) stopOnInvalidAllocation.Rd:29-34: Only 3 columns allowed in this table (row 2 has 2)
checkRd: (-1) stopOnInvalidAllocation.Rd:29-34: Only 3 columns allowed in this table (row 3 has 2)
checkRd: (-1) stopOnInvalidAllocation.Rd:29-34: Only 3 columns allowed in this table (row 4 has 2)
checkRd: (-1) stopOnInvalidAllocation.Rd:29-34: Only 3 columns allowed in this table (row 5 has 2)
checkRd: (-1) stopOnInvalidBoolean.Rd:21-24: Only 3 columns allowed in this table (row 1 has 2)
checkRd: (-1) stopOnInvalidBoolean.Rd:21-24: Only 3 columns allowed in this table (row 2 has 2)
checkRd: (-1) stopOnInvalidBoolean.Rd:21-24: Only 3 columns allowed in this table (row 3 has 2)
checkRd: (-1) stopOnInvalidClaimsVector.Rd:26-29: Only 3 columns allowed in this table (row 1 has 2)
checkRd: (-1) stopOnInvalidClaimsVector.Rd:26-29: Only 3 columns allowed in this table (row 2 has 2)
checkRd: (-1) stopOnInvalidClaimsVector.Rd:26-29: Only 3 columns allowed in this table (row 3 has 2)
checkRd: (-1) stopOnInvalidCoalitionS.Rd:29-35: Only 3 columns allowed in this table (row 1 has 2)
checkRd: (-1) stopOnInvalidCoalitionS.Rd:29-35: Only 3 columns allowed in this table (row 2 has 2)
checkRd: (-1) stopOnInvalidCoalitionS.Rd:29-35: Only 3 columns allowed in this table (row 3 has 2)
checkRd: (-1) stopOnInvalidCoalitionS.Rd:29-35: Only 3 columns allowed in this table (row 4 has 2)
checkRd: (-1) stopOnInvalidCoalitionS.Rd:29-35: Only 3 columns allowed in this table (row 5 has 2)
checkRd: (-1) stopOnInvalidCoalitionS.Rd:29-35: Only 3 columns allowed in this table (row 6 has 2)
checkRd: (-1) stopOnInvalidDictator.Rd:26-31: Only 3 columns allowed in this table (row 1 has 2)
checkRd: (-1) stopOnInvalidDictator.Rd:26-31: Only 3 columns allowed in this table (row 2 has 2)
checkRd: (-1) stopOnInvalidDictator.Rd:26-31: Only 3 columns allowed in this table (row 3 has 2)
checkRd: (-1) stopOnInvalidDictator.Rd:26-31: Only 3 columns allowed in this table (row 4 has 2)
checkRd: (-1) stopOnInvalidDictator.Rd:26-31: Only 3 columns allowed in this table (row 5 has 2)
checkRd: (-1) stopOnInvalidEstate.Rd:24-28: Only 3 columns allowed in this table (row 1 has 2)
checkRd: (-1) stopOnInvalidEstate.Rd:24-28: Only 3 columns allowed in this table (row 2 has 2)
checkRd: (-1) stopOnInvalidEstate.Rd:24-28: Only 3 columns allowed in this table (row 3 has 2)
checkRd: (-1) stopOnInvalidEstate.Rd:24-28: Only 3 columns allowed in this table (row 4 has 2)
checkRd: (-1) stopOnInvalidGameVector.Rd:27-33: Only 3 columns allowed in this table (row 1 has 2)
checkRd: (-1) stopOnInvalidGameVector.Rd:27-33: Only 3 columns allowed in this table (row 2 has 2)
checkRd: (-1) stopOnInvalidGameVector.Rd:27-33: Only 3 columns allowed in this table (row 3 has 2)
checkRd: (-1) stopOnInvalidGameVector.Rd:27-33: Only 3 columns allowed in this table (row 4 has 2)
checkRd: (-1) stopOnInvalidGameVector.Rd:27-33: Only 3 columns allowed in this table (row 5 has 2)
checkRd: (-1) stopOnInvalidGameVector.Rd:27-33: Only 3 columns allowed in this table (row 6 has 2)
checkRd: (-1) stopOnInvalidGrandCoalitionN.Rd:22-25: Only 3 columns allowed in this table (row 1 has 2)
checkRd: (-1) stopOnInvalidGrandCoalitionN.Rd:22-25: Only 3 columns allowed in this table (row 2 has 2)
checkRd: (-1) stopOnInvalidGrandCoalitionN.Rd:22-25: Only 3 columns allowed in this table (row 3 has 2)
checkRd: (-1) stopOnInvalidIndex.Rd:25-29: Only 3 columns allowed in this table (row 1 has 2)
checkRd: (-1) stopOnInvalidIndex.Rd:25-29: Only 3 columns allowed in this table (row 2 has 2)
checkRd: (-1) stopOnInvalidIndex.Rd:25-29: Only 3 columns allowed in this table (row 3 has 2)
checkRd: (-1) stopOnInvalidIndex.Rd:25-29: Only 3 columns allowed in this table (row 4 has 2)
checkRd: (-1) stopOnInvalidLeftRightGloveGame.Rd:28-33: Only 3 columns allowed in this table (row 1 has 2)
checkRd: (-1) stopOnInvalidLeftRightGloveGame.Rd:28-33: Only 3 columns allowed in this table (row 2 has 2)
checkRd: (-1) stopOnInvalidLeftRightGloveGame.Rd:28-33: Only 3 columns allowed in this table (row 3 has 2)
checkRd: (-1) stopOnInvalidLeftRightGloveGame.Rd:28-33: Only 3 columns allowed in this table (row 4 has 2)
checkRd: (-1) stopOnInvalidLeftRightGloveGame.Rd:28-33: Only 3 columns allowed in this table (row 5 has 2)
checkRd: (-1) stopOnInvalidNChooseB.Rd:24-30: Only 3 columns allowed in this table (row 1 has 2)
checkRd: (-1) stopOnInvalidNChooseB.Rd:24-30: Only 3 columns allowed in this table (row 2 has 2)
checkRd: (-1) stopOnInvalidNChooseB.Rd:24-30: Only 3 columns allowed in this table (row 3 has 2)
checkRd: (-1) stopOnInvalidNChooseB.Rd:24-30: Only 3 columns allowed in this table (row 4 has 2)
checkRd: (-1) stopOnInvalidNChooseB.Rd:24-30: Only 3 columns allowed in this table (row 5 has 2)
checkRd: (-1) stopOnInvalidNChooseB.Rd:24-30: Only 3 columns allowed in this table (row 6 has 2)
checkRd: (-1) stopOnInvalidNumber.Rd:21-24: Only 3 columns allowed in this table (row 1 has 2)
checkRd: (-1) stopOnInvalidNumber.Rd:21-24: Only 3 columns allowed in this table (row 2 has 2)
checkRd: (-1) stopOnInvalidNumber.Rd:21-24: Only 3 columns allowed in this table (row 3 has 2)
checkRd: (-1) stopOnInvalidNumberOfPlayers.Rd:22-24: Only 3 columns allowed in this table (row 1 has 2)
checkRd: (-1) stopOnInvalidNumberOfPlayers.Rd:22-24: Only 3 columns allowed in this table (row 2 has 2)
checkRd: (-1) stopOnInvalidQuota.Rd:24-28: Only 3 columns allowed in this table (row 1 has 2)
checkRd: (-1) stopOnInvalidQuota.Rd:24-28: Only 3 columns allowed in this table (row 2 has 2)
checkRd: (-1) stopOnInvalidQuota.Rd:24-28: Only 3 columns allowed in this table (row 3 has 2)
checkRd: (-1) stopOnInvalidQuota.Rd:24-28: Only 3 columns allowed in this table (row 4 has 2)
checkRd: (-1) stopOnInvalidVetoPlayer.Rd:24-27: Only 3 columns allowed in this table (row 1 has 2)
checkRd: (-1) stopOnInvalidVetoPlayer.Rd:24-27: Only 3 columns allowed in this table (row 2 has 2)
checkRd: (-1) stopOnInvalidVetoPlayer.Rd:24-27: Only 3 columns allowed in this table (row 3 has 2)
checkRd: (-1) stopOnInvalidWeightVector.Rd:26-29: Only 3 columns allowed in this table (row 1 has 2)
checkRd: (-1) stopOnInvalidWeightVector.Rd:26-29: Only 3 columns allowed in this table (row 2 has 2)
checkRd: (-1) stopOnInvalidWeightVector.Rd:26-29: Only 3 columns allowed in this table (row 3 has 2)
- checking Rd metadata ... OK
- checking Rd line widths ... OK
- checking Rd cross-references ... OK
- checking for missing documentation entries ... OK
- checking for code/documentation mismatches ... OK
- checking Rd \usage sections ... OK
- checking Rd contents ... OK
- checking for unstated dependencies in examples ... OK
- checking sizes of PDF files under ‘inst/doc’ ... OK
- checking installed files from ‘inst/doc’ ... OK
- checking files in ‘vignettes’ ... OK
- checking examples ... [1s/2s] OK
- checking for unstated dependencies in ‘tests’ ... OK
- checking tests ... [17s/24s] OK
Running ‘testthat.R’ [17s/24s]
- checking for unstated dependencies in vignettes ... OK
- checking package vignettes ... OK
- checking re-building of vignette outputs ... [11s/16s] OK
- checking PDF version of manual ... [11s/16s] OK
- checking HTML version of manual ... [4s/8s] OK
- checking for non-standard things in the check directory ... OK
- DONE
Status: 2 NOTEs