- using R Under development (unstable) (2025-06-30 r88369)
- using platform: x86_64-pc-linux-gnu
- R was compiled by
gcc-14 (Debian 14.2.0-19) 14.2.0
GNU Fortran (Debian 14.2.0-19) 14.2.0
- running under: Debian GNU/Linux 13 (trixie)
- using session charset: UTF-8
- checking for file ‘Boom/DESCRIPTION’ ... OK
- this is package ‘Boom’ version ‘0.9.15’
- package encoding: UTF-8
- checking CRAN incoming feasibility ... [1s/1s] NOTE
Maintainer: ‘Steven L. Scott <steve.the.bayesian@gmail.com>’
No Authors@R field in DESCRIPTION.
Please add one, modifying
Authors@R: c(person(given = c("Steven", "L.", "Scott", "is", "the", "sole"),
family = "author",
role = "aut"),
person(given = c("creator", "of", "the", "BOOM", "project.", "Some", "code", "in", "the", "BOOM", "libraries", "has", "been", "modified", "from", "other", "open", "source", "projects.", "These", "include"),
family = "Cephes",
role = "aut",
comment = "obtained from Netlib, written by Stephen\n L. Moshier"),
person(family = "NEWUOA",
role = "aut",
comment = "M.J.D Powell, obtained from Powell's web site"),
person(given = c("a", "modified", "version", "of", "the", "R", "math", "libraries.", "Original", "copyright", "notices", "have", "been", "maintained", "in", "all", "source", "files.", "In", "these"),
family = "cases",
role = "aut",
comment = "R core development team"),
person(given = c("copyright", "claimed", "by", "Steven", "L.", "Scott", "is", "limited", "to", "modifications", "made", "to", "the", "original", "code.", "Google", "claims", "copyright", "for", "code", "written", "while", "Steven", "L.", "Scott", "was", "employed", "at", "Google", "from", "2008", "-"),
family = "2018",
role = "aut"),
person(given = c("but", "BOOM", "is", "not", "an", "officially", "supported", "Google"),
family = "project.",
role = "aut"),
person(given = c("Steven", "L."),
family = "Scott",
role = "cre",
email = "steve.the.bayesian@gmail.com"))
as necessary.
- checking package namespace information ... OK
- checking package dependencies ... OK
- checking if this is a source package ... OK
- checking if there is a namespace ... OK
- checking for executable files ... OK
- checking for hidden files and directories ... OK
- checking for portable file names ... OK
- checking for sufficient/correct file permissions ... OK
- checking whether package ‘Boom’ can be installed ... OK
See the install log for details.
- used C++ compiler: ‘g++-14 (Debian 14.2.0-19) 14.2.0’
- checking C++ specification ... OK
- checking package directory ... OK
- checking for future file timestamps ... OK
- checking DESCRIPTION meta-information ... OK
- checking top-level files ... OK
- checking for left-over files ... OK
- checking index information ... OK
- checking package subdirectories ... OK
- checking code files for non-ASCII characters ... OK
- checking R files for syntax errors ... OK
- checking whether the package can be loaded ... [0s/0s] OK
- checking whether the package can be loaded with stated dependencies ... [0s/0s] OK
- checking whether the package can be unloaded cleanly ... [0s/0s] OK
- checking whether the namespace can be loaded with stated dependencies ... [0s/0s] OK
- checking whether the namespace can be unloaded cleanly ... [0s/0s] OK
- checking loading without being on the library search path ... [0s/0s] OK
- checking use of S3 registration ... OK
- checking dependencies in R code ... OK
- checking S3 generic/method consistency ... OK
- checking replacement functions ... OK
- checking foreign function calls ... OK
- checking R code for possible problems ... [6s/10s] OK
- checking Rd files ... [1s/1s] OK
- checking Rd metadata ... OK
- checking Rd line widths ... OK
- checking Rd cross-references ... OK
- checking for missing documentation entries ... OK
- checking for code/documentation mismatches ... OK
- checking Rd \usage sections ... OK
- checking Rd contents ... OK
- checking for unstated dependencies in examples ... OK
- checking line endings in C/C++/Fortran sources/headers ... OK
- checking line endings in Makefiles ... OK
- checking compilation flags in Makevars ... OK
- checking for GNU extensions in Makefiles ... INFO
GNU make is a SystemRequirements.
- checking for portable use of $(BLAS_LIBS) and $(LAPACK_LIBS) ... OK
- checking use of PKG_*FLAGS in Makefiles ... OK
- checking use of SHLIB_OPENMP_*FLAGS in Makefiles ... OK
- checking pragmas in C/C++ headers and code ... OK
- checking compilation flags used ... OK
- checking compiled code ... OK
- checking examples ... [2s/3s] OK
- checking PDF version of manual ... [5s/8s] OK
- checking HTML version of manual ... [2s/4s] OK
- checking for non-standard things in the check directory ... OK
- DONE
Status: 1 NOTE