- using R Under development (unstable) (2022-05-24 r82398)
- using platform: x86_64-pc-linux-gnu (64-bit)
- using session charset: UTF-8
- checking for file ‘BCEA/DESCRIPTION’ ... OK
- checking extension type ... Package
- this is package ‘BCEA’ version ‘2.4.1’
- package encoding: UTF-8
- checking package namespace information ... OK
- checking package dependencies ... NOTE
Package suggested but not available for checking: ‘INLA’
- checking if this is a source package ... OK
- checking if there is a namespace ... OK
- checking for executable files ... OK
- checking for hidden files and directories ... OK
- checking for portable file names ... OK
- checking for sufficient/correct file permissions ... OK
- checking whether package ‘BCEA’ can be installed ... OK
- checking package directory ... OK
- checking for future file timestamps ... OK
- checking DESCRIPTION meta-information ... OK
- checking top-level files ... OK
- checking for left-over files ... OK
- checking index information ... OK
- checking package subdirectories ... OK
- checking R files for non-ASCII characters ... OK
- checking R files for syntax errors ... OK
- checking whether the package can be loaded ... OK
- checking whether the package can be loaded with stated dependencies ... OK
- checking whether the package can be unloaded cleanly ... OK
- checking whether the namespace can be loaded with stated dependencies ... OK
- checking whether the namespace can be unloaded cleanly ... OK
- checking loading without being on the library search path ... OK
- checking use of S3 registration ... OK
- checking dependencies in R code ... OK
- checking S3 generic/method consistency ... OK
- checking replacement functions ... OK
- checking foreign function calls ... OK
- checking R code for possible problems ... [31s/50s] OK
- checking Rd files ... [1s/2s] OK
- checking Rd metadata ... OK
- checking Rd line widths ... OK
- checking Rd cross-references ... OK
- checking for missing documentation entries ... OK
- checking for code/documentation mismatches ... OK
- checking Rd \usage sections ... OK
- checking Rd contents ... OK
- checking for unstated dependencies in examples ... OK
- checking contents of ‘data’ directory ... OK
- checking data for non-ASCII characters ... OK
- checking data for ASCII and uncompressed saves ... OK
- checking examples ... [61s/108s] OK
Examples with CPU (user + system) or elapsed time > 5s
user system elapsed
evppi 5.105 0.017 10.283
ceac.plot 4.261 0.297 7.599
multi.ce 4.446 0.028 8.158
info.rank 4.172 0.049 8.301
ceplane_plot_graph 4.109 0.084 6.795
plot.evppi 3.809 0.029 7.137
ceplane.plot 3.300 0.125 7.038
plot.bcea 3.350 0.009 5.880
eib.plot 3.326 0.012 6.168
evi.plot.mixedAn 3.132 0.078 5.456
mixedAn-set 2.616 0.013 5.233
- checking for unstated dependencies in ‘tests’ ... OK
- checking tests ... [26s/49s] OK
Running ‘testthat.R’ [26s/49s]
- checking PDF version of manual ... OK
- checking for non-standard things in the check directory ... OK
- DONE
Status: 1 NOTE