- using R Under development (unstable) (2025-10-20 r88955)
- using platform: x86_64-pc-linux-gnu
- R was compiled by
gcc-15 (Debian 15.2.0-4) 15.2.0
GNU Fortran (Debian 15.2.0-4) 15.2.0
- running under: Debian GNU/Linux forky/sid
- using session charset: UTF-8
- checking for file ‘AzureKusto/DESCRIPTION’ ... OK
- this is package ‘AzureKusto’ version ‘1.1.4’
- package encoding: UTF-8
- checking CRAN incoming feasibility ... [1s/2s] OK
- checking package namespace information ... OK
- checking package dependencies ... OK
- checking if this is a source package ... OK
- checking if there is a namespace ... OK
- checking for executable files ... OK
- checking for hidden files and directories ... OK
- checking for portable file names ... OK
- checking for sufficient/correct file permissions ... OK
- checking serialization versions ... OK
- checking whether package ‘AzureKusto’ can be installed ... OK
See the install log for details.
- checking package directory ... OK
- checking for future file timestamps ... OK
- checking ‘build’ directory ... OK
- checking DESCRIPTION meta-information ... OK
- checking top-level files ... OK
- checking for left-over files ... OK
- checking index information ... OK
- checking package subdirectories ... OK
- checking code files for non-ASCII characters ... OK
- checking R files for syntax errors ... OK
- checking whether the package can be loaded ... [1s/1s] OK
- checking whether the package can be loaded with stated dependencies ... [1s/1s] OK
- checking whether the package can be unloaded cleanly ... [1s/1s] OK
- checking whether the namespace can be loaded with stated dependencies ... [1s/1s] OK
- checking whether the namespace can be unloaded cleanly ... [1s/1s] OK
- checking loading without being on the library search path ... [1s/2s] OK
- checking whether startup messages can be suppressed ... [1s/1s] OK
- checking use of S3 registration ... OK
- checking dependencies in R code ... OK
- checking S3 generic/method consistency ... OK
- checking replacement functions ... OK
- checking foreign function calls ... OK
- checking R code for possible problems ... [9s/12s] OK
- checking Rd files ... [0s/1s] OK
- checking Rd metadata ... OK
- checking Rd line widths ... OK
- checking Rd cross-references ... OK
- checking for missing documentation entries ... OK
- checking for code/documentation mismatches ... OK
- checking Rd \usage sections ... OK
- checking Rd contents ... OK
- checking for unstated dependencies in examples ... OK
- checking installed files from ‘inst/doc’ ... OK
- checking files in ‘vignettes’ ... OK
- checking examples ... [1s/1s] OK
- checking for unstated dependencies in ‘tests’ ... OK
- checking tests ... [6s/7s] OK
Running ‘testthat.R’ [5s/7s]
- checking for unstated dependencies in vignettes ... OK
- checking package vignettes ... OK
- checking re-building of vignette outputs ... [2s/3s] OK
- checking PDF version of manual ... [6s/8s] OK
- checking HTML version of manual ... [1s/3s] NOTE
Found the following HTML validation problems:
add_op_join.html:89:1 (add_op_join.Rd:37): Warning: missing </ul> before </div>
add_op_set_op.html:54:1 (add_op_set_op.Rd:14): Warning: missing </ul> before </div>
add_op_single.html:58:1 (add_op_single.Rd:16): Warning: missing </ul> before </div>
build_kql.html:53:1 (build_kql.Rd:15): Warning: missing </ul> before </div>
collect.tbl_kusto.html:53:1 (collect.tbl_kusto.Rd:13): Warning: missing </ul> before </div>
compute.tbl_kusto.html:56:1 (compute.tbl_kusto.Rd:15): Warning: missing </ul> before </div>
escape.html:61:1 (escape.Rd:24): Warning: missing </ul> before </div>
export.html:112:1 (export.Rd:60): Warning: missing </ul> before </div>
flatten_query.html:50:1 (flatten_query.Rd:12): Warning: missing </ul> before </div>
ident.html:46:1 (ident.Rd:10): Warning: missing </ul> before </div>
ident_q.html:46:1 (ident_q.Rd:10): Warning: missing </ul> before </div>
is.html:48:1 (is.Rd:13): Warning: missing </ul> before </div>
kql.html:46:1 (kql.Rd:10): Warning: missing </ul> before </div>
kql_aggregate.html:46:1 (kql_aggregate.Rd:10): Warning: missing </ul> before </div>
kql_build.html:46:1 (kql_build.Rd:10): Warning: missing </ul> before </div>
kql_build.op_mutate.html:61:1 (kql_build.op_mutate.Rd:17): Warning: missing </ul> before </div>
kql_escape_ident.html:46:1 (kql_escape_ident.Rd:10): Warning: missing </ul> before </div>
kql_escape_ident_q.html:46:1 (kql_escape_ident_q.Rd:10): Warning: missing </ul> before </div>
kql_escape_logical.html:48:1 (kql_escape_logical.Rd:11): Warning: missing </ul> before </div>
kql_escape_string.html:46:1 (kql_escape_string.Rd:10): Warning: missing </ul> before </div>
kql_infix.html:46:1 (kql_infix.Rd:10): Warning: missing </ul> before </div>
kql_prefix.html:50:1 (kql_prefix.Rd:12): Warning: missing </ul> before </div>
kql_render.html:50:1 (kql_render.Rd:12): Warning: missing </ul> before </div>
kql_translator.html:54:1 (kql_translator.Rd:14): Warning: missing </ul> before </div>
kql_window.html:46:1 (kql_window.Rd:10): Warning: missing </ul> before </div>
kusto_export_cmd.html:73:1 (kusto_export_cmd.Rd:25): Warning: missing </ul> before </div>
nest.tbl_kusto_abstract.html:51:1 (nest.tbl_kusto_abstract.Rd:12): Warning: missing </ul> before </div>
op_base.html:54:1 (op_base.Rd:14): Warning: missing </ul> before </div>
op_double.html:58:1 (op_double.Rd:16): Warning: missing </ul> before </div>
op_grps.html:48:1 (op_grps.Rd:11): Warning: missing </ul> before </div>
op_single.html:58:1 (op_single.Rd:16): Warning: missing </ul> before </div>
op_vars.html:48:1 (op_vars.Rd:11): Warning: missing </ul> before </div>
show_query.tbl_kusto_abstract.html:51:1 (show_query.tbl_kusto_abstract.Rd:12): Warning: missing </ul> before </div>
tbl_kusto.html:54:1 (tbl_kusto.Rd:14): Warning: missing </ul> before </div>
translate_kql.html:46:1 (translate_kql.Rd:10): Warning: missing </ul> before </div>
unnest.tbl_kusto_abstract.html:105:1 (unnest.tbl_kusto_abstract.Rd:47): Warning: missing </ul> before </div>
- checking for non-standard things in the check directory ... OK
- DONE
Status: 1 NOTE