- using R Under development (unstable) (2025-10-19 r88945)
- using platform: x86_64-pc-linux-gnu
- R was compiled by
Debian clang version 19.1.7 (7)
Debian flang-new version 19.1.7 (7)
- running under: Debian GNU/Linux forky/sid
- using session charset: UTF-8
- checking for file ‘yamlet/DESCRIPTION’ ... OK
- checking extension type ... Package
- this is package ‘yamlet’ version ‘1.2.5’
- package encoding: UTF-8
- checking CRAN incoming feasibility ... [2s/3s] OK
- checking package namespace information ... OK
- checking package dependencies ... OK
- checking if this is a source package ... OK
- checking if there is a namespace ... OK
- checking for executable files ... OK
- checking for hidden files and directories ... OK
- checking for portable file names ... OK
- checking for sufficient/correct file permissions ... OK
- checking serialization versions ... OK
- checking whether package ‘yamlet’ can be installed ... OK
See the install log for details.
- checking package directory ... OK
- checking for future file timestamps ... OK
- checking ‘build’ directory ... OK
- checking DESCRIPTION meta-information ... OK
- checking top-level files ... OK
- checking for left-over files ... OK
- checking index information ... OK
- checking package subdirectories ... OK
- checking code files for non-ASCII characters ... OK
- checking R files for syntax errors ... OK
- checking whether the package can be loaded ... [3s/4s] OK
- checking whether the package can be loaded with stated dependencies ... [2s/3s] OK
- checking whether the package can be unloaded cleanly ... [2s/3s] OK
- checking whether the namespace can be loaded with stated dependencies ... [2s/3s] OK
- checking whether the namespace can be unloaded cleanly ... [3s/4s] OK
- checking loading without being on the library search path ... [3s/3s] OK
- checking use of S3 registration ... OK
- checking dependencies in R code ... OK
- checking S3 generic/method consistency ... OK
- checking replacement functions ... OK
- checking foreign function calls ... OK
- checking R code for possible problems ... [21s/28s] OK
- checking Rd files ... [2s/3s] OK
- checking Rd metadata ... OK
- checking Rd line widths ... OK
- checking Rd cross-references ... OK
- checking for missing documentation entries ... OK
- checking for code/documentation mismatches ... OK
- checking Rd \usage sections ... OK
- checking Rd contents ... OK
- checking for unstated dependencies in examples ... OK
- checking sizes of PDF files under ‘inst/doc’ ... OK
- checking installed files from ‘inst/doc’ ... OK
- checking files in ‘vignettes’ ... OK
- checking examples ... [61s/83s] OK
Examples with CPU (user + system) or elapsed time > 5s
user system elapsed
ggplot.decorated 8.159 0.047 10.892
print.decorated_ggplot 7.608 0.061 9.924
ggready.data.frame 6.515 0.008 9.473
ggready 6.446 0.013 8.125
ggready.decorated 6.266 0.014 9.097
- checking for unstated dependencies in ‘tests’ ... OK
- checking tests ... [29s/31s] OK
Running ‘testthat.R’ [28s/30s]
- checking for unstated dependencies in vignettes ... OK
- checking package vignettes ... OK
- checking re-building of vignette outputs ... [31s/31s] OK
- checking PDF version of manual ... [13s/13s] OK
- checking HTML version of manual ... [7s/7s] NOTE
Found the following HTML validation problems:
cell_value.html:54:1 (cell_value.Rd:14): Warning: missing </ul> before </div>
get_labs.html:50:1 (get_labs.Rd:10): Warning: missing </ul> before </div>
promote.default.html:51:1 (promote.default.Rd:12): Warning: missing </ul> before </div>
rescale.dvec.html:59:1 (rescale.dvec.Rd:16): Warning: missing </ul> before </div>
scale_type.dvec.html:47:1 (scale_type.dvec.Rd:10): Warning: missing </ul> before </div>
vec_cast.character.dvec.html:56:1 (vec_cast.character.dvec.Rd:14): Warning: missing </ul> before </div>
vec_cast.classified.classified.html:55:1 (vec_cast.classified.classified.Rd:14): Warning: missing </ul> before </div>
vec_cast.classified.factor.html:55:1 (vec_cast.classified.factor.Rd:14): Warning: missing </ul> before </div>
vec_cast.complex.dvec.html:56:1 (vec_cast.complex.dvec.Rd:14): Warning: missing </ul> before </div>
vec_cast.double.dvec.html:56:1 (vec_cast.double.dvec.Rd:14): Warning: missing </ul> before </div>
vec_cast.dvec.character.html:56:1 (vec_cast.dvec.character.Rd:14): Warning: missing </ul> before </div>
vec_cast.dvec.complex.html:56:1 (vec_cast.dvec.complex.Rd:14): Warning: missing </ul> before </div>
vec_cast.dvec.double.html:56:1 (vec_cast.dvec.double.Rd:14): Warning: missing </ul> before </div>
vec_cast.dvec.dvec.html:60:1 (vec_cast.dvec.dvec.Rd:16): Warning: missing </ul> before </div>
vec_cast.dvec.integer.html:56:1 (vec_cast.dvec.integer.Rd:14): Warning: missing </ul> before </div>
vec_cast.dvec.logical.html:60:1 (vec_cast.dvec.logical.Rd:16): Warning: missing </ul> before </div>
vec_cast.factor.classified.html:55:1 (vec_cast.factor.classified.Rd:14): Warning: missing </ul> before </div>
vec_cast.integer.dvec.html:56:1 (vec_cast.integer.dvec.Rd:14): Warning: missing </ul> before </div>
vec_cast.logical.dvec.html:60:1 (vec_cast.logical.dvec.Rd:16): Warning: missing </ul> before </div>
vec_ptype2.character.dvec.html:60:1 (vec_ptype2.character.dvec.Rd:16): Warning: missing </ul> before </div>
vec_ptype2.classified.factor.html:55:1 (vec_ptype2.classified.factor.Rd:14): Warning: missing </ul> before </div>
vec_ptype2.complex.dvec.html:60:1 (vec_ptype2.complex.dvec.Rd:16): Warning: missing </ul> before </div>
vec_ptype2.double.dvec.html:60:1 (vec_ptype2.double.dvec.Rd:16): Warning: missing </ul> before </div>
vec_ptype2.dvec.character.html:60:1 (vec_ptype2.dvec.character.Rd:16): Warning: missing </ul> before </div>
vec_ptype2.dvec.complex.html:60:1 (vec_ptype2.dvec.complex.Rd:16): Warning: missing </ul> before </div>
vec_ptype2.dvec.integer.html:60:1 (vec_ptype2.dvec.integer.Rd:16): Warning: missing </ul> before </div>
vec_ptype2.dvec.logical.html:60:1 (vec_ptype2.dvec.logical.Rd:16): Warning: missing </ul> before </div>
vec_ptype2.factor.classified.html:55:1 (vec_ptype2.factor.classified.Rd:14): Warning: missing </ul> before </div>
vec_ptype2.integer.dvec.html:60:1 (vec_ptype2.integer.dvec.Rd:16): Warning: missing </ul> before </div>
vec_ptype2.logical.dvec.html:60:1 (vec_ptype2.logical.dvec.Rd:16): Warning: missing </ul> before </div>
- checking for non-standard things in the check directory ... OK
- DONE
Status: 1 NOTE