- using R Under development (unstable) (2023-05-31 r84480)
- using platform: x86_64-pc-linux-gnu
- R was compiled by
Debian clang version 15.0.6
GNU Fortran (Debian 12.2.0-14) 12.2.0
- running under: Debian GNU/Linux 12 (bookworm)
- using session charset: UTF-8
- checking for file ‘wpa/DESCRIPTION’ ... OK
- checking extension type ... Package
- this is package ‘wpa’ version ‘1.8.1’
- package encoding: UTF-8
- checking package namespace information ... OK
- checking package dependencies ... OK
- checking if this is a source package ... OK
- checking if there is a namespace ... OK
- checking for executable files ... OK
- checking for hidden files and directories ... OK
- checking for portable file names ... OK
- checking for sufficient/correct file permissions ... OK
- checking serialization versions ... OK
- checking whether package ‘wpa’ can be installed ... OK
- checking package directory ... OK
- checking for future file timestamps ... OK
- checking DESCRIPTION meta-information ... OK
- checking top-level files ... OK
- checking for left-over files ... OK
- checking index information ... OK
- checking package subdirectories ... OK
- checking R files for non-ASCII characters ... OK
- checking R files for syntax errors ... OK
- checking whether the package can be loaded ... [5s/6s] OK
- checking whether the package can be loaded with stated dependencies ... [4s/6s] OK
- checking whether the package can be unloaded cleanly ... [4s/5s] OK
- checking whether the namespace can be loaded with stated dependencies ... [4s/5s] OK
- checking whether the namespace can be unloaded cleanly ... [5s/6s] OK
- checking loading without being on the library search path ... [5s/6s] OK
- checking startup messages can be suppressed ... [5s/6s] OK
- checking use of S3 registration ... OK
- checking dependencies in R code ... OK
- checking S3 generic/method consistency ... OK
- checking replacement functions ... OK
- checking foreign function calls ... OK
- checking R code for possible problems ... [49s/56s] OK
- checking Rd files ... [5s/5s] OK
- checking Rd metadata ... OK
- checking Rd line widths ... OK
- checking Rd cross-references ... OK
- checking for missing documentation entries ... OK
- checking for code/documentation mismatches ... OK
- checking Rd \usage sections ... OK
- checking Rd contents ... OK
- checking for unstated dependencies in examples ... OK
- checking contents of ‘data’ directory ... OK
- checking data for non-ASCII characters ... [1s/1s] OK
- checking LazyData ... OK
- checking data for ASCII and uncompressed saves ... OK
- checking examples ... [245s/258s] OK
Examples with CPU (user + system) or elapsed time > 5s
user system elapsed
subject_scan 7.765 0.008 7.986
keymetrics_scan 7.315 0.071 7.151
tm_freq 7.232 0.024 7.871
create_line 7.093 0.035 7.684
create_ITSA 6.946 0.108 7.904
workpatterns_hclust 6.433 0.151 7.112
meeting_rank 6.446 0.084 7.216
workloads_rank 6.233 0.004 6.490
email_rank 6.140 0.064 6.745
collaboration_rank 5.954 0.056 6.741
flex_index 5.878 0.103 5.125
one2one_rank 5.951 0.011 6.430
create_rank 5.856 0.080 6.377
IV_by_period 5.118 0.218 5.513
mgrrel_matrix 5.185 0.045 5.150
create_hist 5.063 0.032 5.272
create_rank_combine 4.958 0.012 5.059
create_density 4.506 0.040 5.073
- checking for unstated dependencies in ‘tests’ ... OK
- checking tests ... [96s/103s] OK
Running ‘testthat.R’ [96s/102s]
- checking PDF version of manual ... [27s/27s] OK
- checking HTML version of manual ... [15s/15s] OK
- checking for non-standard things in the check directory ... OK
- DONE
Status: OK