- using R Under development (unstable) (2025-10-19 r88945)
- using platform: x86_64-pc-linux-gnu
- R was compiled by
Debian clang version 19.1.7 (7)
Debian flang-new version 19.1.7 (7)
- running under: Debian GNU/Linux forky/sid
- using session charset: UTF-8
- checking for file ‘vmTools/DESCRIPTION’ ... OK
- checking extension type ... Package
- this is package ‘vmTools’ version ‘1.0.1’
- package encoding: UTF-8
- checking CRAN incoming feasibility ... [1s/2s] OK
- checking package namespace information ... OK
- checking package dependencies ... OK
- checking if this is a source package ... OK
- checking if there is a namespace ... OK
- checking for executable files ... OK
- checking for hidden files and directories ... OK
- checking for portable file names ... OK
- checking for sufficient/correct file permissions ... OK
- checking serialization versions ... OK
- checking whether package ‘vmTools’ can be installed ... OK
See the install log for details.
- checking package directory ... OK
- checking for future file timestamps ... OK
- checking ‘build’ directory ... OK
- checking DESCRIPTION meta-information ... OK
- checking top-level files ... OK
- checking for left-over files ... OK
- checking index information ... OK
- checking package subdirectories ... OK
- checking code files for non-ASCII characters ... OK
- checking R files for syntax errors ... OK
- checking whether the package can be loaded ... [0s/1s] OK
- checking whether the package can be loaded with stated dependencies ... [0s/0s] OK
- checking whether the package can be unloaded cleanly ... [0s/1s] OK
- checking whether the namespace can be loaded with stated dependencies ... [0s/1s] OK
- checking whether the namespace can be unloaded cleanly ... [0s/1s] OK
- checking loading without being on the library search path ... [0s/1s] OK
- checking use of S3 registration ... OK
- checking dependencies in R code ... OK
- checking S3 generic/method consistency ... OK
- checking replacement functions ... OK
- checking foreign function calls ... OK
- checking R code for possible problems ... [5s/7s] OK
- checking Rd files ... [0s/1s] OK
- checking Rd metadata ... OK
- checking Rd line widths ... OK
- checking Rd cross-references ... OK
- checking for missing documentation entries ... OK
- checking for code/documentation mismatches ... OK
- checking Rd \usage sections ... OK
- checking Rd contents ... OK
- checking for unstated dependencies in examples ... OK
- checking installed files from ‘inst/doc’ ... OK
- checking files in ‘vignettes’ ... OK
- checking examples ... [1s/1s] OK
- checking for unstated dependencies in ‘tests’ ... OK
- checking tests ... [9s/14s] OK
Running ‘testthat.R’ [9s/14s]
- checking for unstated dependencies in vignettes ... OK
- checking package vignettes ... OK
- checking re-building of vignette outputs ... [17s/27s] OK
- checking PDF version of manual ... [8s/10s] OK
- checking HTML version of manual ... [1s/2s] NOTE
Found the following HTML validation problems:
SLT.html:204:1 (SLT.Rd:124): Warning: <h5> anchor "Usage" already defined
SLT.html:210:1 (SLT.Rd:128): Warning: <h5> anchor "Arguments" already defined
SLT.html:225:1 (SLT.Rd:137): Warning: <h5> anchor "Returns" already defined
SLT.html:242:1 (SLT.Rd:146): Warning: <h5> anchor "Usage" already defined
SLT.html:248:1 (SLT.Rd:150): Warning: <h5> anchor "Arguments" already defined
SLT.html:263:1 (SLT.Rd:159): Warning: <h5> anchor "Returns" already defined
SLT.html:288:1 (SLT.Rd:176): Warning: <h5> anchor "Usage" already defined
SLT.html:294:1 (SLT.Rd:180): Warning: <h5> anchor "Arguments" already defined
SLT.html:316:1 (SLT.Rd:196): Warning: <h5> anchor "Returns" already defined
SLT.html:337:1 (SLT.Rd:209): Warning: <h5> anchor "Usage" already defined
SLT.html:343:1 (SLT.Rd:213): Warning: <h5> anchor "Arguments" already defined
SLT.html:365:1 (SLT.Rd:229): Warning: <h5> anchor "Returns" already defined
SLT.html:390:1 (SLT.Rd:246): Warning: <h5> anchor "Usage" already defined
SLT.html:396:1 (SLT.Rd:250): Warning: <h5> anchor "Arguments" already defined
SLT.html:418:1 (SLT.Rd:266): Warning: <h5> anchor "Returns" already defined
SLT.html:439:1 (SLT.Rd:279): Warning: <h5> anchor "Usage" already defined
SLT.html:445:1 (SLT.Rd:283): Warning: <h5> anchor "Arguments" already defined
SLT.html:467:1 (SLT.Rd:299): Warning: <h5> anchor "Returns" already defined
SLT.html:487:1 (SLT.Rd:311): Warning: <h5> anchor "Usage" already defined
SLT.html:493:1 (SLT.Rd:315): Warning: <h5> anchor "Returns" already defined
SLT.html:513:1 (SLT.Rd:327): Warning: <h5> anchor "Usage" already defined
SLT.html:519:1 (SLT.Rd:331): Warning: <h5> anchor "Returns" already defined
SLT.html:539:1 (SLT.Rd:343): Warning: <h5> anchor "Usage" already defined
SLT.html:545:1 (SLT.Rd:347): Warning: <h5> anchor "Returns" already defined
SLT.html:565:1 (SLT.Rd:359): Warning: <h5> anchor "Usage" already defined
SLT.html:571:1 (SLT.Rd:363): Warning: <h5> anchor "Returns" already defined
SLT.html:596:1 (SLT.Rd:380): Warning: <h5> anchor "Usage" already defined
SLT.html:602:1 (SLT.Rd:384): Warning: <h5> anchor "Arguments" already defined
SLT.html:619:1 (SLT.Rd:395): Warning: <h5> anchor "Returns" already defined
SLT.html:640:1 (SLT.Rd:408): Warning: <h5> anchor "Usage" already defined
SLT.html:646:1 (SLT.Rd:412): Warning: <h5> anchor "Arguments" already defined
SLT.html:662:1 (SLT.Rd:422): Warning: <h5> anchor "Returns" already defined
SLT.html:683:1 (SLT.Rd:435): Warning: <h5> anchor "Usage" already defined
SLT.html:689:1 (SLT.Rd:439): Warning: <h5> anchor "Arguments" already defined
SLT.html:705:1 (SLT.Rd:449): Warning: <h5> anchor "Returns" already defined
SLT.html:727:1 (SLT.Rd:463): Warning: <h5> anchor "Usage" already defined
SLT.html:733:1 (SLT.Rd:467): Warning: <h5> anchor "Arguments" already defined
SLT.html:748:1 (SLT.Rd:476): Warning: <h5> anchor "Returns" already defined
SLT.html:772:1 (SLT.Rd:492): Warning: <h5> anchor "Usage" already defined
SLT.html:778:1 (SLT.Rd:496): Warning: <h5> anchor "Arguments" already defined
SLT.html:803:1 (SLT.Rd:515): Warning: <h5> anchor "Returns" already defined
SLT.html:823:1 (SLT.Rd:527): Warning: <h5> anchor "Usage" already defined
SLT.html:829:1 (SLT.Rd:531): Warning: <h5> anchor "Returns" already defined
SLT.html:846:1 (SLT.Rd:540): Warning: <h5> anchor "Usage" already defined
SLT.html:852:1 (SLT.Rd:544): Warning: <h5> anchor "Arguments" already defined
dir_tree.html:54:1 (dir_tree.Rd:14): Warning: missing </ul> before </div>
- checking for non-standard things in the check directory ... OK
- DONE
Status: 1 NOTE