- using R Under development (unstable) (2023-06-03 r84490)
- using platform: x86_64-pc-linux-gnu
- R was compiled by
Debian clang version 15.0.6
GNU Fortran (Debian 12.2.0-14) 12.2.0
- running under: Debian GNU/Linux 12 (bookworm)
- using session charset: UTF-8
- checking for file ‘ursa/DESCRIPTION’ ... OK
- checking extension type ... Package
- this is package ‘ursa’ version ‘3.9.10’
- checking package namespace information ... OK
- checking package dependencies ... OK
- checking if this is a source package ... OK
- checking if there is a namespace ... OK
- checking for executable files ... OK
- checking for hidden files and directories ... OK
- checking for portable file names ... OK
- checking for sufficient/correct file permissions ... OK
- checking whether package ‘ursa’ can be installed ... OK
- used C compiler: ‘Debian clang version 15.0.6’
- checking package directory ... OK
- checking for future file timestamps ... OK
- checking DESCRIPTION meta-information ... OK
- checking top-level files ... OK
- checking for left-over files ... OK
- checking index information ... OK
- checking package subdirectories ... OK
- checking R files for non-ASCII characters ... OK
- checking R files for syntax errors ... OK
- checking whether the package can be loaded ... [0s/1s] OK
- checking whether the package can be loaded with stated dependencies ... [0s/0s] OK
- checking whether the package can be unloaded cleanly ... [0s/0s] OK
- checking whether the namespace can be loaded with stated dependencies ... [0s/0s] OK
- checking whether the namespace can be unloaded cleanly ... [0s/1s] OK
- checking loading without being on the library search path ... [0s/0s] OK
- checking startup messages can be suppressed ... [0s/0s] OK
- checking use of S3 registration ... OK
- checking dependencies in R code ... OK
- checking S3 generic/method consistency ... OK
- checking replacement functions ... OK
- checking foreign function calls ... OK
- checking R code for possible problems ... [146s/165s] OK
- checking Rd files ... [4s/4s] OK
- checking Rd metadata ... OK
- checking Rd line widths ... OK
- checking Rd cross-references ... OK
- checking for missing documentation entries ... OK
- checking for code/documentation mismatches ... OK
- checking Rd \usage sections ... OK
- checking Rd contents ... OK
- checking for unstated dependencies in examples ... OK
- checking line endings in C/C++/Fortran sources/headers ... OK
- checking pragmas in C/C++ headers and code ... OK
- checking compilation flags used ... OK
- checking compiled code ... OK
- checking examples ... [201s/226s] OK
Examples with CPU (user + system) or elapsed time > 5s
user system elapsed
panel_shading 6.301 0.293 7.330
panel_raster 6.279 0.285 7.468
compose_open 5.914 0.547 7.800
panel_graticule 5.927 0.364 6.604
legend_colorbar 5.534 0.356 6.522
regrid 5.184 0.373 6.175
panel_new 5.304 0.203 5.858
display_brick 5.040 0.258 5.712
panel_scalebar 4.783 0.290 5.633
classRaster_plot 4.718 0.134 5.381
compose_legend 4.511 0.310 6.152
Ops.local_group 4.521 0.277 5.481
compose_design 4.669 0.121 5.918
- checking PDF version of manual ... [16s/19s] OK
- checking HTML version of manual ... [12s/17s] OK
- checking for non-standard things in the check directory ... OK
- DONE
Status: OK