* using log directory ‘/home/hornik/tmp/R.check/r-devel-clang/Work/PKGS/tidyplots.Rcheck’ * using R Under development (unstable) (2025-07-13 r88407) * using platform: x86_64-pc-linux-gnu * R was compiled by Debian clang version 19.1.7 (3+b1) Debian flang-new version 19.1.7 (3+b1) * running under: Debian GNU/Linux 13 (trixie) * using session charset: UTF-8 * checking for file ‘tidyplots/DESCRIPTION’ ... OK * this is package ‘tidyplots’ version ‘0.3.1’ * package encoding: UTF-8 * checking CRAN incoming feasibility ... [2s/2s] OK * checking package namespace information ... OK * checking package dependencies ... OK * checking if this is a source package ... OK * checking if there is a namespace ... OK * checking for executable files ... OK * checking for hidden files and directories ... OK * checking for portable file names ... OK * checking for sufficient/correct file permissions ... OK * checking whether package ‘tidyplots’ can be installed ... OK See 'https://www.r-project.org/nosvn/R.check/r-devel-linux-x86_64-debian-clang/tidyplots-00install.html' for details. * checking package directory ... OK * checking for future file timestamps ... OK * checking ‘build’ directory ... OK * checking DESCRIPTION meta-information ... OK * checking top-level files ... OK * checking for left-over files ... OK * checking index information ... OK * checking package subdirectories ... OK * checking code files for non-ASCII characters ... OK * checking R files for syntax errors ... OK * checking whether the package can be loaded ... [0s/1s] OK * checking whether the package can be loaded with stated dependencies ... [0s/0s] OK * checking whether the package can be unloaded cleanly ... [0s/0s] OK * checking whether the namespace can be loaded with stated dependencies ... [0s/1s] OK * checking whether the namespace can be unloaded cleanly ... [0s/1s] OK * checking loading without being on the library search path ... [0s/1s] OK * checking use of S3 registration ... OK * checking dependencies in R code ... OK * checking S3 generic/method consistency ... OK * checking replacement functions ... OK * checking foreign function calls ... OK * checking R code for possible problems ... [19s/24s] OK * checking Rd files ... [1s/1s] OK * checking Rd metadata ... OK * checking Rd line widths ... OK * checking Rd cross-references ... OK * checking for missing documentation entries ... OK * checking for code/documentation mismatches ... OK * checking Rd \usage sections ... OK * checking Rd contents ... OK * checking for unstated dependencies in examples ... OK * checking contents of ‘data’ directory ... OK * checking data for non-ASCII characters ... [0s/0s] OK * checking LazyData ... OK * checking data for ASCII and uncompressed saves ... OK * checking installed files from ‘inst/doc’ ... OK * checking files in ‘vignettes’ ... OK * checking examples ... [155s/196s] OK Examples with CPU (user + system) or elapsed time > 5s user system elapsed add_test_pvalue 10.830 0.070 13.040 add_sum_bar 6.975 0.009 7.583 split_plot 6.474 0.004 7.919 add_count_bar 5.809 0.008 6.360 add_mean_bar 5.584 0.005 7.555 add_median_bar 5.540 0.020 6.273 adjust_legend_title 5.133 0.015 6.740 add_barstack_absolute 4.710 0.082 5.961 reorder_x_axis_levels 4.480 0.075 6.197 rename_x_axis_levels 4.430 0.003 6.115 adjust_colors 4.216 0.000 6.839 sort_x_axis_levels 4.007 0.000 5.367 save_plot 3.843 0.000 5.033 reverse_x_axis_levels 3.834 0.000 5.287 adjust_font 3.564 0.008 5.390 * checking for unstated dependencies in ‘tests’ ... OK * checking tests ... [25s/30s] OK Running ‘testthat.R’ [24s/29s] * checking for unstated dependencies in vignettes ... OK * checking package vignettes ... OK * checking re-building of vignette outputs ... [36s/45s] OK * checking PDF version of manual ... [7s/9s] OK * checking HTML version of manual ... [4s/6s] OK * checking for non-standard things in the check directory ... OK * DONE Status: OK