- using R Under development (unstable) (2025-11-19 r89040)
- using platform: x86_64-pc-linux-gnu
- R was compiled by
Debian clang version 21.1.5 (1)
Debian flang version 21.1.5 (1)
- running under: Debian GNU/Linux forky/sid
- using session charset: UTF-8
- checking for file ‘tidyplots/DESCRIPTION’ ... OK
- this is package ‘tidyplots’ version ‘0.3.1’
- package encoding: UTF-8
- checking CRAN incoming feasibility ... [2s/3s] OK
- checking package namespace information ... OK
- checking package dependencies ... OK
- checking if this is a source package ... OK
- checking if there is a namespace ... OK
- checking for executable files ... OK
- checking for hidden files and directories ... OK
- checking for portable file names ... OK
- checking for sufficient/correct file permissions ... OK
- checking whether package ‘tidyplots’ can be installed ... OK
See the install log for details.
- checking package directory ... OK
- checking for future file timestamps ... OK
- checking ‘build’ directory ... OK
- checking DESCRIPTION meta-information ... OK
- checking top-level files ... OK
- checking for left-over files ... OK
- checking index information ... OK
- checking package subdirectories ... OK
- checking code files for non-ASCII characters ... OK
- checking R files for syntax errors ... OK
- checking whether the package can be loaded ... [0s/1s] OK
- checking whether the package can be loaded with stated dependencies ... [0s/1s] OK
- checking whether the package can be unloaded cleanly ... [0s/1s] OK
- checking whether the namespace can be loaded with stated dependencies ... [0s/1s] OK
- checking whether the namespace can be unloaded cleanly ... [0s/1s] OK
- checking loading without being on the library search path ... [0s/1s] OK
- checking use of S3 registration ... OK
- checking dependencies in R code ... OK
- checking S3 generic/method consistency ... OK
- checking replacement functions ... OK
- checking foreign function calls ... OK
- checking R code for possible problems ... [20s/27s] OK
- checking Rd files ... [1s/2s] OK
- checking Rd metadata ... OK
- checking Rd line widths ... OK
- checking Rd cross-references ... OK
- checking for missing documentation entries ... OK
- checking for code/documentation mismatches ... OK
- checking Rd \usage sections ... OK
- checking Rd contents ... OK
- checking for unstated dependencies in examples ... OK
- checking contents of ‘data’ directory ... OK
- checking data for non-ASCII characters ... [0s/0s] OK
- checking LazyData ... OK
- checking data for ASCII and uncompressed saves ... OK
- checking installed files from ‘inst/doc’ ... OK
- checking files in ‘vignettes’ ... OK
- checking examples ... [215s/270s] OK
Examples with CPU (user + system) or elapsed time > 5s
user system elapsed
add_test_pvalue 13.694 0.032 17.432
add_sum_bar 10.009 0.066 11.905
add_count_bar 8.809 0.041 11.776
add_median_bar 8.279 0.021 9.876
add_mean_bar 8.184 0.012 9.235
adjust_legend_title 7.843 0.015 10.010
split_plot 7.790 0.016 9.505
add_barstack_absolute 6.378 0.063 7.374
reverse_x_axis_levels 6.092 0.008 7.757
rename_x_axis_levels 5.844 0.051 8.523
reorder_x_axis_levels 5.797 0.008 7.033
adjust_colors 5.663 0.008 6.687
sort_x_axis_levels 5.460 0.004 6.548
save_plot 5.269 0.012 6.683
add_sem_ribbon 5.218 0.013 6.614
add_data_labels 4.849 0.044 7.523
remove_y_axis 4.767 0.000 6.154
remove_x_axis 4.704 0.004 6.029
adjust_font 4.519 0.048 5.502
add_sem_errorbar 4.431 0.031 5.385
add_areastack_absolute 4.353 0.098 5.346
add_curve_fit 4.235 0.134 6.433
adjust_x_axis 4.312 0.004 5.731
adjust_size 4.177 0.000 5.156
add_data_points 4.101 0.008 6.063
flip_plot 3.912 0.000 5.291
add_violin 3.828 0.023 5.854
- checking for unstated dependencies in ‘tests’ ... OK
- checking tests ... [195s/224s] OK
Running ‘testthat.R’ [195s/223s]
- checking for unstated dependencies in vignettes ... OK
- checking package vignettes ... OK
- checking re-building of vignette outputs ... [43s/59s] OK
- checking PDF version of manual ... [10s/12s] OK
- checking HTML version of manual ... [7s/13s] OK
- checking for non-standard things in the check directory ... OK
- DONE
Status: OK