- using R Under development (unstable) (2025-10-19 r88945)
- using platform: x86_64-pc-linux-gnu
- R was compiled by
Debian clang version 19.1.7 (7)
Debian flang-new version 19.1.7 (7)
- running under: Debian GNU/Linux forky/sid
- using session charset: UTF-8
- checking for file ‘testthat/DESCRIPTION’ ... OK
- this is package ‘testthat’ version ‘3.2.3’
- package encoding: UTF-8
- checking CRAN incoming feasibility ... [3s/5s] OK
- checking package namespace information ... OK
- checking package dependencies ... OK
- checking if this is a source package ... OK
- checking if there is a namespace ... OK
- checking for executable files ... OK
- checking for hidden files and directories ... OK
- checking for portable file names ... OK
- checking for sufficient/correct file permissions ... OK
- checking whether package ‘testthat’ can be installed ... OK
See the install log for details.
- used C compiler: ‘Debian clang version 19.1.7 (7)’
- used C++ compiler: ‘Debian clang version 19.1.7 (7)’
- checking package directory ... OK
- checking for future file timestamps ... OK
- checking ‘build’ directory ... OK
- checking DESCRIPTION meta-information ... OK
- checking top-level files ... OK
- checking for left-over files ... OK
- checking index information ... OK
- checking package subdirectories ... OK
- checking code files for non-ASCII characters ... OK
- checking R files for syntax errors ... OK
- checking whether the package can be loaded ... [1s/1s] OK
- checking whether the package can be loaded with stated dependencies ... [0s/0s] OK
- checking whether the package can be unloaded cleanly ... [0s/1s] OK
- checking whether the namespace can be loaded with stated dependencies ... [0s/1s] OK
- checking whether the namespace can be unloaded cleanly ... [1s/1s] OK
- checking loading without being on the library search path ... [1s/1s] OK
- checking use of S3 registration ... OK
- checking dependencies in R code ... OK
- checking S3 generic/method consistency ... OK
- checking replacement functions ... OK
- checking foreign function calls ... OK
- checking R code for possible problems ... [19s/23s] OK
- checking Rd files ... [1s/1s] OK
- checking Rd metadata ... OK
- checking Rd line widths ... OK
- checking Rd cross-references ... OK
- checking for missing documentation entries ... OK
- checking for code/documentation mismatches ... OK
- checking Rd \usage sections ... OK
- checking Rd contents ... OK
- checking for unstated dependencies in examples ... OK
- checking line endings in C/C++/Fortran sources/headers ... OK
- checking line endings in Makefiles ... OK
- checking compilation flags in Makevars ... OK
- checking for GNU extensions in Makefiles ... OK
- checking for portable use of $(BLAS_LIBS) and $(LAPACK_LIBS) ... OK
- checking use of PKG_*FLAGS in Makefiles ... OK
- checking use of SHLIB_OPENMP_*FLAGS in Makefiles ... OK
- checking pragmas in C/C++ headers and code ... OK
- checking compilation flags used ... OK
- checking compiled code ... NOTE
File ‘testthat/libs/testthat.so’:
Found non-API calls to R: ‘BODY’, ‘CLOENV’, ‘FORMALS’, ‘SET_BODY’,
‘SET_CLOENV’, ‘SET_FORMALS’
Compiled code should not call non-API entry points in R.
See ‘Writing portable packages’ in the ‘Writing R Extensions’ manual,
and section ‘Moving into C API compliance’ for issues with the use of
non-API entry points.
- checking installed files from ‘inst/doc’ ... OK
- checking files in ‘vignettes’ ... OK
- checking examples ... [5s/6s] OK
- checking for unstated dependencies in ‘tests’ ... OK
- checking tests ... [110s/78s] OK
Running ‘test-catch.R’ [28s/37s]
Running ‘testthat.R’ [82s/40s]
- checking for unstated dependencies in vignettes ... OK
- checking package vignettes ... OK
- checking re-building of vignette outputs ... [19s/26s] OK
- checking PDF version of manual ... [11s/14s] OK
- checking HTML version of manual ... [5s/8s] NOTE
Found the following HTML validation problems:
context_start_file.html:46:1 (context_start_file.Rd:10): Warning: missing </ul> before </div>
dir_state.html:55:1 (dir_state.Rd:15): Warning: missing </ul> before </div>
expect_less_than.html:49:1 (expect_less_than.Rd:13): Warning: missing </ul> before </div>
expect_snapshot_output.html:94:1 (expect_snapshot_output.Rd:36): Warning: missing </ul> before </div>
expect_snapshot_value.html:113:1 (expect_snapshot_value.Rd:56): Warning: missing </ul> before </div>
expect_success.html:80:1 (expect_success.Rd:29): Warning: missing </ul> before </div>
find_reporter.html:49:1 (find_reporter.Rd:10): Warning: missing </ul> before </div>
local_edition.html:54:1 (local_edition.Rd:15): Warning: missing </ul> before </div>
local_mocked_bindings.html:167:1 (local_mocked_bindings.Rd:115): Warning: missing </ul> before </div>
local_test_directory.html:50:1 (local_test_directory.Rd:12): Warning: missing </ul> before </div>
not.html:48:1 (not.Rd:10): Warning: missing </ul> before </div>
run_cpp_tests.html:51:1 (run_cpp_tests.Rd:13): Warning: missing </ul> before </div>
set_max_fails.html:47:1 (set_max_fails.Rd:10): Warning: missing </ul> before </div>
set_state_inspector.html:79:1 (set_state_inspector.Rd:11): Warning: missing </ul> before </div>
snapshot_accept.html:63:1 (snapshot_accept.Rd:17): Warning: missing </ul> before </div>
source_file.html:88:1 (source_file.Rd:46): Warning: missing </ul> before </div>
takes_less_than.html:46:1 (takes_less_than.Rd:10): Warning: missing </ul> before </div>
test_examples.html:63:1 (test_examples.Rd:22): Warning: missing </ul> before </div>
- checking for non-standard things in the check directory ... OK
- DONE
Status: 2 NOTEs