- using R Under development (unstable) (2025-10-19 r88945)
- using platform: x86_64-pc-linux-gnu
- R was compiled by
Debian clang version 19.1.7 (7)
Debian flang-new version 19.1.7 (7)
- running under: Debian GNU/Linux forky/sid
- using session charset: UTF-8
- checking for file ‘teal.transform/DESCRIPTION’ ... OK
- this is package ‘teal.transform’ version ‘0.7.0’
- package encoding: UTF-8
- checking CRAN incoming feasibility ... [2s/3s] OK
- checking package namespace information ... OK
- checking package dependencies ... OK
- checking if this is a source package ... OK
- checking if there is a namespace ... OK
- checking for executable files ... OK
- checking for hidden files and directories ... OK
- checking for portable file names ... OK
- checking for sufficient/correct file permissions ... OK
- checking whether package ‘teal.transform’ can be installed ... OK
See the install log for details.
- checking package directory ... OK
- checking for future file timestamps ... OK
- checking ‘build’ directory ... OK
- checking DESCRIPTION meta-information ... OK
- checking top-level files ... OK
- checking for left-over files ... OK
- checking index information ... OK
- checking package subdirectories ... OK
- checking code files for non-ASCII characters ... OK
- checking R files for syntax errors ... OK
- checking whether the package can be loaded ... [1s/2s] OK
- checking whether the package can be loaded with stated dependencies ... [1s/1s] OK
- checking whether the package can be unloaded cleanly ... [1s/1s] OK
- checking whether the namespace can be loaded with stated dependencies ... [1s/1s] OK
- checking whether the namespace can be unloaded cleanly ... [1s/2s] OK
- checking loading without being on the library search path ... [1s/2s] OK
- checking whether startup messages can be suppressed ... [2s/3s] OK
- checking use of S3 registration ... OK
- checking dependencies in R code ... OK
- checking S3 generic/method consistency ... OK
- checking replacement functions ... OK
- checking foreign function calls ... OK
- checking R code for possible problems ... [14s/20s] OK
- checking Rd files ... [1s/1s] OK
- checking Rd metadata ... OK
- checking Rd line widths ... OK
- checking Rd cross-references ... OK
- checking for missing documentation entries ... OK
- checking for code/documentation mismatches ... OK
- checking Rd \usage sections ... OK
- checking Rd contents ... OK
- checking for unstated dependencies in examples ... OK
- checking installed files from ‘inst/doc’ ... OK
- checking files in ‘vignettes’ ... OK
- checking examples ... [5s/6s] OK
- checking for unstated dependencies in ‘tests’ ... OK
- checking tests ... [18s/22s] OK
Running ‘testthat.R’ [18s/22s]
- checking for unstated dependencies in vignettes ... OK
- checking package vignettes ... OK
- checking re-building of vignette outputs ... [11s/16s] OK
- checking PDF version of manual ... [10s/14s] OK
- checking HTML version of manual ... [4s/7s] NOTE
Found the following HTML validation problems:
Queue.html:306:1 (Queue.Rd:160): Warning: missing </ul> before </div>
Queue.html:117:1 (Queue.Rd:55): Warning: <h5> anchor "Usage" already defined
Queue.html:123:1 (Queue.Rd:59): Warning: <h5> anchor "Returns" already defined
Queue.html:140:1 (Queue.Rd:68): Warning: <h5> anchor "Usage" already defined
Queue.html:146:1 (Queue.Rd:72): Warning: <h5> anchor "Returns" already defined
Queue.html:165:1 (Queue.Rd:83): Warning: <h5> anchor "Usage" already defined
Queue.html:171:1 (Queue.Rd:87): Warning: <h5> anchor "Arguments" already defined
Queue.html:184:1 (Queue.Rd:94): Warning: <h5> anchor "Returns" already defined
Queue.html:201:1 (Queue.Rd:103): Warning: <h5> anchor "Usage" already defined
Queue.html:207:1 (Queue.Rd:107): Warning: <h5> anchor "Returns" already defined
Queue.html:224:1 (Queue.Rd:116): Warning: <h5> anchor "Usage" already defined
Queue.html:230:1 (Queue.Rd:120): Warning: <h5> anchor "Returns" already defined
Queue.html:247:1 (Queue.Rd:129): Warning: <h5> anchor "Usage" already defined
Queue.html:253:1 (Queue.Rd:133): Warning: <h5> anchor "Arguments" already defined
Queue.html:266:1 (Queue.Rd:140): Warning: <h5> anchor "Returns" already defined
Queue.html:283:1 (Queue.Rd:149): Warning: <h5> anchor "Usage" already defined
Queue.html:289:1 (Queue.Rd:153): Warning: <h5> anchor "Arguments" already defined
- checking for non-standard things in the check directory ... OK
- DONE
Status: 1 NOTE