- using R Under development (unstable) (2025-10-19 r88945)
- using platform: x86_64-pc-linux-gnu
- R was compiled by
Debian clang version 19.1.7 (7)
Debian flang-new version 19.1.7 (7)
- running under: Debian GNU/Linux forky/sid
- using session charset: UTF-8
- checking for file ‘teal/DESCRIPTION’ ... OK
- checking extension type ... Package
- this is package ‘teal’ version ‘1.0.0’
- package encoding: UTF-8
- checking CRAN incoming feasibility ... [2s/3s] OK
- checking package namespace information ... OK
- checking package dependencies ... OK
- checking if this is a source package ... OK
- checking if there is a namespace ... OK
- checking for executable files ... OK
- checking for hidden files and directories ... OK
- checking for portable file names ... OK
- checking for sufficient/correct file permissions ... OK
- checking whether package ‘teal’ can be installed ... OK
See the install log for details.
- checking package directory ... OK
- checking for future file timestamps ... OK
- checking ‘build’ directory ... OK
- checking DESCRIPTION meta-information ... OK
- checking top-level files ... OK
- checking for left-over files ... OK
- checking index information ... OK
- checking package subdirectories ... OK
- checking code files for non-ASCII characters ... OK
- checking R files for syntax errors ... OK
- checking whether the package can be loaded ... [1s/2s] OK
- checking whether the package can be loaded with stated dependencies ... [1s/2s] OK
- checking whether the package can be unloaded cleanly ... [1s/2s] OK
- checking whether the namespace can be loaded with stated dependencies ... [1s/1s] OK
- checking whether the namespace can be unloaded cleanly ... [1s/1s] OK
- checking loading without being on the library search path ... [1s/1s] OK
- checking whether startup messages can be suppressed ... [1s/1s] OK
- checking use of S3 registration ... OK
- checking dependencies in R code ... OK
- checking S3 generic/method consistency ... OK
- checking replacement functions ... OK
- checking foreign function calls ... OK
- checking R code for possible problems ... [15s/21s] OK
- checking Rd files ... [1s/1s] OK
- checking Rd metadata ... OK
- checking Rd line widths ... OK
- checking Rd cross-references ... OK
- checking for missing documentation entries ... OK
- checking for code/documentation mismatches ... OK
- checking Rd \usage sections ... OK
- checking Rd contents ... OK
- checking for unstated dependencies in examples ... OK
- checking installed files from ‘inst/doc’ ... OK
- checking files in ‘vignettes’ ... OK
- checking examples ... [3s/3s] OK
- checking for unstated dependencies in ‘tests’ ... OK
- checking tests ... [260s/366s] OK
Running ‘testthat.R’ [260s/366s]
- checking for unstated dependencies in vignettes ... OK
- checking package vignettes ... OK
- checking re-building of vignette outputs ... [35s/49s] OK
- checking PDF version of manual ... [11s/14s] OK
- checking HTML version of manual ... [5s/8s] NOTE
Found the following HTML validation problems:
TealAppDriver.html:1169:1 (TealAppDriver.Rd:684): Warning: missing </ul> before </div>
TealAppDriver.html:253:1 (TealAppDriver.Rd:143): Warning: <h5> anchor "Usage" already defined
TealAppDriver.html:259:1 (TealAppDriver.Rd:147): Warning: <h5> anchor "Arguments" already defined
TealAppDriver.html:286:1 (TealAppDriver.Rd:164): Warning: <h5> anchor "Usage" already defined
TealAppDriver.html:302:1 (TealAppDriver.Rd:174): Warning: <h5> anchor "Usage" already defined
TealAppDriver.html:318:1 (TealAppDriver.Rd:184): Warning: <h5> anchor "Usage" already defined
TealAppDriver.html:334:1 (TealAppDriver.Rd:194): Warning: <h5> anchor "Usage" already defined
TealAppDriver.html:340:1 (TealAppDriver.Rd:198): Warning: <h5> anchor "Arguments" already defined
TealAppDriver.html:357:1 (TealAppDriver.Rd:209): Warning: <h5> anchor "Returns" already defined
TealAppDriver.html:374:1 (TealAppDriver.Rd:218): Warning: <h5> anchor "Usage" already defined
TealAppDriver.html:380:1 (TealAppDriver.Rd:222): Warning: <h5> anchor "Arguments" already defined
TealAppDriver.html:394:1 (TealAppDriver.Rd:230): Warning: <h5> anchor "Returns" already defined
TealAppDriver.html:411:1 (TealAppDriver.Rd:239): Warning: <h5> anchor "Usage" already defined
TealAppDriver.html:417:1 (TealAppDriver.Rd:243): Warning: <h5> anchor "Returns" already defined
TealAppDriver.html:434:1 (TealAppDriver.Rd:252): Warning: <h5> anchor "Usage" already defined
TealAppDriver.html:440:1 (TealAppDriver.Rd:256): Warning: <h5> anchor "Returns" already defined
TealAppDriver.html:457:1 (TealAppDriver.Rd:265): Warning: <h5> anchor "Usage" already defined
TealAppDriver.html:463:1 (TealAppDriver.Rd:269): Warning: <h5> anchor "Arguments" already defined
TealAppDriver.html:476:1 (TealAppDriver.Rd:276): Warning: <h5> anchor "Returns" already defined
TealAppDriver.html:493:1 (TealAppDriver.Rd:285): Warning: <h5> anchor "Usage" already defined
TealAppDriver.html:499:1 (TealAppDriver.Rd:289): Warning: <h5> anchor "Arguments" already defined
TealAppDriver.html:512:1 (TealAppDriver.Rd:296): Warning: <h5> anchor "Returns" already defined
TealAppDriver.html:529:1 (TealAppDriver.Rd:305): Warning: <h5> anchor "Usage" already defined
TealAppDriver.html:535:1 (TealAppDriver.Rd:309): Warning: <h5> anchor "Returns" already defined
TealAppDriver.html:552:1 (TealAppDriver.Rd:318): Warning: <h5> anchor "Usage" already defined
TealAppDriver.html:558:1 (TealAppDriver.Rd:322): Warning: <h5> anchor "Returns" already defined
TealAppDriver.html:575:1 (TealAppDriver.Rd:331): Warning: <h5> anchor "Usage" already defined
TealAppDriver.html:581:1 (TealAppDriver.Rd:335): Warning: <h5> anchor "Arguments" already defined
TealAppDriver.html:594:1 (TealAppDriver.Rd:342): Warning: <h5> anchor "Returns" already defined
TealAppDriver.html:612:1 (TealAppDriver.Rd:352): Warning: <h5> anchor "Usage" already defined
TealAppDriver.html:618:1 (TealAppDriver.Rd:356): Warning: <h5> anchor "Arguments" already defined
TealAppDriver.html:631:1 (TealAppDriver.Rd:363): Warning: <h5> anchor "Returns" already defined
TealAppDriver.html:649:1 (TealAppDriver.Rd:373): Warning: <h5> anchor "Usage" already defined
TealAppDriver.html:655:1 (TealAppDriver.Rd:377): Warning: <h5> anchor "Arguments" already defined
TealAppDriver.html:668:1 (TealAppDriver.Rd:384): Warning: <h5> anchor "Returns" already defined
TealAppDriver.html:686:1 (TealAppDriver.Rd:394): Warning: <h5> anchor "Usage" already defined
TealAppDriver.html:692:1 (TealAppDriver.Rd:398): Warning: <h5> anchor "Arguments" already defined
TealAppDriver.html:708:1 (TealAppDriver.Rd:408): Warning: <h5> anchor "Returns" already defined
TealAppDriver.html:726:1 (TealAppDriver.Rd:418): Warning: <h5> anchor "Usage" already defined
TealAppDriver.html:732:1 (TealAppDriver.Rd:422): Warning: <h5> anchor "Arguments" already defined
TealAppDriver.html:745:1 (TealAppDriver.Rd:429): Warning: <h5> anchor "Returns" already defined
TealAppDriver.html:763:1 (TealAppDriver.Rd:439): Warning: <h5> anchor "Usage" already defined
TealAppDriver.html:769:1 (TealAppDriver.Rd:443): Warning: <h5> anchor "Arguments" already defined
TealAppDriver.html:786:1 (TealAppDriver.Rd:454): Warning: <h5> anchor "Returns" already defined
TealAppDriver.html:803:1 (TealAppDriver.Rd:463): Warning: <h5> anchor "Usage" already defined
TealAppDriver.html:819:1 (TealAppDriver.Rd:473): Warning: <h5> anchor "Usage" already defined
TealAppDriver.html:825:1 (TealAppDriver.Rd:477): Warning: <h5> anchor "Returns" already defined
TealAppDriver.html:842:1 (TealAppDriver.Rd:486): Warning: <h5> anchor "Usage" already defined
TealAppDriver.html:853:1 (TealAppDriver.Rd:495): Warning: <h5> anchor "Arguments" already defined
TealAppDriver.html:870:1 (TealAppDriver.Rd:506): Warning: <h5> anchor "Returns" already defined
TealAppDriver.html:887:1 (TealAppDriver.Rd:515): Warning: <h5> anchor "Usage" already defined
TealAppDriver.html:893:1 (TealAppDriver.Rd:519): Warning: <h5> anchor "Arguments" already defined
TealAppDriver.html:917:1 (TealAppDriver.Rd:533): Warning: <h5> anchor "Usage" already defined
TealAppDriver.html:923:1 (TealAppDriver.Rd:537): Warning: <h5> anchor "Arguments" already defined
TealAppDriver.html:940:1 (TealAppDriver.Rd:548): Warning: <h5> anchor "Returns" already defined
TealAppDriver.html:957:1 (TealAppDriver.Rd:557): Warning: <h5> anchor "Usage" already defined
TealAppDriver.html:963:1 (TealAppDriver.Rd:561): Warning: <h5> anchor "Arguments" already defined
TealAppDriver.html:980:1 (TealAppDriver.Rd:572): Warning: <h5> anchor "Returns" already defined
TealAppDriver.html:997:1 (TealAppDriver.Rd:581): Warning: <h5> anchor "Usage" already defined
TealAppDriver.html:1003:1 (TealAppDriver.Rd:585): Warning: <h5> anchor "Arguments" already defined
TealAppDriver.html:1022:1 (TealAppDriver.Rd:598): Warning: <h5> anchor "Returns" already defined
TealAppDriver.html:1039:1 (TealAppDriver.Rd:607): Warning: <h5> anchor "Usage" already defined
TealAppDriver.html:1045:1 (TealAppDriver.Rd:611): Warning: <h5> anchor "Arguments" already defined
TealAppDriver.html:1060:1 (TealAppDriver.Rd:620): Warning: <h5> anchor "Returns" already defined
TealAppDriver.html:1077:1 (TealAppDriver.Rd:629): Warning: <h5> anchor "Usage" already defined
TealAppDriver.html:1083:1 (TealAppDriver.Rd:633): Warning: <h5> anchor "Arguments" already defined
TealAppDriver.html:1096:1 (TealAppDriver.Rd:640): Warning: <h5> anchor "Returns" already defined
TealAppDriver.html:1112:1 (TealAppDriver.Rd:649): Warning: <h5> anchor "Usage" already defined
TealAppDriver.html:1118:1 (TealAppDriver.Rd:653): Warning: <h5> anchor "Returns" already defined
TealAppDriver.html:1137:1 (TealAppDriver.Rd:664): Warning: <h5> anchor "Usage" already defined
TealAppDriver.html:1148:1 (TealAppDriver.Rd:673): Warning: <h5> anchor "Arguments" already defined
TealReportCard.html:145:1 (TealReportCard.Rd:107): Warning: <h5> anchor "Usage" already defined
TealReportCard.html:151:1 (TealReportCard.Rd:111): Warning: <h5> anchor "Arguments" already defined
TealReportCard.html:164:1 (TealReportCard.Rd:118): Warning: <h5> anchor "Returns" already defined
TealReportCard.html:181:1 (TealReportCard.Rd:127): Warning: <h5> anchor "Usage" already defined
TealReportCard.html:187:1 (TealReportCard.Rd:131): Warning: <h5> anchor "Arguments" already defined
TealReportCard.html:200:1 (TealReportCard.Rd:138): Warning: <h5> anchor "Returns" already defined
TealReportCard.html:207:1 (TealReportCard.Rd:141): Warning: <h5> anchor "Examples" already defined
TealReportCard.html:228:1 (TealReportCard.Rd:157): Warning: <h5> anchor "Usage" already defined
TealReportCard.html:234:1 (TealReportCard.Rd:161): Warning: <h5> anchor "Arguments" already defined
TealSlicesBlock.html:128:1 (TealSlicesBlock.Rd:89): Warning: <h5> anchor "Usage" already defined
TealSlicesBlock.html:134:1 (TealSlicesBlock.Rd:93): Warning: <h5> anchor "Arguments" already defined
TealSlicesBlock.html:147:1 (TealSlicesBlock.Rd:100): Warning: <h5> anchor "Returns" already defined
TealSlicesBlock.html:164:1 (TealSlicesBlock.Rd:109): Warning: <h5> anchor "Usage" already defined
TealSlicesBlock.html:170:1 (TealSlicesBlock.Rd:113): Warning: <h5> anchor "Arguments" already defined
TealSlicesBlock.html:184:1 (TealSlicesBlock.Rd:121): Warning: <h5> anchor "Returns" already defined
TealSlicesBlock.html:213:1 (TealSlicesBlock.Rd:141): Warning: <h5> anchor "Usage" already defined
TealSlicesBlock.html:219:1 (TealSlicesBlock.Rd:145): Warning: <h5> anchor "Returns" already defined
TealSlicesBlock.html:226:1 (TealSlicesBlock.Rd:148): Warning: <h5> anchor "Examples" already defined
TealSlicesBlock.html:248:1 (TealSlicesBlock.Rd:165): Warning: <h5> anchor "Usage" already defined
TealSlicesBlock.html:254:1 (TealSlicesBlock.Rd:169): Warning: <h5> anchor "Arguments" already defined
dot-get_reporter_options.html:48:1 (dot-get_reporter_options.Rd:11): Warning: missing </ul> before </div>
dot-smart_rbind.html:46:1 (dot-smart_rbind.Rd:10): Warning: missing </ul> before </div>
teal_extend_server.html:55:1 (teal_extend_server.Rd:15): Warning: missing </ul> before </div>
validate_app_title_tag.html:46:1 (validate_app_title_tag.Rd:10): Warning: missing </ul> before </div>
- checking for non-standard things in the check directory ... OK
- DONE
Status: 1 NOTE