- using R Under development (unstable) (2025-10-19 r88945)
- using platform: x86_64-pc-linux-gnu
- R was compiled by
Debian clang version 19.1.7 (7)
Debian flang-new version 19.1.7 (7)
- running under: Debian GNU/Linux forky/sid
- using session charset: UTF-8
- checking for file ‘sysfonts/DESCRIPTION’ ... OK
- checking extension type ... Package
- this is package ‘sysfonts’ version ‘0.8.9’
- package encoding: UTF-8
- checking CRAN incoming feasibility ... [0s/1s] NOTE
Maintainer: ‘Yixuan Qiu <yixuan.qiu@cos.name>’
No Authors@R field in DESCRIPTION.
Please add one, modifying
Authors@R: c(person(given = "Yixuan",
family = "Qiu",
role = c("aut", "cre"),
email = "yixuan.qiu@cos.name"),
person(given = c("authors/contributors", "of", "the", "included", "fonts.", "See", "file", "AUTHORS", "for"),
family = "details.",
role = "aut"))
as necessary.
- checking package namespace information ... OK
- checking package dependencies ... OK
- checking if this is a source package ... OK
- checking if there is a namespace ... OK
- checking for executable files ... OK
- checking for hidden files and directories ... OK
- checking for portable file names ... OK
- checking for sufficient/correct file permissions ... OK
- checking serialization versions ... OK
- checking whether package ‘sysfonts’ can be installed ... OK
See the install log for details.
- used C compiler: ‘Debian clang version 19.1.7 (7)’
- checking package directory ... OK
- checking for future file timestamps ... OK
- checking DESCRIPTION meta-information ... OK
- checking top-level files ... NOTE
Found the following validation problem for the NEWS.Rd HTML conversion:
NEWS.html:468:1 (inst/NEWS.Rd:239): Warning: missing </ul> before </div>
NEWS.html:52:1 (inst/NEWS.Rd:19): Warning: <h4> anchor "BUG-FIXES" already defined
NEWS.html:71:1 (inst/NEWS.Rd:29): Warning: <h4> anchor "NEW-FEATURES" already defined
NEWS.html:82:1 (inst/NEWS.Rd:34): Warning: <h4> anchor "BUG-FIXES" already defined
NEWS.html:101:1 (inst/NEWS.Rd:44): Warning: <h4> anchor "BUG-FIXES" already defined
NEWS.html:116:1 (inst/NEWS.Rd:52): Warning: <h4> anchor "BUG-FIXES" already defined
NEWS.html:134:1 (inst/NEWS.Rd:61): Warning: <h4> anchor "NEW-FEATURES" already defined
NEWS.html:145:1 (inst/NEWS.Rd:66): Warning: <h4> anchor "BUG-FIXES" already defined
NEWS.html:161:1 (inst/NEWS.Rd:75): Warning: <h4> anchor "BUG-FIXES" already defined
NEWS.html:177:1 (inst/NEWS.Rd:84): Warning: <h4> anchor "NEW-FEATURES" already defined
NEWS.html:196:1 (inst/NEWS.Rd:94): Warning: <h4> anchor "NEW-FEATURES" already defined
NEWS.html:207:1 (inst/NEWS.Rd:99): Warning: <h4> anchor "BUG-FIXES" already defined
NEWS.html:222:1 (inst/NEWS.Rd:107): Warning: <h4> anchor "NEW-FEATURES" already defined
NEWS.html:244:1 (inst/NEWS.Rd:120): Warning: <h4> anchor "NEW-FEATURES" already defined
NEWS.html:272:1 (inst/NEWS.Rd:137): Warning: <h4> anchor "NEW-FEATURES" already defined
NEWS.html:283:1 (inst/NEWS.Rd:142): Warning: <h4> anchor "BUG-FIXES" already defined
NEWS.html:298:1 (inst/NEWS.Rd:150): Warning: <h4> anchor "BUG-FIXES" already defined
NEWS.html:330:1 (inst/NEWS.Rd:168): Warning: <h4> anchor "NEW-FEATURES" already defined
NEWS.html:348:1 (inst/NEWS.Rd:179): Warning: <h4> anchor "NEW-FEATURES" already defined
NEWS.html:371:1 (inst/NEWS.Rd:190): Warning: <h4> anchor "BUG-FIXES" already defined
NEWS.html:389:1 (inst/NEWS.Rd:200): Warning: <h4> anchor "BUG-FIXES" already defined
NEWS.html:404:1 (inst/NEWS.Rd:208): Warning: <h4> anchor "BUG-FIXES" already defined
NEWS.html:420:1 (inst/NEWS.Rd:217): Warning: <h4> anchor "NEW-FEATURES" already defined
NEWS.html:438:1 (inst/NEWS.Rd:226): Warning: <h4> anchor "NEW-FEATURES" already defined
NEWS.html:454:1 (inst/NEWS.Rd:235): Warning: <h4> anchor "NEW-FEATURES" already defined
- checking for left-over files ... OK
- checking index information ... OK
- checking package subdirectories ... OK
- checking code files for non-ASCII characters ... OK
- checking R files for syntax errors ... OK
- checking whether the package can be loaded ... [0s/0s] OK
- checking whether the package can be loaded with stated dependencies ... [0s/0s] OK
- checking whether the package can be unloaded cleanly ... [0s/0s] OK
- checking whether the namespace can be loaded with stated dependencies ... [0s/0s] OK
- checking whether the namespace can be unloaded cleanly ... [0s/0s] OK
- checking loading without being on the library search path ... [0s/0s] OK
- checking whether startup messages can be suppressed ... [0s/0s] OK
- checking use of S3 registration ... OK
- checking dependencies in R code ... OK
- checking S3 generic/method consistency ... OK
- checking replacement functions ... OK
- checking foreign function calls ... OK
- checking R code for possible problems ... [4s/6s] OK
- checking Rd files ... [0s/1s] OK
- checking Rd metadata ... OK
- checking Rd line widths ... OK
- checking Rd cross-references ... OK
- checking for missing documentation entries ... OK
- checking for code/documentation mismatches ... OK
- checking Rd \usage sections ... OK
- checking Rd contents ... OK
- checking for unstated dependencies in examples ... OK
- checking line endings in shell scripts ... OK
- checking line endings in C/C++/Fortran sources/headers ... OK
- checking line endings in Makefiles ... OK
- checking compilation flags in Makevars ... OK
- checking for GNU extensions in Makefiles ... OK
- checking for portable use of $(BLAS_LIBS) and $(LAPACK_LIBS) ... OK
- checking use of PKG_*FLAGS in Makefiles ... OK
- checking use of SHLIB_OPENMP_*FLAGS in Makefiles ... OK
- checking pragmas in C/C++ headers and code ... OK
- checking compilation flags used ... OK
- checking compiled code ... OK
- checking examples ... [0s/1s] OK
- checking PDF version of manual ... [5s/8s] OK
- checking HTML version of manual ... [0s/1s] OK
- checking for non-standard things in the check directory ... OK
- DONE
Status: 2 NOTEs