- using R Under development (unstable) (2025-10-19 r88945)
- using platform: x86_64-pc-linux-gnu
- R was compiled by
Debian clang version 19.1.7 (7)
Debian flang-new version 19.1.7 (7)
- running under: Debian GNU/Linux forky/sid
- using session charset: UTF-8
- checking for file ‘sftrack/DESCRIPTION’ ... OK
- this is package ‘sftrack’ version ‘0.5.4’
- package encoding: UTF-8
- checking CRAN incoming feasibility ... [1s/2s] OK
- checking package namespace information ... OK
- checking package dependencies ... OK
- checking if this is a source package ... OK
- checking if there is a namespace ... OK
- checking for executable files ... OK
- checking for hidden files and directories ... OK
- checking for portable file names ... OK
- checking for sufficient/correct file permissions ... OK
- checking serialization versions ... OK
- checking whether package ‘sftrack’ can be installed ... OK
See the install log for details.
- checking package directory ... OK
- checking for future file timestamps ... OK
- checking ‘build’ directory ... OK
- checking DESCRIPTION meta-information ... OK
- checking top-level files ... OK
- checking for left-over files ... OK
- checking index information ... OK
- checking package subdirectories ... OK
- checking code files for non-ASCII characters ... OK
- checking R files for syntax errors ... OK
- checking whether the package can be loaded ... [1s/1s] OK
- checking whether the package can be loaded with stated dependencies ... [1s/1s] OK
- checking whether the package can be unloaded cleanly ... [1s/2s] OK
- checking whether the namespace can be loaded with stated dependencies ... [1s/1s] OK
- checking whether the namespace can be unloaded cleanly ... [1s/1s] OK
- checking loading without being on the library search path ... [1s/1s] OK
- checking use of S3 registration ... OK
- checking dependencies in R code ... OK
- checking S3 generic/method consistency ... OK
- checking replacement functions ... OK
- checking foreign function calls ... OK
- checking R code for possible problems ... [11s/16s] OK
- checking Rd files ... [0s/1s] OK
- checking Rd metadata ... OK
- checking Rd line widths ... OK
- checking Rd cross-references ... OK
- checking for missing documentation entries ... OK
- checking for code/documentation mismatches ... OK
- checking Rd \usage sections ... OK
- checking Rd contents ... OK
- checking for unstated dependencies in examples ... OK
- checking contents of ‘data’ directory ... OK
- checking data for non-ASCII characters ... [0s/1s] OK
- checking LazyData ... OK
- checking data for ASCII and uncompressed saves ... OK
- checking installed files from ‘inst/doc’ ... OK
- checking files in ‘vignettes’ ... OK
- checking examples ... [6s/8s] OK
- checking for unstated dependencies in ‘tests’ ... OK
- checking tests ... [3s/5s] OK
Running ‘testthat.R’ [3s/4s]
- checking for unstated dependencies in vignettes ... OK
- checking package vignettes ... OK
- checking re-building of vignette outputs ... [28s/41s] OK
- checking PDF version of manual ... [6s/8s] OK
- checking HTML version of manual ... [1s/2s] NOTE
Found the following HTML validation problems:
Print_sftrack_objects.html:59:1 (Print_sftrack_objects.Rd:17): Warning: missing </ul> before </div>
Print_sftraj_objects.html:59:1 (Print_sftraj_objects.Rd:17): Warning: missing </ul> before </div>
active_group_replace.html:59:1 (active_group_replace.Rd:22): Warning: missing </ul> before </div>
calc_sort_index.html:50:1 (calc_sort_index.Rd:12): Warning: missing </ul> before </div>
check_NA_coords.html:46:1 (check_NA_coords.Rd:10): Warning: missing </ul> before </div>
check_NA_group.html:46:1 (check_NA_group.Rd:10): Warning: missing </ul> before </div>
check_group_id.html:46:1 (check_group_id.Rd:10): Warning: missing </ul> before </div>
check_group_names.html:46:1 (check_group_names.Rd:10): Warning: missing </ul> before </div>
check_names_exist.html:50:1 (check_names_exist.Rd:12): Warning: missing </ul> before </div>
check_ordered.html:54:1 (check_ordered.Rd:14): Warning: missing </ul> before </div>
check_t_regular.html:46:1 (check_t_regular.Rd:10): Warning: missing </ul> before </div>
check_time.html:46:1 (check_time.Rd:10): Warning: missing </ul> before </div>
dup_timestamp.html:50:1 (dup_timestamp.Rd:12): Warning: missing </ul> before </div>
group_labels.html:55:1 (group_labels.Rd:19): Warning: missing </ul> before </div>
group_name.html:55:1 (group_name.Rd:20): Warning: missing </ul> before </div>
is_linestring.html:50:1 (is_linestring.Rd:10): Warning: missing </ul> before </div>
merge_traj.html:46:1 (merge_traj.Rd:10): Warning: missing </ul> before </div>
new_sftrack.html:62:1 (new_sftrack.Rd:18): Warning: missing </ul> before </div>
new_sftraj.html:62:1 (new_sftraj.Rd:18): Warning: missing </ul> before </div>
step_recalc.html:51:1 (step_recalc.Rd:12): Warning: missing </ul> before </div>
summary_sftrack.html:46:1 (summary_sftrack.Rd:10): Warning: missing </ul> before </div>
which_duplicated.html:54:1 (which_duplicated.Rd:14): Warning: missing </ul> before </div>
- checking for non-standard things in the check directory ... OK
- DONE
Status: 1 NOTE