- using R Under development (unstable) (2023-09-26 r85226)
- using platform: x86_64-pc-linux-gnu
- R was compiled by
Debian clang version 16.0.6 (15)
GNU Fortran (Debian 13.2.0-4) 13.2.0
- running under: Debian GNU/Linux trixie/sid
- using session charset: UTF-8
- checking for file ‘sampleSelection/DESCRIPTION’ ... OK
- this is package ‘sampleSelection’ version ‘1.2-12’
- checking package namespace information ... OK
- checking package dependencies ... OK
- checking if this is a source package ... OK
- checking if there is a namespace ... OK
- checking for executable files ... OK
- checking for hidden files and directories ... OK
- checking for portable file names ... OK
- checking for sufficient/correct file permissions ... OK
- checking serialization versions ... OK
- checking whether package ‘sampleSelection’ can be installed ... OK
See the install log for details.
- checking package directory ... OK
- checking for future file timestamps ... OK
- checking ‘build’ directory ... OK
- checking DESCRIPTION meta-information ... OK
- checking top-level files ... OK
- checking for left-over files ... OK
- checking index information ... OK
- checking package subdirectories ... OK
- checking R files for non-ASCII characters ... OK
- checking R files for syntax errors ... OK
- checking whether the package can be loaded ... [3s/4s] OK
- checking whether the package can be loaded with stated dependencies ... [3s/4s] OK
- checking whether the package can be unloaded cleanly ... [3s/4s] OK
- checking whether the namespace can be loaded with stated dependencies ... [3s/4s] OK
- checking whether the namespace can be unloaded cleanly ... [3s/4s] OK
- checking loading without being on the library search path ... [3s/4s] OK
- checking use of S3 registration ... OK
- checking dependencies in R code ... OK
- checking S3 generic/method consistency ... OK
- checking replacement functions ... OK
- checking foreign function calls ... OK
- checking R code for possible problems ... [36s/42s] OK
- checking Rd files ... [1s/1s] OK
- checking Rd metadata ... OK
- checking Rd line widths ... OK
- checking Rd cross-references ... OK
- checking for missing documentation entries ... OK
- checking for code/documentation mismatches ... OK
- checking Rd \usage sections ... OK
- checking Rd contents ... OK
- checking for unstated dependencies in examples ... OK
- checking contents of ‘data’ directory ... OK
- checking data for non-ASCII characters ... [1s/1s] OK
- checking data for ASCII and uncompressed saves ... OK
- checking sizes of PDF files under ‘inst/doc’ ... OK
- checking installed files from ‘inst/doc’ ... OK
- checking files in ‘vignettes’ ... OK
- checking examples ... [22s/26s] OK
Examples with CPU (user + system) or elapsed time > 5s
user system elapsed
invMillsRatio 5.721 0.004 6.344
Smoke 5.595 0.004 7.107
selection 4.807 0.028 5.792
- checking for unstated dependencies in ‘tests’ ... OK
- checking tests ... [112s/133s] OK
Running ‘Mroz87SelectionTest.R’ [7s/9s]
Comparing ‘Mroz87SelectionTest.Rout’ to ‘Mroz87SelectionTest.Rout.save’ ... OK
Running ‘binarySelectionOutcome.R’ [19s/22s]
Comparing ‘binarySelectionOutcome.Rout’ to ‘binarySelectionOutcome.Rout.save’ ... OK
Running ‘fail.R’ [3s/4s]
Comparing ‘fail.Rout’ to ‘fail.Rout.save’ ... OK
Running ‘heckitIvTest.R’ [4s/5s]
Comparing ‘heckitIvTest.Rout’ to ‘heckitIvTest.Rout.save’ ... OK
Running ‘intervalTest.R’ [23s/27s]
Comparing ‘intervalTest.Rout’ to ‘intervalTest.Rout.save’ ... OK
Running ‘invMillsRatioTest.R’ [28s/32s]
Comparing ‘invMillsRatioTest.Rout’ to ‘invMillsRatioTest.Rout.save’ ... OK
Running ‘probit.R’ [5s/6s]
Comparing ‘probit.Rout’ to ‘probit.Rout.save’ ... OK
Running ‘selection.R’ [22s/25s]
Comparing ‘selection.Rout’ to ‘selection.Rout.save’ ... OK
- checking for unstated dependencies in vignettes ... OK
- checking package vignettes in ‘inst/doc’ ... OK
- checking re-building of vignette outputs ... [156s/190s] OK
- checking PDF version of manual ... [7s/10s] OK
- checking HTML version of manual ... [3s/4s] OK
- checking for non-standard things in the check directory ... OK
- DONE
Status: OK