- using R Under development (unstable) (2025-06-27 r88363)
- using platform: x86_64-pc-linux-gnu
- R was compiled by
Debian clang version 19.1.7 (3+b1)
Debian flang-new version 19.1.7 (3+b1)
- running under: Debian GNU/Linux 13 (trixie)
- using session charset: UTF-8
- checking for file ‘rticles/DESCRIPTION’ ... OK
- checking extension type ... Package
- this is package ‘rticles’ version ‘0.27’
- package encoding: UTF-8
- checking CRAN incoming feasibility ... [1s/1s] OK
- checking package namespace information ... OK
- checking package dependencies ... OK
- checking if this is a source package ... OK
- checking if there is a namespace ... OK
- checking for executable files ... OK
- checking for hidden files and directories ... OK
- checking for portable file names ... OK
- checking for sufficient/correct file permissions ... OK
- checking serialization versions ... OK
- checking whether package ‘rticles’ can be installed ... OK
See the install log for details.
- checking package directory ... OK
- checking for future file timestamps ... OK
- checking DESCRIPTION meta-information ... NOTE
Author field differs from that derived from Authors@R
Author: ‘JJ Allaire [aut], Yihui Xie [aut] (<https://orcid.org/0000-0003-0645-5666>), Christophe Dervieux [aut, cre] (<https://orcid.org/0000-0003-4474-2498>), Posit Software, PBC [cph, fnd], R Foundation [aut, cph], Hadley Wickham [aut], Journal of Statistical Software [aut, cph], Ramnath Vaidyanathan [aut, cph], Association for Computing Machinery [aut, cph], Carl Boettiger [aut, cph], Elsevier [aut, cph], Karl Broman [aut, cph], Kirill Mueller [aut, cph], Bastiaan Quast [aut, cph], Randall Pruim [aut, cph], Ben Marwick [aut, cph], Charlotte Wickham [aut, cph], Oliver Keyes [aut, cph], Miao Yu [aut, cph], Daniel Emaasit [aut, cph], Thierry Onkelinx [aut, cph], Alessandro Gasparini [aut, cph] (<https://orcid.org/0000-0002-8319-7624>), Marc-Andre Desautels [aut, cph], Dominik Leutnant [aut, cph] (<https://orcid.org/0000-0003-3293-2315>), MDPI [aut, cph], Taylor and Francis [aut, cph], Oğuzhan Öğreden [aut] (<https://orcid.org/0000-0002-9949-3348>), Dalton Hance [aut], Daniel Nüst [aut, cph] (<https://orcid.org/0000-0002-0024-5046>), Petter Uvesten [aut, cph], Elio Campitelli [aut, cph] (<https://orcid.org/0000-0002-7742-9230>), John Muschelli [aut, cph] (<https://orcid.org/0000-0001-6469-1750>), Alex Hayes [aut] (<https://orcid.org/0000-0002-4985-5160>), Zhian N. Kamvar [aut, cph] (<https://orcid.org/0000-0003-1458-7108>), Noam Ross [aut, cph] (<https://orcid.org/0000-0002-2136-0000>), Robrecht Cannoodt [aut, cph] (<https://orcid.org/0000-0003-3641-729X>, rcannood), Duncan Luguern [aut], David M. Kaplan [aut, ctb] (<https://orcid.org/0000-0001-6087-359X>, dmkaplan2000), Sebastian Kreutzer [aut] (<https://orcid.org/0000-0002-0734-2199>), Shixiang Wang [aut, ctb] (<https://orcid.org/0000-0001-9855-7357>), Jay Hesselberth [aut, ctb] (<https://orcid.org/0000-0002-6299-179X>), Alfredo Hernández [ctb] (<https://orcid.org/0000-0002-2660-4545>), Stefano Coretta [ctb] (<https://orcid.org/0000-0001-9627-5532>, stefanocoretta), Greg Macfarlane [ctb] (gregmacfarlane), Matthias Templ [ctb] (<https://orcid.org/0000-0002-8638-5276>, matthias-da), Alvaro Uzaheta [ctb] (auzaheta), JooYoung Seo [ctb] (<https://orcid.org/0000-0002-4064-6012>), Callum Arnold [ctb] (arnold-c), Rob Hyndman [aut] (<https://orcid.org/0000-0002-2140-5352>), Dmytro Perepolkin [ctb] (<https://orcid.org/0000-0001-8558-6183>, dmi3kno), Tom Palmer [ctb] (<https://orcid.org/0000-0003-4655-4511>, remlapmot)’
Authors@R: ‘JJ Allaire [aut], Yihui Xie [aut] (ORCID: <https://orcid.org/0000-0003-0645-5666>), Christophe Dervieux [aut, cre] (ORCID: <https://orcid.org/0000-0003-4474-2498>), Posit Software, PBC [cph, fnd], R Foundation [aut, cph], Hadley Wickham [aut], Journal of Statistical Software [aut, cph], Ramnath Vaidyanathan [aut, cph], Association for Computing Machinery [aut, cph], Carl Boettiger [aut, cph], Elsevier [aut, cph], Karl Broman [aut, cph], Kirill Mueller [aut, cph], Bastiaan Quast [aut, cph], Randall Pruim [aut, cph], Ben Marwick [aut, cph], Charlotte Wickham [aut, cph], Oliver Keyes [aut, cph], Miao Yu [aut, cph], Daniel Emaasit [aut, cph], Thierry Onkelinx [aut, cph], Alessandro Gasparini [aut, cph] (ORCID: <https://orcid.org/0000-0002-8319-7624>), Marc-Andre Desautels [aut, cph], Dominik Leutnant [aut, cph] (ORCID: <https://orcid.org/0000-0003-3293-2315>), MDPI [aut, cph], Taylor and Francis [aut, cph], Oğuzhan Öğreden [aut] (ORCID: <https://orcid.org/0000-0002-9949-3348>), Dalton Hance [aut], Daniel Nüst [aut, cph] (ORCID: <https://orcid.org/0000-0002-0024-5046>), Petter Uvesten [aut, cph], Elio Campitelli [aut, cph] (ORCID: <https://orcid.org/0000-0002-7742-9230>), John Muschelli [aut, cph] (ORCID: <https://orcid.org/0000-0001-6469-1750>), Alex Hayes [aut] (ORCID: <https://orcid.org/0000-0002-4985-5160>), Zhian N. Kamvar [aut, cph] (ORCID: <https://orcid.org/0000-0003-1458-7108>), Noam Ross [aut, cph] (ORCID: <https://orcid.org/0000-0002-2136-0000>), Robrecht Cannoodt [aut, cph] (ORCID: <https://orcid.org/0000-0003-3641-729X>, github: rcannood), Duncan Luguern [aut], David M. Kaplan [aut, ctb] (ORCID: <https://orcid.org/0000-0001-6087-359X>, github: dmkaplan2000), Sebastian Kreutzer [aut] (ORCID: <https://orcid.org/0000-0002-0734-2199>), Shixiang Wang [aut, ctb] (ORCID: <https://orcid.org/0000-0001-9855-7357>), Jay Hesselberth [aut, ctb] (ORCID: <https://orcid.org/0000-0002-6299-179X>), Alfredo Hernández [ctb] (ORCID: <https://orcid.org/0000-0002-2660-4545>), Stefano Coretta [ctb] (ORCID: <https://orcid.org/0000-0001-9627-5532>, github: stefanocoretta), Greg Macfarlane [ctb] (github: gregmacfarlane), Matthias Templ [ctb] (ORCID: <https://orcid.org/0000-0002-8638-5276>, github: matthias-da), Alvaro Uzaheta [ctb] (github: auzaheta), JooYoung Seo [ctb] (ORCID: <https://orcid.org/0000-0002-4064-6012>), Callum Arnold [ctb] (github: arnold-c), Rob Hyndman [aut] (ORCID: <https://orcid.org/0000-0002-2140-5352>), Dmytro Perepolkin [ctb] (ORCID: <https://orcid.org/0000-0001-8558-6183>, github: dmi3kno), Tom Palmer [ctb] (ORCID: <https://orcid.org/0000-0003-4655-4511>, github: remlapmot)’
- checking top-level files ... OK
- checking for left-over files ... OK
- checking index information ... OK
- checking package subdirectories ... OK
- checking code files for non-ASCII characters ... OK
- checking R files for syntax errors ... OK
- checking whether the package can be loaded ... [1s/1s] OK
- checking whether the package can be loaded with stated dependencies ... [0s/1s] OK
- checking whether the package can be unloaded cleanly ... [0s/1s] OK
- checking whether the namespace can be loaded with stated dependencies ... [0s/1s] OK
- checking whether the namespace can be unloaded cleanly ... [1s/1s] OK
- checking loading without being on the library search path ... [1s/1s] OK
- checking use of S3 registration ... OK
- checking dependencies in R code ... OK
- checking S3 generic/method consistency ... OK
- checking replacement functions ... OK
- checking foreign function calls ... OK
- checking R code for possible problems ... [6s/8s] OK
- checking Rd files ... [1s/1s] OK
- checking Rd metadata ... OK
- checking Rd line widths ... OK
- checking Rd cross-references ... OK
- checking for missing documentation entries ... OK
- checking for code/documentation mismatches ... OK
- checking Rd \usage sections ... OK
- checking Rd contents ... OK
- checking for unstated dependencies in examples ... OK
- checking line endings in Makefiles ... OK
- checking for GNU extensions in Makefiles ... INFO
GNU make is a SystemRequirements.
- checking include directives in Makefiles ... OK
- checking examples ... [1s/1s] OK
- checking for unstated dependencies in ‘tests’ ... OK
- checking tests ... [2s/3s] OK
Running ‘test-all.R’ [1s/1s]
Running ‘testthat.R’ [2s/2s]
- checking PDF version of manual ... [5s/7s] OK
- checking HTML version of manual ... [1s/2s] OK
- checking for non-standard things in the check directory ... OK
- DONE
Status: 1 NOTE