- using R Under development (unstable) (2025-10-19 r88945)
- using platform: x86_64-pc-linux-gnu
- R was compiled by
Debian clang version 19.1.7 (7)
Debian flang-new version 19.1.7 (7)
- running under: Debian GNU/Linux forky/sid
- using session charset: UTF-8
- checking for file ‘routr/DESCRIPTION’ ... OK
- checking extension type ... Package
- this is package ‘routr’ version ‘1.0.0’
- package encoding: UTF-8
- checking CRAN incoming feasibility ... [1s/2s] OK
- checking package namespace information ... OK
- checking package dependencies ... OK
- checking if this is a source package ... OK
- checking if there is a namespace ... OK
- checking for executable files ... OK
- checking for hidden files and directories ... OK
- checking for portable file names ... OK
- checking for sufficient/correct file permissions ... OK
- checking whether package ‘routr’ can be installed ... OK
See the install log for details.
- checking package directory ... OK
- checking for future file timestamps ... OK
- checking DESCRIPTION meta-information ... OK
- checking top-level files ... OK
- checking for left-over files ... OK
- checking index information ... OK
- checking package subdirectories ... OK
- checking code files for non-ASCII characters ... OK
- checking R files for syntax errors ... OK
- checking whether the package can be loaded ... [1s/1s] OK
- checking whether the package can be loaded with stated dependencies ... [1s/1s] OK
- checking whether the package can be unloaded cleanly ... [1s/1s] OK
- checking whether the namespace can be loaded with stated dependencies ... [1s/1s] OK
- checking whether the namespace can be unloaded cleanly ... [1s/1s] OK
- checking loading without being on the library search path ... [1s/1s] OK
- checking use of S3 registration ... OK
- checking dependencies in R code ... OK
- checking S3 generic/method consistency ... OK
- checking replacement functions ... OK
- checking foreign function calls ... OK
- checking R code for possible problems ... [8s/11s] OK
- checking Rd files ... [1s/1s] OK
- checking Rd metadata ... OK
- checking Rd line widths ... OK
- checking Rd cross-references ... OK
- checking for missing documentation entries ... OK
- checking for code/documentation mismatches ... OK
- checking Rd \usage sections ... OK
- checking Rd contents ... OK
- checking for unstated dependencies in examples ... OK
- checking examples ... [2s/3s] OK
- checking for unstated dependencies in ‘tests’ ... OK
- checking tests ... [11s/13s] OK
Running ‘testthat.R’ [11s/13s]
- checking PDF version of manual ... [6s/9s] OK
- checking HTML version of manual ... [2s/2s] NOTE
Found the following HTML validation problems:
AssetRoute.html:239:1 (AssetRoute.Rd:149): Warning: missing </ul> before </div>
AssetRoute.html:151:1 (AssetRoute.Rd:97): Warning: <h5> anchor "Usage" already defined
AssetRoute.html:157:1 (AssetRoute.Rd:101): Warning: <h5> anchor "Arguments" already defined
AssetRoute.html:183:1 (AssetRoute.Rd:117): Warning: <h5> anchor "Usage" already defined
AssetRoute.html:189:1 (AssetRoute.Rd:121): Warning: <h5> anchor "Arguments" already defined
AssetRoute.html:216:1 (AssetRoute.Rd:138): Warning: <h5> anchor "Usage" already defined
AssetRoute.html:222:1 (AssetRoute.Rd:142): Warning: <h5> anchor "Arguments" already defined
Route-class.html:199:1 (Route-class.Rd:136): Warning: <h5> anchor "Usage" already defined
Route-class.html:205:1 (Route-class.Rd:140): Warning: <h5> anchor "Arguments" already defined
Route-class.html:241:1 (Route-class.Rd:166): Warning: <h5> anchor "Usage" already defined
Route-class.html:247:1 (Route-class.Rd:170): Warning: <h5> anchor "Arguments" already defined
Route-class.html:283:1 (Route-class.Rd:196): Warning: <h5> anchor "Usage" already defined
Route-class.html:289:1 (Route-class.Rd:200): Warning: <h5> anchor "Arguments" already defined
Route-class.html:315:1 (Route-class.Rd:216): Warning: <h5> anchor "Usage" already defined
Route-class.html:321:1 (Route-class.Rd:220): Warning: <h5> anchor "Arguments" already defined
Route-class.html:350:1 (Route-class.Rd:239): Warning: <h5> anchor "Usage" already defined
Route-class.html:356:1 (Route-class.Rd:243): Warning: <h5> anchor "Arguments" already defined
Route-class.html:380:1 (Route-class.Rd:257): Warning: <h5> anchor "Usage" already defined
Route-class.html:386:1 (Route-class.Rd:261): Warning: <h5> anchor "Arguments" already defined
Route-class.html:414:1 (Route-class.Rd:279): Warning: <h5> anchor "Usage" already defined
Route-class.html:420:1 (Route-class.Rd:283): Warning: <h5> anchor "Arguments" already defined
Route-class.html:448:1 (Route-class.Rd:301): Warning: <h5> anchor "Usage" already defined
Route-class.html:454:1 (Route-class.Rd:305): Warning: <h5> anchor "Arguments" already defined
Route-class.html:481:1 (Route-class.Rd:322): Warning: <h5> anchor "Usage" already defined
Route-class.html:487:1 (Route-class.Rd:326): Warning: <h5> anchor "Arguments" already defined
RouteStack.html:200:1 (RouteStack.Rd:147): Warning: <h5> anchor "Usage" already defined
RouteStack.html:206:1 (RouteStack.Rd:151): Warning: <h5> anchor "Arguments" already defined
RouteStack.html:232:1 (RouteStack.Rd:167): Warning: <h5> anchor "Usage" already defined
RouteStack.html:238:1 (RouteStack.Rd:171): Warning: <h5> anchor "Arguments" already defined
RouteStack.html:268:1 (RouteStack.Rd:191): Warning: <h5> anchor "Usage" already defined
RouteStack.html:274:1 (RouteStack.Rd:195): Warning: <h5> anchor "Arguments" already defined
RouteStack.html:308:1 (RouteStack.Rd:219): Warning: <h5> anchor "Usage" already defined
RouteStack.html:314:1 (RouteStack.Rd:223): Warning: <h5> anchor "Arguments" already defined
RouteStack.html:337:1 (RouteStack.Rd:236): Warning: <h5> anchor "Usage" already defined
RouteStack.html:343:1 (RouteStack.Rd:240): Warning: <h5> anchor "Arguments" already defined
RouteStack.html:366:1 (RouteStack.Rd:253): Warning: <h5> anchor "Usage" already defined
RouteStack.html:372:1 (RouteStack.Rd:257): Warning: <h5> anchor "Arguments" already defined
RouteStack.html:398:1 (RouteStack.Rd:273): Warning: <h5> anchor "Usage" already defined
RouteStack.html:404:1 (RouteStack.Rd:277): Warning: <h5> anchor "Arguments" already defined
RouteStack.html:430:1 (RouteStack.Rd:293): Warning: <h5> anchor "Usage" already defined
RouteStack.html:436:1 (RouteStack.Rd:297): Warning: <h5> anchor "Arguments" already defined
RouteStack.html:464:1 (RouteStack.Rd:315): Warning: <h5> anchor "Usage" already defined
RouteStack.html:470:1 (RouteStack.Rd:319): Warning: <h5> anchor "Arguments" already defined
RouteStack.html:493:1 (RouteStack.Rd:332): Warning: <h5> anchor "Usage" already defined
RouteStack.html:499:1 (RouteStack.Rd:336): Warning: <h5> anchor "Arguments" already defined
- checking for non-standard things in the check directory ... OK
- DONE
Status: 1 NOTE