- using R Under development (unstable) (2023-12-04 r85659)
- using platform: x86_64-pc-linux-gnu
- R was compiled by
Debian clang version 17.0.5 (1)
Debian flang-new version 17.0.5 (1)
- running under: Debian GNU/Linux trixie/sid
- using session charset: UTF-8
- checking for file ‘roboBayes/DESCRIPTION’ ... OK
- checking extension type ... Package
- this is package ‘roboBayes’ version ‘1.1’
- package encoding: UTF-8
- checking package namespace information ... OK
- checking package dependencies ... OK
- checking if this is a source package ... OK
- checking if there is a namespace ... OK
- checking for executable files ... OK
- checking for hidden files and directories ... OK
- checking for portable file names ... OK
- checking for sufficient/correct file permissions ... OK
- checking whether package ‘roboBayes’ can be installed ... OK
See the install log for details.
- used C++ compiler: ‘Debian clang version 17.0.5 (1)’
- checking C++ specification ... NOTE
Specified C++11: please drop specification unless essential
- checking package directory ... OK
- checking for future file timestamps ... OK
- checking DESCRIPTION meta-information ... OK
- checking top-level files ... OK
- checking for left-over files ... OK
- checking index information ... OK
- checking package subdirectories ... OK
- checking R files for non-ASCII characters ... OK
- checking R files for syntax errors ... OK
- checking whether the package can be loaded ... [1s/1s] OK
- checking whether the package can be loaded with stated dependencies ... [0s/1s] OK
- checking whether the package can be unloaded cleanly ... [0s/0s] OK
- checking whether the namespace can be loaded with stated dependencies ... [0s/1s] OK
- checking whether the namespace can be unloaded cleanly ... [1s/1s] OK
- checking loading without being on the library search path ... [1s/1s] OK
- checking use of S3 registration ... OK
- checking dependencies in R code ... OK
- checking S3 generic/method consistency ... OK
- checking replacement functions ... OK
- checking foreign function calls ... OK
- checking R code for possible problems ... [6s/7s] OK
- checking Rd files ... [0s/1s] NOTE
checkRd: (-1) roboBayes.Rd:62-63: Lost braces in \itemize; meant \describe ?
checkRd: (-1) roboBayes.Rd:65-67: Lost braces in \itemize; meant \describe ?
checkRd: (-1) roboBayes.Rd:69-70: Lost braces in \itemize; meant \describe ?
checkRd: (-1) roboBayes.Rd:72-73: Lost braces in \itemize; meant \describe ?
checkRd: (-1) roboBayes.Rd:140-141: Lost braces in \itemize; \value handles \item{}{} directly
checkRd: (-1) roboBayes.Rd:142-143: Lost braces in \itemize; \value handles \item{}{} directly
checkRd: (-1) roboBayes.Rd:144-145: Lost braces in \itemize; \value handles \item{}{} directly
checkRd: (-1) roboBayes.Rd:146-147: Lost braces in \itemize; \value handles \item{}{} directly
checkRd: (-1) roboBayes.Rd:148-153: Lost braces in \itemize; \value handles \item{}{} directly
checkRd: (-1) roboBayes.Rd:154-155: Lost braces in \itemize; \value handles \item{}{} directly
checkRd: (-1) roboBayes.Rd:156-158: Lost braces in \itemize; \value handles \item{}{} directly
checkRd: (-1) roboBayes.Rd:159: Lost braces in \itemize; \value handles \item{}{} directly
checkRd: (-1) roboBayes.Rd:160-161: Lost braces in \itemize; \value handles \item{}{} directly
checkRd: (-1) roboBayes.Rd:162: Lost braces in \itemize; \value handles \item{}{} directly
checkRd: (-1) roboBayes.Rd:163: Lost braces in \itemize; \value handles \item{}{} directly
checkRd: (-1) roboBayes.Rd:164: Lost braces in \itemize; \value handles \item{}{} directly
checkRd: (-1) roboBayes.Rd:165: Lost braces in \itemize; \value handles \item{}{} directly
checkRd: (-1) roboBayes.Rd:171-172: Lost braces in \itemize; \value handles \item{}{} directly
checkRd: (-1) roboBayes.Rd:176-177: Lost braces in \itemize; \value handles \item{}{} directly
checkRd: (-1) roboBayes.Rd:178-179: Lost braces in \itemize; \value handles \item{}{} directly
checkRd: (-1) roboBayes.Rd:180-181: Lost braces in \itemize; \value handles \item{}{} directly
checkRd: (-1) roboBayes.Rd:182-183: Lost braces in \itemize; \value handles \item{}{} directly
checkRd: (-1) roboBayes.Rd:187-188: Lost braces in \itemize; \value handles \item{}{} directly
checkRd: (-1) roboBayes.Rd:189-190: Lost braces in \itemize; \value handles \item{}{} directly
checkRd: (-1) roboBayes.Rd:191-192: Lost braces in \itemize; \value handles \item{}{} directly
checkRd: (-1) roboBayes.Rd:193-195: Lost braces in \itemize; \value handles \item{}{} directly
checkRd: (-1) roboBayes.Rd:196-197: Lost braces in \itemize; \value handles \item{}{} directly
- checking Rd metadata ... OK
- checking Rd line widths ... OK
- checking Rd cross-references ... OK
- checking for missing documentation entries ... OK
- checking for code/documentation mismatches ... OK
- checking Rd \usage sections ... OK
- checking Rd contents ... OK
- checking for unstated dependencies in examples ... OK
- checking line endings in C/C++/Fortran sources/headers ... OK
- checking line endings in Makefiles ... OK
- checking compilation flags in Makevars ... OK
- checking for GNU extensions in Makefiles ... OK
- checking for portable use of $(BLAS_LIBS) and $(LAPACK_LIBS) ... OK
- checking use of PKG_*FLAGS in Makefiles ... OK
- checking use of SHLIB_OPENMP_*FLAGS in Makefiles ... OK
- checking pragmas in C/C++ headers and code ... OK
- checking compilation flags used ... OK
- checking compiled code ... OK
- checking examples ... [1s/1s] OK
- checking PDF version of manual ... [5s/7s] OK
- checking HTML version of manual ... [0s/0s] OK
- checking for non-standard things in the check directory ... OK
- DONE
Status: 2 NOTEs