- using R Under development (unstable) (2025-06-25 r88360)
- using platform: x86_64-pc-linux-gnu
- R was compiled by
Debian clang version 19.1.7 (3+b1)
Debian flang-new version 19.1.7 (3+b1)
- running under: Debian GNU/Linux 13 (trixie)
- using session charset: UTF-8
- checking for file ‘rmarkdown/DESCRIPTION’ ... OK
- checking extension type ... Package
- this is package ‘rmarkdown’ version ‘2.29’
- package encoding: UTF-8
- checking CRAN incoming feasibility ... [2s/4s] OK
- checking package namespace information ... OK
- checking package dependencies ... OK
- checking if this is a source package ... OK
- checking if there is a namespace ... OK
- checking for executable files ... OK
- checking for hidden files and directories ... OK
- checking for portable file names ... OK
- checking for sufficient/correct file permissions ... OK
- checking serialization versions ... OK
- checking whether package ‘rmarkdown’ can be installed ... OK
See the install log for details.
- checking package directory ... OK
- checking for future file timestamps ... OK
- checking ‘build’ directory ... OK
- checking DESCRIPTION meta-information ... NOTE
Author field differs from that derived from Authors@R
Author: ‘JJ Allaire [aut], Yihui Xie [aut, cre] (<https://orcid.org/0000-0003-0645-5666>), Christophe Dervieux [aut] (<https://orcid.org/0000-0003-4474-2498>), Jonathan McPherson [aut], Javier Luraschi [aut], Kevin Ushey [aut], Aron Atkins [aut], Hadley Wickham [aut], Joe Cheng [aut], Winston Chang [aut], Richard Iannone [aut] (<https://orcid.org/0000-0003-3925-190X>), Andrew Dunning [ctb] (<https://orcid.org/0000-0003-0464-5036>), Atsushi Yasumoto [ctb, cph] (<https://orcid.org/0000-0002-8335-495X>, Number sections Lua filter), Barret Schloerke [ctb], Carson Sievert [ctb] (<https://orcid.org/0000-0002-4958-2844>), Devon Ryan [ctb] (<https://orcid.org/0000-0002-8549-0971>), Frederik Aust [ctb] (<https://orcid.org/0000-0003-4900-788X>), Jeff Allen [ctb], JooYoung Seo [ctb] (<https://orcid.org/0000-0002-4064-6012>), Malcolm Barrett [ctb], Rob Hyndman [ctb], Romain Lesur [ctb], Roy Storey [ctb], Ruben Arslan [ctb], Sergio Oller [ctb], Posit Software, PBC [cph, fnd], jQuery UI contributors [ctb, cph] (jQuery UI library; authors listed in inst/rmd/h/jqueryui/AUTHORS.txt), Mark Otto [ctb] (Bootstrap library), Jacob Thornton [ctb] (Bootstrap library), Bootstrap contributors [ctb] (Bootstrap library), Twitter, Inc [cph] (Bootstrap library), Alexander Farkas [ctb, cph] (html5shiv library), Scott Jehl [ctb, cph] (Respond.js library), Ivan Sagalaev [ctb, cph] (highlight.js library), Greg Franko [ctb, cph] (tocify library), John MacFarlane [ctb, cph] (Pandoc templates), Google, Inc. [ctb, cph] (ioslides library), Dave Raggett [ctb] (slidy library), W3C [cph] (slidy library), Dave Gandy [ctb, cph] (Font-Awesome), Ben Sperry [ctb] (Ionicons), Drifty [cph] (Ionicons), Aidan Lister [ctb, cph] (jQuery StickyTabs), Benct Philip Jonsson [ctb, cph] (pagebreak Lua filter), Albert Krewinkel [ctb, cph] (pagebreak Lua filter)’
Authors@R: ‘JJ Allaire [aut], Yihui Xie [aut, cre] (ORCID: <https://orcid.org/0000-0003-0645-5666>), Christophe Dervieux [aut] (ORCID: <https://orcid.org/0000-0003-4474-2498>), Jonathan McPherson [aut], Javier Luraschi [aut], Kevin Ushey [aut], Aron Atkins [aut], Hadley Wickham [aut], Joe Cheng [aut], Winston Chang [aut], Richard Iannone [aut] (ORCID: <https://orcid.org/0000-0003-3925-190X>), Andrew Dunning [ctb] (ORCID: <https://orcid.org/0000-0003-0464-5036>), Atsushi Yasumoto [ctb, cph] (ORCID: <https://orcid.org/0000-0002-8335-495X>, cph: Number sections Lua filter), Barret Schloerke [ctb], Carson Sievert [ctb] (ORCID: <https://orcid.org/0000-0002-4958-2844>), Devon Ryan [ctb] (ORCID: <https://orcid.org/0000-0002-8549-0971>), Frederik Aust [ctb] (ORCID: <https://orcid.org/0000-0003-4900-788X>), Jeff Allen [ctb], JooYoung Seo [ctb] (ORCID: <https://orcid.org/0000-0002-4064-6012>), Malcolm Barrett [ctb], Rob Hyndman [ctb], Romain Lesur [ctb], Roy Storey [ctb], Ruben Arslan [ctb], Sergio Oller [ctb], Posit Software, PBC [cph, fnd], jQuery UI contributors [ctb, cph] (jQuery UI library; authors listed in inst/rmd/h/jqueryui/AUTHORS.txt), Mark Otto [ctb] (Bootstrap library), Jacob Thornton [ctb] (Bootstrap library), Bootstrap contributors [ctb] (Bootstrap library), Twitter, Inc [cph] (Bootstrap library), Alexander Farkas [ctb, cph] (html5shiv library), Scott Jehl [ctb, cph] (Respond.js library), Ivan Sagalaev [ctb, cph] (highlight.js library), Greg Franko [ctb, cph] (tocify library), John MacFarlane [ctb, cph] (Pandoc templates), Google, Inc. [ctb, cph] (ioslides library), Dave Raggett [ctb] (slidy library), W3C [cph] (slidy library), Dave Gandy [ctb, cph] (Font-Awesome), Ben Sperry [ctb] (Ionicons), Drifty [cph] (Ionicons), Aidan Lister [ctb, cph] (jQuery StickyTabs), Benct Philip Jonsson [ctb, cph] (pagebreak Lua filter), Albert Krewinkel [ctb, cph] (pagebreak Lua filter)’
- checking top-level files ... OK
- checking for left-over files ... OK
- checking index information ... OK
- checking package subdirectories ... OK
- checking code files for non-ASCII characters ... OK
- checking R files for syntax errors ... OK
- checking whether the package can be loaded ... [1s/1s] OK
- checking whether the package can be loaded with stated dependencies ... [0s/1s] OK
- checking whether the package can be unloaded cleanly ... [0s/1s] OK
- checking whether the namespace can be loaded with stated dependencies ... [0s/1s] OK
- checking whether the namespace can be unloaded cleanly ... [1s/1s] OK
- checking loading without being on the library search path ... [1s/1s] OK
- checking whether startup messages can be suppressed ... [1s/1s] OK
- checking use of S3 registration ... OK
- checking dependencies in R code ... OK
- checking S3 generic/method consistency ... OK
- checking replacement functions ... OK
- checking foreign function calls ... OK
- checking R code for possible problems ... [23s/29s] OK
- checking Rd files ... [1s/2s] OK
- checking Rd metadata ... OK
- checking Rd line widths ... OK
- checking Rd cross-references ... OK
- checking for missing documentation entries ... OK
- checking for code/documentation mismatches ... OK
- checking Rd \usage sections ... OK
- checking Rd contents ... OK
- checking for unstated dependencies in examples ... OK
- checking installed files from ‘inst/doc’ ... OK
- checking files in ‘vignettes’ ... OK
- checking examples ... [1s/1s] OK
- checking for unstated dependencies in ‘tests’ ... OK
- checking tests ... [1s/2s] OK
Running ‘testrmd.R’ [0s/0s]
Running ‘testthat.R’ [1s/1s]
- checking for unstated dependencies in vignettes ... OK
- checking package vignettes ... OK
- checking re-building of vignette outputs ... [3s/4s] OK
- checking PDF version of manual ... [8s/10s] OK
- checking HTML version of manual ... [4s/8s] OK
- checking for non-standard things in the check directory ... OK
- DONE
Status: 1 NOTE