- using R Under development (unstable) (2022-08-07 r82694)
- using platform: x86_64-pc-linux-gnu (64-bit)
- using session charset: ISO8859-15
- checking for file 'riskRegression/DESCRIPTION' ... OK
- checking extension type ... Package
- this is package 'riskRegression' version '2022.03.22'
- package encoding: UTF-8
- checking package namespace information ... OK
- checking package dependencies ... OK
- checking if this is a source package ... OK
- checking if there is a namespace ... OK
- checking for executable files ... OK
- checking for hidden files and directories ... OK
- checking for portable file names ... OK
- checking for sufficient/correct file permissions ... OK
- checking whether package 'riskRegression' can be installed ... OK
- checking package directory ... OK
- checking for future file timestamps ... OK
- checking 'build' directory ... OK
- checking DESCRIPTION meta-information ... OK
- checking top-level files ... OK
- checking for left-over files ... OK
- checking index information ... OK
- checking package subdirectories ... OK
- checking R files for non-ASCII characters ... OK
- checking R files for syntax errors ... OK
- checking whether the package can be loaded ... OK
- checking whether the package can be loaded with stated dependencies ... OK
- checking whether the package can be unloaded cleanly ... OK
- checking whether the namespace can be loaded with stated dependencies ... OK
- checking whether the namespace can be unloaded cleanly ... OK
- checking loading without being on the library search path ... OK
- checking use of S3 registration ... OK
- checking dependencies in R code ... OK
- checking S3 generic/method consistency ... OK
- checking replacement functions ... OK
- checking foreign function calls ... OK
- checking R code for possible problems ... [107s/119s] OK
- checking Rd files ... [1s/2s] OK
- checking Rd metadata ... OK
- checking Rd line widths ... OK
- checking Rd cross-references ... OK
- checking for missing documentation entries ... OK
- checking for code/documentation mismatches ... OK
- checking Rd \usage sections ... OK
- checking Rd contents ... OK
- checking for unstated dependencies in examples ... OK
- checking contents of 'data' directory ... OK
- checking data for non-ASCII characters ... OK
- checking data for ASCII and uncompressed saves ... OK
- checking line endings in C/C++/Fortran sources/headers ... OK
- checking line endings in Makefiles ... OK
- checking compilation flags in Makevars ... OK
- checking for GNU extensions in Makefiles ... OK
- checking for portable use of $(BLAS_LIBS) and $(LAPACK_LIBS) ... OK
- checking use of PKG_*FLAGS in Makefiles ... OK
- checking use of SHLIB_OPENMP_*FLAGS in Makefiles ... OK
- checking pragmas in C/C++ headers and code ... OK
- checking compilation flags used ... OK
- checking compiled code ... OK
- checking installed files from 'inst/doc' ... OK
- checking files in 'vignettes' ... OK
- checking examples ... [62s/63s] OK
Examples with CPU (user + system) or elapsed time > 5s
user system elapsed
ate 4.607 0.198 5.604
- checking for unstated dependencies in 'tests' ... OK
- checking tests ... [211s/229s] OK
Running 'test-AUC.R' [8s/8s]
Running 'test-BinomialRegression.R' [10s/11s]
Running 'test-BrierScore.R' [9s/11s]
Running 'test-CauseSpecificCoxRegression.R' [9s/11s]
Running 'test-FineGrayRegression.R' [7s/8s]
Running 'test-boxplotScore.R' [8s/9s]
Running 'test-iidCox.R' [10s/12s]
Running 'test-phreg.R' [13s/14s]
Running 'test-predictCox.R' [24s/26s]
Running 'test-predictCoxPL.R' [9s/11s]
Running 'test-predictRisk-TD.R' [9s/11s]
Running 'test-predictRisk.R' [9s/10s]
Running 'test-score-bootstrap.R' [31s/33s]
Running 'test-score.R' [20s/16s]
Running 'test-summary-score.R' [19s/17s]
Running 'test-wglm.R' [15s/19s]
- checking for unstated dependencies in vignettes ... OK
- checking package vignettes in 'inst/doc' ... OK
- checking re-building of vignette outputs ... [1s/1s] OK
- checking PDF version of manual ... OK
- checking HTML version of manual ... OK
- checking for non-standard things in the check directory ... OK
- DONE
Status: OK