- using R Under development (unstable) (2025-10-19 r88945)
- using platform: x86_64-pc-linux-gnu
- R was compiled by
Debian clang version 19.1.7 (7)
Debian flang-new version 19.1.7 (7)
- running under: Debian GNU/Linux forky/sid
- using session charset: UTF-8
- checking for file ‘restatis/DESCRIPTION’ ... OK
- this is package ‘restatis’ version ‘0.3.0’
- package encoding: UTF-8
- checking CRAN incoming feasibility ... [2s/2s] OK
- checking package namespace information ... OK
- checking package dependencies ... OK
- checking if this is a source package ... OK
- checking if there is a namespace ... OK
- checking for executable files ... OK
- checking for hidden files and directories ... OK
- checking for portable file names ... OK
- checking for sufficient/correct file permissions ... OK
- checking serialization versions ... OK
- checking whether package ‘restatis’ can be installed ... OK
See the install log for details.
- checking package directory ... OK
- checking for future file timestamps ... OK
- checking ‘build’ directory ... OK
- checking DESCRIPTION meta-information ... OK
- checking top-level files ... OK
- checking for left-over files ... OK
- checking index information ... OK
- checking package subdirectories ... OK
- checking code files for non-ASCII characters ... OK
- checking R files for syntax errors ... OK
- checking whether the package can be loaded ... [1s/1s] OK
- checking whether the package can be loaded with stated dependencies ... [0s/1s] OK
- checking whether the package can be unloaded cleanly ... [0s/1s] OK
- checking whether the namespace can be loaded with stated dependencies ... [0s/1s] OK
- checking whether the namespace can be unloaded cleanly ... [1s/1s] OK
- checking loading without being on the library search path ... [1s/1s] OK
- checking whether startup messages can be suppressed ... [1s/1s] OK
- checking use of S3 registration ... OK
- checking dependencies in R code ... OK
- checking S3 generic/method consistency ... OK
- checking replacement functions ... OK
- checking foreign function calls ... OK
- checking R code for possible problems ... [13s/16s] OK
- checking Rd files ... [1s/1s] OK
- checking Rd metadata ... OK
- checking Rd line widths ... OK
- checking Rd cross-references ... OK
- checking for missing documentation entries ... OK
- checking for code/documentation mismatches ... OK
- checking Rd \usage sections ... OK
- checking Rd contents ... OK
- checking for unstated dependencies in examples ... OK
- checking contents of ‘data’ directory ... OK
- checking data for non-ASCII characters ... [0s/0s] OK
- checking LazyData ... OK
- checking data for ASCII and uncompressed saves ... OK
- checking installed files from ‘inst/doc’ ... OK
- checking files in ‘vignettes’ ... OK
- checking examples ... [1s/1s] OK
- checking for unstated dependencies in ‘tests’ ... OK
- checking tests ... [5s/7s] OK
Running ‘testthat.R’ [5s/6s]
- checking for unstated dependencies in vignettes ... OK
- checking package vignettes ... OK
- checking re-building of vignette outputs ... [4s/5s] OK
- checking PDF version of manual ... [8s/11s] OK
- checking HTML version of manual ... [2s/4s] NOTE
Found the following HTML validation problems:
binding_lapply.html:50:1 (binding_lapply.Rd:12): Warning: missing </ul> before </div>
check_function_input.html:123:1 (check_function_input.Rd:57): Warning: missing </ul> before </div>
check_results.html:46:1 (check_results.Rd:10): Warning: missing </ul> before </div>
dot-gen_api_core.html:54:1 (dot-gen_api_core.Rd:14): Warning: missing </ul> before </div>
find_token.html:58:1 (find_token.Rd:16): Warning: missing </ul> before </div>
forming_evas.html:46:1 (forming_evas.Rd:10): Warning: missing </ul> before </div>
ggsub.html:46:1 (ggsub.Rd:10): Warning: missing </ul> before </div>
insert_and_save_credentials.html:50:1 (insert_and_save_credentials.Rd:12): Warning: missing </ul> before </div>
is_cube_metadata_header.html:46:1 (is_cube_metadata_header.Rd:10): Warning: missing </ul> before </div>
param_check_regionalkey.html:46:1 (param_check_regionalkey.Rd:10): Warning: missing </ul> before </div>
param_check_year.html:46:1 (param_check_year.Rd:10): Warning: missing </ul> before </div>
param_collapse_vec.html:46:1 (param_collapse_vec.Rd:10): Warning: missing </ul> before </div>
read_cube.html:46:1 (read_cube.Rd:10): Warning: missing </ul> before </div>
read_cube_block.html:46:1 (read_cube_block.Rd:10): Warning: missing </ul> before </div>
read_cube_data_lines.html:50:1 (read_cube_data_lines.Rd:12): Warning: missing </ul> before </div>
read_cube_metadata_header.html:50:1 (read_cube_metadata_header.Rd:12): Warning: missing </ul> before </div>
rename_cube_data_columns.html:46:1 (rename_cube_data_columns.Rd:10): Warning: missing </ul> before </div>
resp_check_data.html:46:1 (resp_check_data.Rd:10): Warning: missing </ul> before </div>
return_table_object.html:58:1 (return_table_object.Rd:16): Warning: missing </ul> before </div>
set_credentials_auth.html:58:1 (set_credentials_auth.Rd:16): Warning: missing </ul> before </div>
spezifisch_create.html:46:1 (spezifisch_create.Rd:10): Warning: missing </ul> before </div>
split_cube.html:46:1 (split_cube.Rd:10): Warning: missing </ul> before </div>
test_database_function.html:54:1 (test_database_function.Rd:14): Warning: missing </ul> before </div>
test_if_error.html:54:1 (test_if_error.Rd:14): Warning: missing </ul> before </div>
test_if_error_find.html:54:1 (test_if_error_find.Rd:14): Warning: missing </ul> before </div>
test_if_error_light.html:50:1 (test_if_error_light.Rd:12): Warning: missing </ul> before </div>
test_if_error_variables.html:50:1 (test_if_error_variables.Rd:12): Warning: missing </ul> before </div>
test_if_json.html:46:1 (test_if_json.Rd:10): Warning: missing </ul> before </div>
test_if_okay.html:46:1 (test_if_okay.Rd:10): Warning: missing </ul> before </div>
test_if_process_further.html:54:1 (test_if_process_further.Rd:14): Warning: missing </ul> before </div>
titel_search.html:54:1 (titel_search.Rd:14): Warning: missing </ul> before </div>
- checking for non-standard things in the check directory ... OK
- DONE
Status: 1 NOTE