- using R Under development (unstable) (2025-10-19 r88945)
- using platform: x86_64-pc-linux-gnu
- R was compiled by
Debian clang version 19.1.7 (7)
Debian flang-new version 19.1.7 (7)
- running under: Debian GNU/Linux forky/sid
- using session charset: UTF-8
- checking for file ‘rapport/DESCRIPTION’ ... OK
- checking extension type ... Package
- this is package ‘rapport’ version ‘1.2’
- package encoding: UTF-8
- checking CRAN incoming feasibility ... [1s/1s] OK
- checking package namespace information ... OK
- checking package dependencies ... OK
- checking if this is a source package ... OK
- checking if there is a namespace ... OK
- checking for executable files ... OK
- checking for hidden files and directories ... OK
- checking for portable file names ... OK
- checking for sufficient/correct file permissions ... OK
- checking serialization versions ... OK
- checking whether package ‘rapport’ can be installed ... OK
See the install log for details.
- checking package directory ... OK
- checking for future file timestamps ... OK
- checking DESCRIPTION meta-information ... OK
- checking top-level files ... OK
- checking for left-over files ... OK
- checking index information ... OK
- checking package subdirectories ... OK
- checking code files for non-ASCII characters ... OK
- checking R files for syntax errors ... OK
- checking whether the package can be loaded ... [1s/1s] OK
- checking whether the package can be loaded with stated dependencies ... [1s/1s] OK
- checking whether the package can be unloaded cleanly ... [1s/1s] OK
- checking whether the namespace can be loaded with stated dependencies ... [1s/1s] OK
- checking whether the namespace can be unloaded cleanly ... [1s/1s] OK
- checking loading without being on the library search path ... [1s/1s] OK
- checking whether startup messages can be suppressed ... [1s/1s] OK
- checking use of S3 registration ... OK
- checking dependencies in R code ... OK
- checking S3 generic/method consistency ... OK
- checking replacement functions ... OK
- checking foreign function calls ... OK
- checking R code for possible problems ... [11s/15s] OK
- checking Rd files ... [1s/1s] OK
- checking Rd metadata ... OK
- checking Rd line widths ... OK
- checking Rd cross-references ... OK
- checking for missing documentation entries ... OK
- checking for code/documentation mismatches ... OK
- checking Rd \usage sections ... OK
- checking Rd contents ... OK
- checking for unstated dependencies in examples ... OK
- checking contents of ‘data’ directory ... OK
- checking data for non-ASCII characters ... [0s/0s] OK
- checking LazyData ... OK
- checking data for ASCII and uncompressed saves ... OK
- checking examples ... [1s/1s] OK
- checking for unstated dependencies in ‘demo’ ... OK
- checking PDF version of manual ... [9s/12s] OK
- checking HTML version of manual ... [2s/3s] NOTE
Found the following HTML validation problems:
as.character.rapport.inputs.html:51:1 (as.character.rapport.inputs.Rd:12): Warning: missing </ul> before </div>
as.character.rapport.meta.html:51:1 (as.character.rapport.meta.Rd:12): Warning: missing </ul> before </div>
as.yaml.bool.html:46:1 (as.yaml.bool.Rd:10): Warning: missing </ul> before </div>
check.input.value.html:58:1 (check.input.value.Rd:18): Warning: missing </ul> before </div>
check.input.value.class.html:58:1 (check.input.value.class.Rd:18): Warning: missing </ul> before </div>
check.report.chunks.html:50:1 (check.report.chunks.Rd:12): Warning: missing </ul> before </div>
check.tpl.html:63:1 (check.tpl.Rd:21): Warning: missing </ul> before </div>
guess.input.html:46:1 (guess.input.Rd:10): Warning: missing </ul> before </div>
guess.input.description.html:46:1 (guess.input.description.Rd:10): Warning: missing </ul> before </div>
guess.input.label.html:46:1 (guess.input.label.Rd:10): Warning: missing </ul> before </div>
guess.input.name.html:46:1 (guess.input.name.Rd:10): Warning: missing </ul> before </div>
guess.l.html:63:1 (guess.l.Rd:21): Warning: missing </ul> before </div>
guess.old.input.length.html:50:1 (guess.old.input.length.Rd:12): Warning: missing </ul> before </div>
guess.old.input.type.html:46:1 (guess.old.input.type.Rd:10): Warning: missing </ul> before </div>
print.rapport.info.html:51:1 (print.rapport.info.Rd:12): Warning: missing </ul> before </div>
print.rapport.inputs.html:51:1 (print.rapport.inputs.Rd:12): Warning: missing </ul> before </div>
print.rapport.meta.html:51:1 (print.rapport.meta.Rd:12): Warning: missing </ul> before </div>
rapport.renew.html:50:1 (rapport.renew.Rd:13): Warning: missing </ul> before </div>
- checking for non-standard things in the check directory ... OK
- DONE
Status: 1 NOTE