* using log directory ‘/home/hornik/tmp/R.check/r-devel-clang/Work/PKGS/quotedargs.Rcheck’ * using R Under development (unstable) (2025-07-13 r88407) * using platform: x86_64-pc-linux-gnu * R was compiled by Debian clang version 19.1.7 (3+b1) Debian flang-new version 19.1.7 (3+b1) * running under: Debian GNU/Linux 13 (trixie) * using session charset: UTF-8 * checking for file ‘quotedargs/DESCRIPTION’ ... OK * checking extension type ... Package * this is package ‘quotedargs’ version ‘0.1.3’ * checking CRAN incoming feasibility ... [0s/1s] NOTE Maintainer: ‘Radford Neal ’ No Authors@R field in DESCRIPTION. Please add one, modifying Authors@R: person(given = "Radford", family = "Neal", role = c("aut", "cre"), email = "radfordneal@gmail.com") as necessary. * checking package namespace information ... OK * checking package dependencies ... OK * checking if this is a source package ... OK * checking if there is a namespace ... OK * checking for executable files ... OK * checking for hidden files and directories ... OK * checking for portable file names ... OK * checking for sufficient/correct file permissions ... OK * checking serialization versions ... OK * checking whether package ‘quotedargs’ can be installed ... OK See 'https://www.r-project.org/nosvn/R.check/r-devel-linux-x86_64-debian-clang/quotedargs-00install.html' for details. * used C compiler: ‘Debian clang version 19.1.7 (3+b1)’ * checking package directory ... OK * checking for future file timestamps ... OK * checking DESCRIPTION meta-information ... OK * checking top-level files ... OK * checking for left-over files ... OK * checking index information ... OK * checking package subdirectories ... OK * checking code files for non-ASCII characters ... OK * checking R files for syntax errors ... OK * checking whether the package can be loaded ... [0s/0s] OK * checking whether the package can be loaded with stated dependencies ... [0s/0s] OK * checking whether the package can be unloaded cleanly ... [0s/0s] OK * checking whether the namespace can be loaded with stated dependencies ... [0s/0s] OK * checking whether the namespace can be unloaded cleanly ... [0s/0s] OK * checking loading without being on the library search path ... [0s/0s] OK * checking use of S3 registration ... OK * checking dependencies in R code ... OK * checking S3 generic/method consistency ... OK * checking replacement functions ... OK * checking foreign function calls ... OK * checking R code for possible problems ... [3s/4s] OK * checking Rd files ... [0s/1s] OK * checking Rd metadata ... OK * checking Rd line widths ... OK * checking Rd cross-references ... OK * checking for missing documentation entries ... OK * checking for code/documentation mismatches ... OK * checking Rd \usage sections ... OK * checking Rd contents ... OK * checking for unstated dependencies in examples ... OK * checking LazyData ... INFO 'LazyData' is specified without a 'data' directory * checking line endings in C/C++/Fortran sources/headers ... OK * checking pragmas in C/C++ headers and code ... OK * checking compilation flags used ... OK * checking compiled code ... NOTE File ‘quotedargs/libs/quotedargs.so’: Found non-API calls to R: ‘ENCLOS’, ‘LEVELS’, ‘PRCODE’, ‘PRENV’, ‘PRVALUE’, ‘Rf_allocSExp’, ‘SETLEVELS’, ‘SET_NAMED’, ‘SET_PRCODE’, ‘SET_PRENV’, ‘SET_PRVALUE’ Compiled code should not call non-API entry points in R. See ‘Writing portable packages’ in the ‘Writing R Extensions’ manual, and section ‘Moving into C API compliance’ for issues with the use of non-API entry points. * checking examples ... [0s/1s] OK * checking differences from ‘quotedargs-Ex.Rout’ to ‘quotedargs-Ex.Rout.save’ ... OK * checking for unstated dependencies in ‘tests’ ... OK * checking tests ... [1s/1s] OK Running ‘tests.R’ [0s/1s] * checking PDF version of manual ... [4s/5s] OK * checking HTML version of manual ... [0s/0s] OK * checking for non-standard things in the check directory ... OK * DONE Status: 2 NOTEs