* using log directory ‘/home/hornik/tmp/R.check/r-devel-clang/Work/PKGS/quickpsy.Rcheck’ * using R Under development (unstable) (2025-07-13 r88407) * using platform: x86_64-pc-linux-gnu * R was compiled by Debian clang version 19.1.7 (3+b1) Debian flang-new version 19.1.7 (3+b1) * running under: Debian GNU/Linux 13 (trixie) * using session charset: UTF-8 * checking for file ‘quickpsy/DESCRIPTION’ ... OK * checking extension type ... Package * this is package ‘quickpsy’ version ‘0.1.5.1’ * package encoding: UTF-8 * checking CRAN incoming feasibility ... [1s/1s] NOTE Maintainer: ‘Linares Daniel ’ Package CITATION file contains call(s) to old-style personList() or as.personList(). Please use c() on person objects instead. Package CITATION file contains call(s) to old-style citEntry(). Please use bibentry() instead. * checking package namespace information ... OK * checking package dependencies ... OK * checking if this is a source package ... OK * checking if there is a namespace ... OK * checking for executable files ... OK * checking for hidden files and directories ... OK * checking for portable file names ... OK * checking for sufficient/correct file permissions ... OK * checking serialization versions ... OK * checking whether package ‘quickpsy’ can be installed ... OK See 'https://www.r-project.org/nosvn/R.check/r-devel-linux-x86_64-debian-clang/quickpsy-00install.html' for details. * checking package directory ... OK * checking for future file timestamps ... OK * checking DESCRIPTION meta-information ... OK * checking top-level files ... OK * checking for left-over files ... OK * checking index information ... OK * checking package subdirectories ... OK * checking code files for non-ASCII characters ... OK * checking R files for syntax errors ... OK * checking whether the package can be loaded ... [2s/2s] OK * checking whether the package can be loaded with stated dependencies ... [1s/1s] OK * checking whether the package can be unloaded cleanly ... [1s/2s] OK * checking whether the namespace can be loaded with stated dependencies ... [1s/1s] OK * checking whether the namespace can be unloaded cleanly ... [2s/2s] OK * checking loading without being on the library search path ... [2s/2s] OK * checking use of S3 registration ... OK * checking dependencies in R code ... OK * checking S3 generic/method consistency ... OK * checking replacement functions ... OK * checking foreign function calls ... OK * checking R code for possible problems ... [13s/17s] OK * checking Rd files ... [1s/1s] OK * checking Rd metadata ... OK * checking Rd line widths ... OK * checking Rd cross-references ... OK * checking for missing documentation entries ... OK * checking for code/documentation mismatches ... OK * checking Rd \usage sections ... OK * checking Rd contents ... OK * checking for unstated dependencies in examples ... OK * checking contents of ‘data’ directory ... OK * checking data for non-ASCII characters ... [0s/0s] OK * checking LazyData ... OK * checking data for ASCII and uncompressed saves ... OK * checking examples ... [127s/156s] OK Examples with CPU (user + system) or elapsed time > 5s user system elapsed logliksboot 12.376 0.020 15.795 logliksbootsaturated 12.310 0.007 15.120 devianceboot 11.987 0.060 14.014 deviance 11.693 0.106 13.529 ypred 11.278 0.019 15.094 loglikssaturated 10.659 0.028 13.106 plotpar 10.163 0.012 11.339 quickpsy 8.900 0.016 11.530 plotthresholds_ 8.711 0.019 10.753 plotthresholds 8.666 0.028 10.064 plotcurves 7.651 0.012 10.509 plotcurves_ 7.263 0.000 8.961 * checking PDF version of manual ... [5s/7s] OK * checking HTML version of manual ... [2s/3s] OK * checking for non-standard things in the check directory ... OK * DONE Status: 1 NOTE