- using R Under development (unstable) (2025-10-19 r88945)
- using platform: x86_64-pc-linux-gnu
- R was compiled by
Debian clang version 19.1.7 (7)
Debian flang-new version 19.1.7 (7)
- running under: Debian GNU/Linux forky/sid
- using session charset: UTF-8
- checking for file ‘quickpsy/DESCRIPTION’ ... OK
- checking extension type ... Package
- this is package ‘quickpsy’ version ‘0.1.5.1’
- package encoding: UTF-8
- checking CRAN incoming feasibility ... [1s/1s] NOTE
Maintainer: ‘Linares Daniel <danilinares@gmail.com>’
Package CITATION file contains call(s) to old-style personList() or
as.personList(). Please use c() on person objects instead.
Package CITATION file contains call(s) to old-style citEntry(). Please
use bibentry() instead.
- checking package namespace information ... OK
- checking package dependencies ... OK
- checking if this is a source package ... OK
- checking if there is a namespace ... OK
- checking for executable files ... OK
- checking for hidden files and directories ... OK
- checking for portable file names ... OK
- checking for sufficient/correct file permissions ... OK
- checking serialization versions ... OK
- checking whether package ‘quickpsy’ can be installed ... OK
See the install log for details.
- checking package directory ... OK
- checking for future file timestamps ... OK
- checking DESCRIPTION meta-information ... OK
- checking top-level files ... OK
- checking for left-over files ... OK
- checking index information ... OK
- checking package subdirectories ... OK
- checking code files for non-ASCII characters ... OK
- checking R files for syntax errors ... OK
- checking whether the package can be loaded ... [2s/2s] OK
- checking whether the package can be loaded with stated dependencies ... [1s/2s] OK
- checking whether the package can be unloaded cleanly ... [1s/2s] OK
- checking whether the namespace can be loaded with stated dependencies ... [2s/2s] OK
- checking whether the namespace can be unloaded cleanly ... [2s/2s] OK
- checking loading without being on the library search path ... [2s/2s] OK
- checking use of S3 registration ... OK
- checking dependencies in R code ... OK
- checking S3 generic/method consistency ... OK
- checking replacement functions ... OK
- checking foreign function calls ... OK
- checking R code for possible problems ... [15s/18s] OK
- checking Rd files ... [1s/1s] OK
- checking Rd metadata ... OK
- checking Rd line widths ... OK
- checking Rd cross-references ... OK
- checking for missing documentation entries ... OK
- checking for code/documentation mismatches ... OK
- checking Rd \usage sections ... OK
- checking Rd contents ... OK
- checking for unstated dependencies in examples ... OK
- checking contents of ‘data’ directory ... OK
- checking data for non-ASCII characters ... [0s/0s] OK
- checking LazyData ... OK
- checking data for ASCII and uncompressed saves ... OK
- checking examples ... [132s/164s] OK
Examples with CPU (user + system) or elapsed time > 5s
user system elapsed
logliksboot 12.409 0.031 14.233
devianceboot 12.120 0.063 15.293
logliksbootsaturated 11.883 0.025 13.351
deviance 10.978 0.133 12.872
plotpar 11.007 0.008 13.862
ypred 10.978 0.023 14.570
loglikssaturated 10.943 0.039 12.615
quickpsy 9.408 0.035 11.713
plotthresholds 9.341 0.079 12.930
plotthresholds_ 9.253 0.016 12.329
plotcurves 8.345 0.024 10.469
plotcurves_ 7.775 0.004 10.610
- checking PDF version of manual ... [7s/9s] OK
- checking HTML version of manual ... [2s/4s] NOTE
Found the following HTML validation problems:
aic.html:46:1 (aic.Rd:10): Warning: missing </ul> before </div>
avbootstrap.html:56:1 (avbootstrap.Rd:16): Warning: missing </ul> before </div>
logliks.html:48:1 (logliks.Rd:11): Warning: missing </ul> before </div>
parbootstrap.html:46:1 (parbootstrap.Rd:10): Warning: missing </ul> before </div>
sse.html:46:1 (sse.Rd:10): Warning: missing </ul> before </div>
summary.quickpsy.html:53:1 (summary.quickpsy.Rd:13): Warning: missing </ul> before </div>
thresholds.html:55:1 (thresholds.Rd:15): Warning: missing </ul> before </div>
- checking for non-standard things in the check directory ... OK
- DONE
Status: 2 NOTEs