- using R Under development (unstable) (2025-10-10 r88914)
- using platform: x86_64-pc-linux-gnu
- R was compiled by
Debian clang version 19.1.7 (7)
Debian flang-new version 19.1.7 (7)
- running under: Debian GNU/Linux forky/sid
- using session charset: UTF-8
- checking for file ‘qol/DESCRIPTION’ ... OK
- this is package ‘qol’ version ‘1.0.1’
- package encoding: UTF-8
- checking CRAN incoming feasibility ... [1s/2s] NOTE
Maintainer: ‘Tim Siebenmorgen <qol_package@proton.me>’
Found the following (possibly) invalid URLs:
URL: https:]
From: DESCRIPTION
DESCRIPTION
DESCRIPTION
Message: Invalid URL: missing authority part
The Description field contains
<https:[https://documentation.sas.com/doc/en/pgmsascdc/v_067/proc/p06ciqes4eaqo6n0zyqtz9p21nfb.htm]>,
<https:[https://documentation.sas.com/doc/en/pgmsascdc/v_067/proc/p0jvbbqkt0gs2cn1lo4zndbqs1pe.htm]>,
<https:[https://documentation.sas.com/doc/en/pgmsascdc/v_067/proc/n1ql5xnu0k3kdtn11gwa5hc7u435.htm]>
Please enclose URLs in angle brackets (<...>).
- checking package namespace information ... OK
- checking package dependencies ... OK
- checking if this is a source package ... OK
- checking if there is a namespace ... OK
- checking for executable files ... OK
- checking for hidden files and directories ... OK
- checking for portable file names ... OK
- checking for sufficient/correct file permissions ... OK
- checking whether package ‘qol’ can be installed ... OK
See the install log for details.
- checking package directory ... OK
- checking for future file timestamps ... OK
- checking DESCRIPTION meta-information ... OK
- checking top-level files ... OK
- checking for left-over files ... OK
- checking index information ... OK
- checking package subdirectories ... OK
- checking code files for non-ASCII characters ... OK
- checking R files for syntax errors ... OK
- checking whether the package can be loaded ... [0s/0s] OK
- checking whether the package can be loaded with stated dependencies ... [0s/0s] OK
- checking whether the package can be unloaded cleanly ... [0s/0s] OK
- checking whether the namespace can be loaded with stated dependencies ... [0s/0s] OK
- checking whether the namespace can be unloaded cleanly ... [0s/0s] OK
- checking loading without being on the library search path ... [0s/0s] OK
- checking whether startup messages can be suppressed ... [0s/0s] OK
- checking use of S3 registration ... OK
- checking dependencies in R code ... OK
- checking S3 generic/method consistency ... OK
- checking replacement functions ... OK
- checking foreign function calls ... OK
- checking R code for possible problems ... [18s/24s] OK
- checking Rd files ... [1s/1s] OK
- checking Rd metadata ... OK
- checking Rd line widths ... OK
- checking Rd cross-references ... OK
- checking for missing documentation entries ... OK
- checking for code/documentation mismatches ... OK
- checking Rd \usage sections ... OK
- checking Rd contents ... OK
- checking for unstated dependencies in examples ... OK
- checking examples ... [20s/23s] OK
Examples with CPU (user + system) or elapsed time > 5s
user system elapsed
any_table 10.639 0.256 15.952
- checking for unstated dependencies in ‘tests’ ... OK
- checking tests ... [53s/61s] OK
Running ‘testthat.R’ [53s/60s]
- checking PDF version of manual ... [7s/10s] OK
- checking HTML version of manual ... [2s/3s] OK
- checking for non-standard things in the check directory ... OK
- DONE
Status: 1 NOTE