- using R Under development (unstable) (2025-10-19 r88945)
- using platform: x86_64-pc-linux-gnu
- R was compiled by
Debian clang version 19.1.7 (7)
Debian flang-new version 19.1.7 (7)
- running under: Debian GNU/Linux forky/sid
- using session charset: UTF-8
- checking for file ‘power4mome/DESCRIPTION’ ... OK
- this is package ‘power4mome’ version ‘0.1.1’
- package encoding: UTF-8
- checking CRAN incoming feasibility ... [2s/3s] OK
- checking package namespace information ... OK
- checking package dependencies ... OK
- checking if this is a source package ... OK
- checking if there is a namespace ... OK
- checking for executable files ... OK
- checking for hidden files and directories ... OK
- checking for portable file names ... OK
- checking for sufficient/correct file permissions ... OK
- checking whether package ‘power4mome’ can be installed ... OK
See the install log for details.
- checking package directory ... OK
- checking for future file timestamps ... OK
- checking ‘build’ directory ... OK
- checking DESCRIPTION meta-information ... OK
- checking top-level files ... OK
- checking for left-over files ... OK
- checking index information ... OK
- checking package subdirectories ... OK
- checking code files for non-ASCII characters ... OK
- checking R files for syntax errors ... OK
- checking whether the package can be loaded ... [0s/1s] OK
- checking whether the package can be loaded with stated dependencies ... [0s/0s] OK
- checking whether the package can be unloaded cleanly ... [0s/0s] OK
- checking whether the namespace can be loaded with stated dependencies ... [0s/0s] OK
- checking whether the namespace can be unloaded cleanly ... [0s/0s] OK
- checking loading without being on the library search path ... [0s/0s] OK
- checking use of S3 registration ... OK
- checking dependencies in R code ... OK
- checking S3 generic/method consistency ... OK
- checking replacement functions ... OK
- checking foreign function calls ... OK
- checking R code for possible problems ... [25s/29s] OK
- checking Rd files ... [1s/2s] OK
- checking Rd metadata ... OK
- checking Rd line widths ... OK
- checking Rd cross-references ... OK
- checking for missing documentation entries ... OK
- checking for code/documentation mismatches ... OK
- checking Rd \usage sections ... OK
- checking Rd contents ... OK
- checking for unstated dependencies in examples ... OK
- checking installed files from ‘inst/doc’ ... OK
- checking files in ‘vignettes’ ... OK
- checking examples ... [87s/135s] OK
Examples with CPU (user + system) or elapsed time > 5s
user system elapsed
predict.power_curve 8.834 0.033 13.562
power_curve 6.062 0.034 9.820
plot.power_curve 5.913 0.050 10.098
test_cond_indirect_effects 5.926 0.008 9.558
test_k_indirect_effects 4.690 0.039 5.576
ptable_pop 4.497 0.044 6.449
power4test_by_n 4.529 0.008 8.120
test_cond_indirect 4.360 0.041 6.059
test_index_of_mome 3.906 0.056 5.310
power4test 3.775 0.039 6.574
plot.x_from_power 3.373 0.042 5.594
power4test_by_es 3.323 0.041 6.507
- checking for unstated dependencies in ‘tests’ ... OK
- checking tests ... [458s/232s] OK
Running ‘testthat.R’ [457s/231s]
- checking for unstated dependencies in vignettes ... OK
- checking package vignettes ... OK
- checking re-building of vignette outputs ... [5s/6s] OK
- checking PDF version of manual ... [12s/15s] OK
- checking HTML version of manual ... [6s/8s] NOTE
Found the following HTML validation problems:
power4test.html:756:1 (power4test.Rd:593): Warning: <h4> anchor "Single-Group-Model" already defined
power4test.html:878:1 (power4test.Rd:690): Warning: <h4> anchor "Multigroup-Model" already defined
power4test.html:936:1 (power4test.Rd:739): Warning: <h4> anchor "Single-Group-Model" already defined
power4test.html:1046:1 (power4test.Rd:814): Warning: <h4> anchor "Multigroup-Model" already defined
power4test.html:1156:1 (power4test.Rd:913): Warning: <h4> anchor "Single-Group-Model" already defined
ptable_pop.html:280:1 (ptable_pop.Rd:214): Warning: <h4> anchor "Single-Group-Model" already defined
ptable_pop.html:402:1 (ptable_pop.Rd:311): Warning: <h4> anchor "Multigroup-Model" already defined
ptable_pop.html:460:1 (ptable_pop.Rd:360): Warning: <h4> anchor "Single-Group-Model" already defined
ptable_pop.html:570:1 (ptable_pop.Rd:435): Warning: <h4> anchor "Multigroup-Model" already defined
sim_data.html:653:1 (sim_data.Rd:511): Warning: <h4> anchor "Single-Group-Model" already defined
sim_data.html:706:1 (sim_data.Rd:558): Warning: <h4> anchor "Single-Group-Model" already defined
sim_data.html:828:1 (sim_data.Rd:655): Warning: <h4> anchor "Multigroup-Model" already defined
sim_data.html:886:1 (sim_data.Rd:704): Warning: <h4> anchor "Single-Group-Model" already defined
sim_data.html:996:1 (sim_data.Rd:779): Warning: <h4> anchor "Multigroup-Model" already defined
- checking for non-standard things in the check directory ... OK
- DONE
Status: 1 NOTE