- using R Under development (unstable) (2025-10-25 r88970)
- using platform: x86_64-pc-linux-gnu
- R was compiled by
    Debian clang version 19.1.7 (7)
    Debian flang-new version 19.1.7 (7)
- running under: Debian GNU/Linux forky/sid
- using session charset: UTF-8
- checking for file ‘plotrix/DESCRIPTION’ ... OK
- this is package ‘plotrix’ version ‘3.8-4’
- checking CRAN incoming feasibility ... [2s/3s] NOTE
Maintainer: ‘Duncan Murdoch <murdoch.duncan@gmail.com>’
No Authors@R field in DESCRIPTION.
Please add one, modifying
  Authors@R: c(person(given = "Jim",
                      family = "Lemon",
                      role = "aut"),
               person(given = "Ben",
                      family = "Bolker",
                      role = "aut"),
               person(given = "Sander",
                      family = "Oom",
                      role = "aut"),
               person(given = "Eduardo",
                      family = "Klein",
                      role = "aut"),
               person(given = "Barry",
                      family = "Rowlingson",
                      role = "aut"),
               person(given = "Hadley",
                      family = "Wickham",
                      role = "aut"),
               person(given = "Anupam",
                      family = "Tyagi",
                      role = "aut"),
               person(given = "Olivier",
                      family = "Eterradossi",
                      role = "aut"),
               person(given = "Gabor",
                      family = "Grothendieck",
                      role = "aut"),
               person(given = "Michael",
                      family = "Toews",
                      role = "aut"),
               person(given = "John",
                      family = "Kane",
                      role = "aut"),
               person(given = "Rolf",
                      family = "Turner",
                      role = "aut"),
               person(given = "Carl",
                      family = "Witthoft",
                      role = "aut"),
               person(given = "Julian",
                      family = "Stander",
                      role = "aut"),
               person(given = "Thomas",
                      family = "Petzoldt",
                      role = "aut"),
               person(given = "Remko",
                      family = "Duursma",
                      role = "aut"),
               person(given = "Elisa",
                      family = "Biancotto",
                      role = "aut"),
               person(given = "Ofir",
                      family = "Levy",
                      role = "aut"),
               person(given = "Christophe",
                      family = "Dutang",
                      role = "aut"),
               person(given = "Peter",
                      family = "Solymos",
                      role = "aut"),
               person(given = "Robby",
                      family = "Engelmann",
                      role = "aut"),
               person(given = "Michael",
                      family = "Hecker",
                      role = "aut"),
               person(given = "Felix",
                      family = "Steinbeck",
                      role = "aut"),
               person(given = "Hans",
                      family = "Borchers",
                      role = "aut"),
               person(given = "Henrik",
                      family = "Singmann",
                      role = "aut"),
               person(given = "Ted",
                      family = "Toal",
                      role = "aut"),
               person(given = "Derek",
                      family = "Ogle",
                      role = "aut"),
               person(given = "Darshan",
                      family = "Baral",
                      role = "aut"),
               person(given = "Ulrike",
                      family = "Groemping",
                      role = "aut"),
               person(given = "Bill",
                      family = "Venables",
                      role = "aut"),
               person(given = c("The", "CRAN"),
                      family = "Team",
                      role = "aut"),
               person(given = "Duncan",
                      family = "Murdoch",
                      role = c("aut", "cre"),
                      email = "murdoch.duncan@gmail.com"))
as necessary.
- checking package namespace information ... OK
- checking package dependencies ... OK
- checking if this is a source package ... OK
- checking if there is a namespace ... OK
- checking for executable files ... OK
- checking for hidden files and directories ... OK
- checking for portable file names ... OK
- checking for sufficient/correct file permissions ... OK
- checking whether package ‘plotrix’ can be installed ... OK
See the install log for details.
- checking package directory ... OK
- checking for future file timestamps ... OK
- checking DESCRIPTION meta-information ... OK
- checking top-level files ... OK
- checking for left-over files ... OK
- checking index information ... OK
- checking package subdirectories ... OK
- checking code files for non-ASCII characters ... OK
- checking R files for syntax errors ... OK
- checking whether the package can be loaded ... [0s/0s] OK
- checking whether the package can be loaded with stated dependencies ... [0s/0s] OK
- checking whether the package can be unloaded cleanly ... [0s/0s] OK
- checking whether the namespace can be loaded with stated dependencies ... [0s/0s] OK
- checking whether the namespace can be unloaded cleanly ... [0s/0s] OK
- checking loading without being on the library search path ... [0s/0s] OK
- checking use of S3 registration ... OK
- checking dependencies in R code ... OK
- checking S3 generic/method consistency ... OK
- checking replacement functions ... OK
- checking foreign function calls ... OK
- checking R code for possible problems ... [39s/49s] OK
- checking Rd files ... [2s/2s] OK
- checking Rd metadata ... OK
- checking Rd line widths ... OK
- checking Rd cross-references ... OK
- checking for missing documentation entries ... OK
- checking for code/documentation mismatches ... OK
- checking Rd \usage sections ... OK
- checking Rd contents ... OK
- checking for unstated dependencies in examples ... OK
- checking contents of ‘data’ directory ... OK
- checking data for non-ASCII characters ... [0s/0s] OK
- checking data for ASCII and uncompressed saves ... OK
- checking examples ... [5s/6s] OK
- checking for unstated dependencies in ‘demo’ ... OK
- checking PDF version of manual ... [18s/24s] OK
- checking HTML version of manual ... [9s/15s] OK
- checking for non-standard things in the check directory ... OK
- DONE
Status: 1 NOTE