- using R Under development (unstable) (2025-10-25 r88970)
- using platform: x86_64-pc-linux-gnu
- R was compiled by
    Debian clang version 19.1.7 (7)
    Debian flang-new version 19.1.7 (7)
- running under: Debian GNU/Linux forky/sid
- using session charset: UTF-8
- checking for file ‘pipenostics/DESCRIPTION’ ... OK
- checking extension type ... Package
- this is package ‘pipenostics’ version ‘0.2.0’
- package encoding: UTF-8
- checking CRAN incoming feasibility ... [2s/3s] OK
- checking package namespace information ... OK
- checking package dependencies ... OK
- checking if this is a source package ... OK
- checking if there is a namespace ... OK
- checking for executable files ... OK
- checking for hidden files and directories ... OK
- checking for portable file names ... OK
- checking for sufficient/correct file permissions ... OK
- checking whether package ‘pipenostics’ can be installed ... OK
See the install log for details.
- checking package directory ... OK
- checking for future file timestamps ... OK
- checking DESCRIPTION meta-information ... OK
- checking top-level files ... OK
- checking for left-over files ... OK
- checking index information ... OK
- checking package subdirectories ... OK
- checking code files for non-ASCII characters ... OK
- checking R files for syntax errors ... OK
- checking whether the package can be loaded ... [0s/1s] OK
- checking whether the package can be loaded with stated dependencies ... [0s/0s] OK
- checking whether the package can be unloaded cleanly ... [0s/0s] OK
- checking whether the namespace can be loaded with stated dependencies ... [0s/0s] OK
- checking whether the namespace can be unloaded cleanly ... [0s/0s] OK
- checking loading without being on the library search path ... [0s/0s] OK
- checking use of S3 registration ... OK
- checking dependencies in R code ... OK
- checking S3 generic/method consistency ... OK
- checking replacement functions ... OK
- checking foreign function calls ... OK
- checking R code for possible problems ... [11s/14s] OK
- checking Rd files ... [1s/2s] OK
- checking Rd metadata ... OK
- checking Rd line widths ... OK
- checking Rd cross-references ... NOTE
Found the following Rd file(s) with Rd \link{} targets missing package
anchors:
  api5l3t.Rd: assert_character, assert_double
  b31crvl.Rd: assert_double, assert_numeric, assert_logical
  b31gacd.Rd: assert_double
  b31gacl.Rd: assert_double
  b31gafr.Rd: assert_double
  b31gdata.Rd: assert_double, assert_numeric, assert_logical
  b31gdep.Rd: assert_double
  b31gmodpf.Rd: assert_double
  b31gops.Rd: assert_double, assert_numeric, assert_subset
  b31gpf.Rd: assert_double
  b31gsap.Rd: assert_double
  celsius.Rd: assert_double
  dnvpf.Rd: assert_double
  dropg.Rd: assert_double, assert_list
  dropp.Rd: assert_double, assert_choice
  dropt.Rd: assert_double
  fahrenheit.Rd: assert_double
  flowls.Rd: assert_flag, assert_list
  flux.Rd: assert_double
  fric_buzelli.Rd: assert_double, assert_flag
  fric_romeo.Rd: assert_double, assert_flag
  fric_vatankhan.Rd: assert_double, assert_flag
  geodist.Rd: assert_double, assert_numeric
  inch_mm.Rd: assert_double
  kelvin.Rd: assert_double
  kgf_mpa.Rd: assert_double
  m278hlair.Rd: assert_double
  m278hlcha.Rd: assert_double
  m278hlund.Rd: assert_double
  m278insdata.Rd: assert_integerish, assert_character, assert_integer
  m278inshcm.Rd: assert_double, assert_subset
  m278soildata.Rd: assert_character, assert_double
  m325beta.Rd: assert_subset, assert_double
  m325nhl.Rd: assert_integerish, assert_subset, assert_logical,
    assert_integer, assert_double, assert_choice
  m325nhldata.Rd: assert_character, assert_integer, assert_logical,
    assert_integerish, assert_double
  m325testbench.Rd: assert_double, assert_integerish, assert_character,
    assert_logical
  m325tracebw.Rd: assert_double, assert_integerish, assert_subset,
    assert_logical, assert_choice, assert_flag, assert_character,
    assert_count, assert_data_frame
  m325tracefw.Rd: assert_double, assert_integerish, assert_subset,
    assert_logical, assert_number, assert_choice, assert_flag,
    assert_character, assert_count, assert_data_frame
  m325traceline.Rd: assert_number, assert_double, assert_integerish,
    assert_numeric, assert_subset, assert_character, assert_logical,
    assert_choice, assert_flag, assert_list
  mepof.Rd: assert_double, assert_function, assert_int, assert_number,
    assert_choice, assert_count
  meteos.Rd: assert_integer, assert_character, assert_double,
    assert_data_frame
  mgtdh-iface.Rd: assert_integer, assert_count, assert_posixct,
    assert_number, assert_double, assert_flag
  mm_inch.Rd: assert_double
  mpa_kgf.Rd: assert_double
  mpa_psi.Rd: assert_double
  pcorrcpf.Rd: assert_double
  psi_mpa.Rd: assert_double
  reynolds.Rd: assert_double
  shell92pf.Rd: assert_double
  strderate.Rd: assert_double
  tracebw.Rd: assert_double, assert_choice, assert_flag,
    assert_character, assert_logical, assert_count, assert_data_frame
  tracefw.Rd: assert_double, assert_number, assert_choice, assert_flag,
    assert_character, assert_logical, assert_count, assert_data_frame
  traceline.Rd: assert_number, assert_double, assert_choice,
    assert_flag, assert_list
  wth_d.Rd: assert_double
Please provide package anchors for all Rd \link{} targets not in the
package itself and the base packages.
- checking for missing documentation entries ... OK
- checking for code/documentation mismatches ... OK
- checking Rd \usage sections ... OK
- checking Rd contents ... OK
- checking for unstated dependencies in examples ... OK
- checking contents of ‘data’ directory ... OK
- checking data for non-ASCII characters ... [0s/1s] OK
- checking LazyData ... OK
- checking data for ASCII and uncompressed saves ... OK
- checking R/sysdata.rda ... OK
- checking examples ... [6s/9s] OK
- checking for unstated dependencies in ‘tests’ ... OK
- checking tests ... [56s/68s] OK
  Running ‘testthat.R’ [56s/68s]
- checking PDF version of manual ... [13s/18s] OK
- checking HTML version of manual ... [5s/8s] OK
- checking for non-standard things in the check directory ... OK
- DONE
Status: 1 NOTE