- using R Under development (unstable) (2022-06-18 r82503)
- using platform: x86_64-pc-linux-gnu (64-bit)
- using session charset: ISO8859-15
- checking for file 'paws.database/DESCRIPTION' ... OK
- this is package 'paws.database' version '0.1.12'
- package encoding: UTF-8
- checking package namespace information ... OK
- checking package dependencies ... OK
- checking if this is a source package ... OK
- checking if there is a namespace ... OK
- checking for executable files ... OK
- checking for hidden files and directories ... OK
- checking for portable file names ... OK
- checking for sufficient/correct file permissions ... OK
- checking serialization versions ... OK
- checking whether package 'paws.database' can be installed ... OK
- checking package directory ... OK
- checking for future file timestamps ... OK
- checking DESCRIPTION meta-information ... OK
- checking top-level files ... OK
- checking for left-over files ... OK
- checking index information ... OK
- checking package subdirectories ... OK
- checking R files for non-ASCII characters ... OK
- checking R files for syntax errors ... OK
- checking whether the package can be loaded ... OK
- checking whether the package can be loaded with stated dependencies ... OK
- checking whether the package can be unloaded cleanly ... OK
- checking whether the namespace can be loaded with stated dependencies ... OK
- checking whether the namespace can be unloaded cleanly ... OK
- checking loading without being on the library search path ... OK
- checking use of S3 registration ... OK
- checking dependencies in R code ... OK
- checking S3 generic/method consistency ... OK
- checking replacement functions ... OK
- checking foreign function calls ... OK
- checking R code for possible problems ... [46s/57s] OK
- checking Rd files ... [7s/8s] NOTE
checkRd: (-1) dynamodb_batch_get_item.Rd:32: Escaped LaTeX specials: \#
checkRd: (-1) dynamodb_delete_item.Rd:81: Escaped LaTeX specials: \#
checkRd: (-1) dynamodb_get_item.Rd:55: Escaped LaTeX specials: \#
checkRd: (-1) dynamodb_put_item.Rd:98: Escaped LaTeX specials: \#
checkRd: (-1) dynamodb_query.Rd:237: Escaped LaTeX specials: \#
checkRd: (-1) dynamodb_scan.Rd:174: Escaped LaTeX specials: \#
checkRd: (-1) dynamodb_update_item.Rd:177: Escaped LaTeX specials: \#
checkRd: (-1) elasticache_create_cache_cluster.Rd:291: Escaped LaTeX specials: \#
checkRd: (-1) elasticache_create_replication_group.Rd:329: Escaped LaTeX specials: \#
- checking Rd metadata ... OK
- checking Rd line widths ... OK
- checking Rd cross-references ... OK
- checking for missing documentation entries ... OK
- checking for code/documentation mismatches ... OK
- checking Rd \usage sections ... OK
- checking Rd contents ... OK
- checking for unstated dependencies in examples ... OK
- checking examples ... [1s/1s] OK
- checking PDF version of manual ... OK
- checking for non-standard things in the check directory ... OK
- DONE
Status: 1 NOTE