* using log directory ‘/home/hornik/tmp/R.check/r-devel-clang/Work/PKGS/paleotree.Rcheck’ * using R Under development (unstable) (2025-07-15 r88411) * using platform: x86_64-pc-linux-gnu * R was compiled by Debian clang version 19.1.7 (3+b1) Debian flang-new version 19.1.7 (3+b1) * running under: Debian GNU/Linux 13 (trixie) * using session charset: UTF-8 * checking for file ‘paleotree/DESCRIPTION’ ... OK * checking extension type ... Package * this is package ‘paleotree’ version ‘3.4.7’ * package encoding: UTF-8 * checking CRAN incoming feasibility ... [2s/3s] NOTE Maintainer: ‘David W. Bapst ’ No Authors@R field in DESCRIPTION. Please add one, modifying Authors@R: c(person(given = c("David", "W."), family = "Bapst", role = c("aut", "cre"), email = "dwbapst@gmail.com"), person(given = c("Peter", "J."), family = "Wagner", role = "aut")) as necessary. * checking package namespace information ... OK * checking package dependencies ... OK * checking if this is a source package ... OK * checking if there is a namespace ... OK * checking for executable files ... OK * checking for hidden files and directories ... OK * checking for portable file names ... OK * checking for sufficient/correct file permissions ... OK * checking whether package ‘paleotree’ can be installed ... OK See 'https://www.r-project.org/nosvn/R.check/r-devel-linux-x86_64-debian-clang/paleotree-00install.html' for details. * checking package directory ... OK * checking for future file timestamps ... OK * checking DESCRIPTION meta-information ... OK * checking top-level files ... OK * checking for left-over files ... OK * checking index information ... OK * checking package subdirectories ... OK * checking code files for non-ASCII characters ... OK * checking R files for syntax errors ... OK * checking whether the package can be loaded ... [3s/4s] OK * checking whether the package can be loaded with stated dependencies ... [3s/4s] OK * checking whether the package can be unloaded cleanly ... [3s/4s] OK * checking whether the namespace can be loaded with stated dependencies ... [3s/4s] OK * checking whether the namespace can be unloaded cleanly ... [3s/4s] OK * checking loading without being on the library search path ... [3s/4s] OK * checking use of S3 registration ... OK * checking dependencies in R code ... OK * checking S3 generic/method consistency ... OK * checking replacement functions ... OK * checking foreign function calls ... OK * checking R code for possible problems ... [55s/70s] OK * checking Rd files ... [1s/2s] OK * checking Rd metadata ... OK * checking Rd line widths ... OK * checking Rd cross-references ... OK * checking for missing documentation entries ... OK * checking for code/documentation mismatches ... OK * checking Rd \usage sections ... OK * checking Rd contents ... OK * checking for unstated dependencies in examples ... OK * checking contents of ‘data’ directory ... OK * checking data for non-ASCII characters ... [0s/0s] OK * checking data for ASCII and uncompressed saves ... OK * checking examples ... [73s/89s] OK Examples with CPU (user + system) or elapsed time > 5s user system elapsed termTaxa 6.876 0.036 7.626 taxa2phylo 5.984 0.047 7.312 sampleRanges 5.532 0.016 6.141 compareTimescaling 4.991 0.091 5.651 DiversityCurves 4.922 0.027 5.923 occData2timeList 4.456 0.043 6.242 * checking for unstated dependencies in ‘tests’ ... OK * checking tests ... [117s/142s] OK Running ‘spelling.R’ [0s/0s] Running ‘testthat.R’ [116s/141s] * checking PDF version of manual ... [12s/16s] OK * checking HTML version of manual ... [8s/12s] OK * checking for non-standard things in the check directory ... OK * DONE Status: 1 NOTE