* using log directory ‘/home/hornik/tmp/R.check/r-devel-clang/Work/PKGS/olsrr.Rcheck’ * using R Under development (unstable) (2025-07-13 r88407) * using platform: x86_64-pc-linux-gnu * R was compiled by Debian clang version 19.1.7 (3+b1) Debian flang-new version 19.1.7 (3+b1) * running under: Debian GNU/Linux 13 (trixie) * using session charset: UTF-8 * checking for file ‘olsrr/DESCRIPTION’ ... OK * checking extension type ... Package * this is package ‘olsrr’ version ‘0.6.1’ * package encoding: UTF-8 * checking CRAN incoming feasibility ... [2s/3s] OK * checking package namespace information ... OK * checking package dependencies ... OK * checking if this is a source package ... OK * checking if there is a namespace ... OK * checking for executable files ... OK * checking for hidden files and directories ... OK * checking for portable file names ... OK * checking for sufficient/correct file permissions ... OK * checking serialization versions ... OK * checking whether package ‘olsrr’ can be installed ... OK See 'https://www.r-project.org/nosvn/R.check/r-devel-linux-x86_64-debian-clang/olsrr-00install.html' for details. * checking package directory ... OK * checking for future file timestamps ... OK * checking ‘build’ directory ... OK * checking DESCRIPTION meta-information ... OK * checking top-level files ... OK * checking for left-over files ... OK * checking index information ... OK * checking package subdirectories ... OK * checking code files for non-ASCII characters ... OK * checking R files for syntax errors ... OK * checking whether the package can be loaded ... [2s/2s] OK * checking whether the package can be loaded with stated dependencies ... [1s/2s] OK * checking whether the package can be unloaded cleanly ... [1s/2s] OK * checking whether the namespace can be loaded with stated dependencies ... [1s/2s] OK * checking whether the namespace can be unloaded cleanly ... [2s/2s] OK * checking loading without being on the library search path ... [2s/2s] OK * checking whether startup messages can be suppressed ... [2s/2s] OK * checking use of S3 registration ... OK * checking dependencies in R code ... OK * checking S3 generic/method consistency ... OK * checking replacement functions ... OK * checking foreign function calls ... OK * checking R code for possible problems ... [27s/33s] OK * checking Rd files ... [1s/1s] OK * checking Rd metadata ... OK * checking Rd line widths ... OK * checking Rd cross-references ... OK * checking for missing documentation entries ... OK * checking for code/documentation mismatches ... OK * checking Rd \usage sections ... OK * checking Rd contents ... OK * checking for unstated dependencies in examples ... OK * checking contents of ‘data’ directory ... OK * checking data for non-ASCII characters ... [0s/1s] OK * checking LazyData ... OK * checking data for ASCII and uncompressed saves ... OK * checking installed files from ‘inst/doc’ ... OK * checking files in ‘vignettes’ ... OK * checking examples ... [77s/102s] OK Examples with CPU (user + system) or elapsed time > 5s user system elapsed ols_step_forward_r2 6.028 0.035 8.521 ols_step_forward_aic 5.266 0.020 7.473 ols_step_forward_adj_r2 5.261 0.021 7.331 ols_step_forward_sbic 5.116 0.087 6.098 ols_step_forward_p 5.037 0.067 7.290 ols_step_forward_sbc 4.947 0.012 5.668 ols_step_best_subset 4.809 0.011 7.016 ols_step_backward_sbic 3.197 0.003 5.055 * checking for unstated dependencies in ‘tests’ ... OK * checking tests ... [86s/108s] OK Running ‘testthat.R’ [85s/108s] * checking for unstated dependencies in vignettes ... OK * checking package vignettes ... OK * checking re-building of vignette outputs ... [74s/97s] OK * checking PDF version of manual ... [8s/12s] OK * checking HTML version of manual ... [4s/7s] OK * checking for non-standard things in the check directory ... OK * DONE Status: OK