* using log directory ‘/home/hornik/tmp/R.check/r-devel-clang/Work/PKGS/npcure.Rcheck’ * using R Under development (unstable) (2025-07-13 r88407) * using platform: x86_64-pc-linux-gnu * R was compiled by Debian clang version 19.1.7 (3+b1) Debian flang-new version 19.1.7 (3+b1) * running under: Debian GNU/Linux 13 (trixie) * using session charset: UTF-8 * checking for file ‘npcure/DESCRIPTION’ ... OK * this is package ‘npcure’ version ‘0.1-5’ * package encoding: UTF-8 * checking CRAN incoming feasibility ... [1s/1s] NOTE Maintainer: ‘Ignacio López-de-Ullibarri ’ Found the following URLs which should use \doi (with the DOI name only): File ‘beran.Rd’: https://doi.org/10.1093/biostatistics/kxx034 File ‘berancv.Rd’: https://doi.org/10.1177/1471082X0700700404 https://doi.org/10.1093/biostatistics/kxx034 File ‘hpilot.Rd’: https://doi.org/10.1080/10485259308832566 https://doi.org/10.1023/A:1014644700806 https://doi.org/10.1016/j.csda.2016.08.002 https://doi.org/10.1007/s11749-016-0515-1 File ‘latency.Rd’: https://doi.org/10.1007/s11749-016-0515-1 File ‘latencyhboot.Rd’: https://doi.org/10.1023/A:1014644700806 https://doi.org/10.1007/s11749-016-0515-1 File ‘npcure-package.Rd’: https://doi.org/10.1016/j.csda.2016.08.002 https://doi.org/10.1007/s11749-016-0515-1 File ‘probcure.Rd’: https://doi.org/10.1016/j.csda.2016.08.002 https://doi.org/10.1002/cjs.11197 File ‘probcurehboot.Rd’: https://doi.org/10.1023/A:1014644700806 https://doi.org/10.1016/j.csda.2016.08.002 File ‘testmz.Rd’: https://doi.org/10.1093/biomet/79.4.731 * checking package namespace information ... OK * checking package dependencies ... OK * checking if this is a source package ... OK * checking if there is a namespace ... OK * checking for executable files ... OK * checking for hidden files and directories ... OK * checking for portable file names ... OK * checking for sufficient/correct file permissions ... OK * checking whether package ‘npcure’ can be installed ... OK See 'https://www.r-project.org/nosvn/R.check/r-devel-linux-x86_64-debian-clang/npcure-00install.html' for details. * used C compiler: ‘Debian clang version 19.1.7 (3+b1)’ * checking package directory ... OK * checking for future file timestamps ... OK * checking DESCRIPTION meta-information ... OK * checking top-level files ... OK * checking for left-over files ... OK * checking index information ... OK * checking package subdirectories ... OK * checking code files for non-ASCII characters ... OK * checking R files for syntax errors ... OK * checking whether the package can be loaded ... [0s/1s] OK * checking whether the package can be loaded with stated dependencies ... [0s/0s] OK * checking whether the package can be unloaded cleanly ... [0s/0s] OK * checking whether the namespace can be loaded with stated dependencies ... [0s/0s] OK * checking whether the namespace can be unloaded cleanly ... [0s/0s] OK * checking loading without being on the library search path ... [0s/1s] OK * checking use of S3 registration ... OK * checking dependencies in R code ... OK * checking S3 generic/method consistency ... OK * checking replacement functions ... OK * checking foreign function calls ... OK * checking R code for possible problems ... [7s/9s] OK * checking Rd files ... [0s/1s] OK * checking Rd metadata ... OK * checking Rd line widths ... OK * checking Rd cross-references ... OK * checking for missing documentation entries ... OK * checking for code/documentation mismatches ... OK * checking Rd \usage sections ... OK * checking Rd contents ... OK * checking for unstated dependencies in examples ... OK * checking line endings in C/C++/Fortran sources/headers ... OK * checking pragmas in C/C++ headers and code ... OK * checking compilation flags used ... OK * checking compiled code ... OK * checking examples ... [8s/11s] OK * checking PDF version of manual ... [5s/7s] OK * checking HTML version of manual ... [1s/3s] OK * checking for non-standard things in the check directory ... OK * DONE Status: 1 NOTE