- using R Under development (unstable) (2022-08-10 r82705)
- using platform: x86_64-pc-linux-gnu (64-bit)
- using session charset: ISO8859-15
- checking for file 'nnspat/DESCRIPTION' ... OK
- checking extension type ... Package
- this is package 'nnspat' version '0.1.0'
- package encoding: UTF-8
- checking package namespace information ... OK
- checking package dependencies ... OK
- checking if this is a source package ... OK
- checking if there is a namespace ... OK
- checking for executable files ... OK
- checking for hidden files and directories ... OK
- checking for portable file names ... OK
- checking for sufficient/correct file permissions ... OK
- checking serialization versions ... OK
- checking whether package 'nnspat' can be installed ... OK
- checking package directory ... OK
- checking for future file timestamps ... OK
- checking DESCRIPTION meta-information ... OK
- checking top-level files ... OK
- checking for left-over files ... OK
- checking index information ... OK
- checking package subdirectories ... OK
- checking R files for non-ASCII characters ... OK
- checking R files for syntax errors ... OK
- checking whether the package can be loaded ... OK
- checking whether the package can be loaded with stated dependencies ... OK
- checking whether the package can be unloaded cleanly ... OK
- checking whether the namespace can be loaded with stated dependencies ... OK
- checking whether the namespace can be unloaded cleanly ... OK
- checking loading without being on the library search path ... OK
- checking use of S3 registration ... OK
- checking dependencies in R code ... OK
- checking S3 generic/method consistency ... OK
- checking replacement functions ... OK
- checking foreign function calls ... OK
- checking R code for possible problems ... [42s/48s] OK
- checking Rd files ... [8s/9s] NOTE
checkRd: (-1) euc.dist.Rd:50: Escaped LaTeX specials: \&
- checking Rd metadata ... OK
- checking Rd line widths ... OK
- checking Rd cross-references ... OK
- checking for missing documentation entries ... OK
- checking for code/documentation mismatches ... OK
- checking Rd \usage sections ... OK
- checking Rd contents ... OK
- checking for unstated dependencies in examples ... OK
- checking contents of 'data' directory ... OK
- checking data for non-ASCII characters ... OK
- checking LazyData ... OK
- checking data for ASCII and uncompressed saves ... OK
- checking examples ... [48s/53s] OK
Examples with CPU (user + system) or elapsed time > 5s
user system elapsed
ZTrun 13.494 0.098 14.976
funsVarTrun 10.142 0.000 11.208
funsZTkinv 8.986 0.000 9.547
varTkinv.sim 7.116 0.000 7.447
- checking PDF version of manual ... OK
- checking HTML version of manual ... NOTE
Found the following math rendering problems:
funsW345values.Rd:28-29: Undefined control sequence: \boldmath in ...ymbol \delta^t \boldmath A(\theta)) \bol...
funsW345values.Rd:30: Undefined control sequence: \boldmath in \boldmath A(\theta) = (a_...
- checking for non-standard things in the check directory ... OK
- DONE
Status: 2 NOTEs