- using R Under development (unstable) (2025-10-31 r88977)
 
- using platform: x86_64-pc-linux-gnu
 
- R was compiled by
    Debian clang version 19.1.7 (7)
    Debian flang-new version 19.1.7 (7)
 
- running under: Debian GNU/Linux forky/sid
 
- using session charset: UTF-8
 
- checking for file ‘mvdalab/DESCRIPTION’ ... OK
 
- checking extension type ... Package
 
- this is package ‘mvdalab’ version ‘1.7’
 
- checking CRAN incoming feasibility ... [2s/2s] NOTE
Maintainer: ‘Nelson Lee Afanador <nelson.afanador@gmail.com>’
No Authors@R field in DESCRIPTION.
Please add one, modifying
  Authors@R: c(person(given = c("Nelson", "Lee"),
                      family = "Afanador",
                      role = c("aut", "cre"),
                      email = "nelson.afanador@gmail.com"),
               person(given = "Thanh",
                      family = "Tran",
                      role = "aut"),
               person(given = "Lionel",
                      family = "Blanchet",
                      role = "aut"),
               person(given = "Richard",
                      family = "Baumgartner",
                      role = "aut"))
as necessary.
 
- checking package namespace information ... OK
 
- checking package dependencies ... OK
 
- checking if this is a source package ... OK
 
- checking if there is a namespace ... OK
 
- checking for executable files ... OK
 
- checking for hidden files and directories ... OK
 
- checking for portable file names ... OK
 
- checking for sufficient/correct file permissions ... OK
 
- checking serialization versions ... OK
 
- checking whether package ‘mvdalab’ can be installed ... OK
See the install log for details.
 
- checking package directory ... OK
 
- checking for future file timestamps ... OK
 
- checking DESCRIPTION meta-information ... OK
 
- checking top-level files ... OK
 
- checking for left-over files ... OK
 
- checking index information ... OK
 
- checking package subdirectories ... OK
 
- checking code files for non-ASCII characters ... OK
 
- checking R files for syntax errors ... OK
 
- checking whether the package can be loaded ... [4s/6s] OK
 
- checking whether the package can be loaded with stated dependencies ... [4s/5s] OK
 
- checking whether the package can be unloaded cleanly ... [3s/5s] OK
 
- checking whether the namespace can be loaded with stated dependencies ... [3s/5s] OK
 
- checking whether the namespace can be unloaded cleanly ... [4s/5s] OK
 
- checking loading without being on the library search path ... [4s/6s] OK
 
- checking use of S3 registration ... OK
 
- checking dependencies in R code ... OK
 
- checking S3 generic/method consistency ... OK
 
- checking replacement functions ... OK
 
- checking foreign function calls ... OK
 
- checking R code for possible problems ... [33s/42s] OK
 
- checking Rd files ... [1s/1s] OK
 
- checking Rd metadata ... OK
 
- checking Rd line widths ... OK
 
- checking Rd cross-references ... OK
 
- checking for missing documentation entries ... OK
 
- checking for code/documentation mismatches ... OK
 
- checking Rd \usage sections ... OK
 
- checking Rd contents ... OK
 
- checking for unstated dependencies in examples ... OK
 
- checking contents of ‘data’ directory ... OK
 
- checking data for non-ASCII characters ... [0s/0s] OK
 
- checking LazyData ... OK
 
- checking data for ASCII and uncompressed saves ... OK
 
- checking examples ... [51s/70s] OK
Examples with CPU (user + system) or elapsed time > 5s
               user system elapsed
pcaFit        7.163  0.071   9.538
MVComp        6.538  0.288   9.168
plot.mvcomp   5.587  0.004   7.333
plusminus.loo 0.089  0.016   7.052
 
- checking PDF version of manual ... [10s/12s] OK
 
- checking HTML version of manual ... [4s/6s] OK
 
- checking for non-standard things in the check directory ... OK
 
- DONE
 
Status: 1 NOTE