- using R Under development (unstable) (2025-10-03 r88899)
- using platform: x86_64-pc-linux-gnu
- R was compiled by
Debian clang version 19.1.7 (7)
Debian flang-new version 19.1.7 (7)
- running under: Debian GNU/Linux forky/sid
- using session charset: UTF-8
- checking for file ‘multitool/DESCRIPTION’ ... OK
- this is package ‘multitool’ version ‘0.1.5’
- package encoding: UTF-8
- checking CRAN incoming feasibility ... [1s/2s] OK
- checking package namespace information ... OK
- checking package dependencies ... OK
- checking if this is a source package ... OK
- checking if there is a namespace ... OK
- checking for executable files ... OK
- checking for hidden files and directories ... OK
- checking for portable file names ... OK
- checking for sufficient/correct file permissions ... OK
- checking whether package ‘multitool’ can be installed ... OK
See the install log for details.
- checking package directory ... OK
- checking for future file timestamps ... OK
- checking ‘build’ directory ... OK
- checking DESCRIPTION meta-information ... OK
- checking top-level files ... OK
- checking for left-over files ... OK
- checking index information ... OK
- checking package subdirectories ... OK
- checking code files for non-ASCII characters ... OK
- checking R files for syntax errors ... OK
- checking whether the package can be loaded ... [1s/3s] OK
- checking whether the package can be loaded with stated dependencies ... [1s/2s] OK
- checking whether the package can be unloaded cleanly ... [1s/1s] OK
- checking whether the namespace can be loaded with stated dependencies ... [1s/1s] OK
- checking whether the namespace can be unloaded cleanly ... [1s/2s] OK
- checking loading without being on the library search path ... [1s/2s] OK
- checking use of S3 registration ... OK
- checking dependencies in R code ... OK
- checking S3 generic/method consistency ... OK
- checking replacement functions ... OK
- checking foreign function calls ... OK
- checking R code for possible problems ... [12s/17s] OK
- checking Rd files ... [0s/1s] OK
- checking Rd metadata ... OK
- checking Rd line widths ... OK
- checking Rd cross-references ... OK
- checking for missing documentation entries ... OK
- checking for code/documentation mismatches ... OK
- checking Rd \usage sections ... OK
- checking Rd contents ... OK
- checking for unstated dependencies in examples ... OK
- checking installed files from ‘inst/doc’ ... OK
- checking files in ‘vignettes’ ... OK
- checking examples ... [86s/121s] OK
Examples with CPU (user + system) or elapsed time > 5s
user system elapsed
run_descriptives 10.793 0.059 15.356
run_multiverse 8.322 0.027 10.564
reveal_corrs 6.998 0.010 9.301
reveal_summary_stats 6.857 0.016 9.257
reveal_reliabilities 6.833 0.020 9.339
condense 5.348 0.048 6.767
reveal_model_parameters 5.258 0.008 7.968
reveal_model_warnings 5.198 0.059 7.535
reveal 5.174 0.030 6.208
reveal_model_messages 5.112 0.047 7.525
reveal_model_performance 5.151 0.008 7.503
run_multiverse_furrr 3.092 0.106 8.265
- checking for unstated dependencies in ‘tests’ ... OK
- checking tests ... [3s/4s] OK
Running ‘testthat.R’ [2s/3s]
- checking for unstated dependencies in vignettes ... OK
- checking package vignettes ... OK
- checking re-building of vignette outputs ... [39s/52s] OK
- checking PDF version of manual ... [7s/9s] OK
- checking HTML version of manual ... [1s/2s] OK
- checking for non-standard things in the check directory ... OK
- DONE
Status: OK