- using R Under development (unstable) (2022-06-30 r82540)
- using platform: x86_64-pc-linux-gnu (64-bit)
- using session charset: ISO8859-15
- checking for file 'modelplotr/DESCRIPTION' ... OK
- checking extension type ... Package
- this is package 'modelplotr' version '1.1.0'
- package encoding: UTF-8
- checking package namespace information ... OK
- checking package dependencies ... OK
- checking if this is a source package ... OK
- checking if there is a namespace ... OK
- checking for executable files ... OK
- checking for hidden files and directories ... OK
- checking for portable file names ... OK
- checking for sufficient/correct file permissions ... OK
- checking serialization versions ... OK
- checking whether package 'modelplotr' can be installed ... OK
- checking package directory ... OK
- checking for future file timestamps ... OK
- checking 'build' directory ... OK
- checking DESCRIPTION meta-information ... OK
- checking top-level files ... OK
- checking for left-over files ... OK
- checking index information ... OK
- checking package subdirectories ... OK
- checking R files for non-ASCII characters ... OK
- checking R files for syntax errors ... OK
- checking whether the package can be loaded ... OK
- checking whether the package can be loaded with stated dependencies ... OK
- checking whether the package can be unloaded cleanly ... OK
- checking whether the namespace can be loaded with stated dependencies ... OK
- checking whether the namespace can be unloaded cleanly ... OK
- checking loading without being on the library search path ... OK
- checking use of S3 registration ... OK
- checking dependencies in R code ... OK
- checking S3 generic/method consistency ... OK
- checking replacement functions ... OK
- checking foreign function calls ... OK
- checking R code for possible problems ... [12s/15s] OK
- checking Rd files ... [1s/1s] OK
- checking Rd metadata ... OK
- checking Rd line widths ... OK
- checking Rd cross-references ... OK
- checking for missing documentation entries ... OK
- checking for code/documentation mismatches ... OK
- checking Rd \usage sections ... OK
- checking Rd contents ... OK
- checking for unstated dependencies in examples ... OK
- checking contents of 'data' directory ... OK
- checking data for non-ASCII characters ... OK
- checking LazyData ... OK
- checking data for ASCII and uncompressed saves ... OK
- checking installed files from 'inst/doc' ... OK
- checking files in 'vignettes' ... OK
- checking examples ... [72s/84s] OK
Examples with CPU (user + system) or elapsed time > 5s
user system elapsed
customize_plot_text 9.107 0.552 11.046
plot_multiplot 8.755 0.537 10.810
plot_costsrevs 8.589 0.555 10.200
plot_profit 7.483 0.671 9.151
plot_roi 7.407 0.542 9.120
plot_response 5.780 0.467 6.976
plot_cumlift 5.829 0.393 6.802
plot_cumgains 5.708 0.371 6.749
plot_cumresponse 5.428 0.391 7.276
- checking for unstated dependencies in 'tests' ... OK
- checking tests ... [1s/2s] OK
Running 'testthat.R' [1s/1s]
- checking for unstated dependencies in vignettes ... OK
- checking package vignettes in 'inst/doc' ... OK
- checking re-building of vignette outputs ... [37s/47s] OK
- checking PDF version of manual ... OK
- checking for non-standard things in the check directory ... OK
- DONE
Status: OK