* using log directory ‘/home/hornik/tmp/R.check/r-devel-clang/Work/PKGS/mnt.Rcheck’ * using R Under development (unstable) (2025-07-13 r88407) * using platform: x86_64-pc-linux-gnu * R was compiled by Debian clang version 19.1.7 (3+b1) Debian flang-new version 19.1.7 (3+b1) * running under: Debian GNU/Linux 13 (trixie) * using session charset: UTF-8 * checking for file ‘mnt/DESCRIPTION’ ... OK * checking extension type ... Package * this is package ‘mnt’ version ‘1.3’ * package encoding: UTF-8 * checking CRAN incoming feasibility ... [1s/3s] NOTE Maintainer: ‘Bruno Ebner ’ The Description field contains (2020) titled "Tests for multivariate normality -- a Please refer to arXiv e-prints via their arXiv DOI . Found the following URLs which should use \doi (with the DOI name only): File ‘BHEP.Rd’: https://doi.org/10.1006/jmva.1997.1684 https://doi.org/10.1093/biomet/70.3.723 File ‘HJG.Rd’: https://doi.org/10.1007/s11749-018-0589-z File ‘HJM.Rd’: https://doi.org/10.1017/S0266466618000154 File ‘HV.Rd’: https://doi.org/10.1007/s10463-019-00720-8 File ‘HZ.Rd’: https://doi.org/10.1080/03610929008830400 File ‘MQ1.Rd’: https://doi.org/10.1007/BF02595825 File ‘MQ2.Rd’: https://doi.org/10.1007/BF02595825 File ‘SR.Rd’: https://doi.org/10.1016/j.jmva.2003.12.002 File ‘test.BHEP.Rd’: https://doi.org/10.1006/jmva.1997.1684 File ‘test.HJG.Rd’: https://doi.org/10.1007/s11749-018-0589-z File ‘test.HJM.Rd’: https://doi.org/10.1017/S0266466618000154 File ‘test.HV.Rd’: https://doi.org/10.1007/s10463-019-00720-8 File ‘test.HZ.Rd’: https://doi.org/10.1080/03610929008830400 File ‘test.MQ1.Rd’: https://doi.org/10.1007/BF02595825 File ‘test.MQ2.Rd’: https://doi.org/10.1007/BF02595825 File ‘test.SR.Rd’: https://doi.org/10.1016/j.jmva.2003.12.002 * checking package namespace information ... OK * checking package dependencies ... OK * checking if this is a source package ... OK * checking if there is a namespace ... OK * checking for executable files ... OK * checking for hidden files and directories ... OK * checking for portable file names ... OK * checking for sufficient/correct file permissions ... OK * checking whether package ‘mnt’ can be installed ... OK See 'https://www.r-project.org/nosvn/R.check/r-devel-linux-x86_64-debian-clang/mnt-00install.html' for details. * checking package directory ... OK * checking for future file timestamps ... OK * checking DESCRIPTION meta-information ... OK * checking top-level files ... OK * checking for left-over files ... OK * checking index information ... OK * checking package subdirectories ... OK * checking code files for non-ASCII characters ... OK * checking R files for syntax errors ... OK * checking whether the package can be loaded ... [0s/1s] OK * checking whether the package can be loaded with stated dependencies ... [0s/0s] OK * checking whether the package can be unloaded cleanly ... [0s/0s] OK * checking whether the namespace can be loaded with stated dependencies ... [0s/0s] OK * checking whether the namespace can be unloaded cleanly ... [0s/1s] OK * checking loading without being on the library search path ... [0s/1s] OK * checking use of S3 registration ... OK * checking dependencies in R code ... OK * checking S3 generic/method consistency ... OK * checking replacement functions ... OK * checking foreign function calls ... OK * checking R code for possible problems ... [10s/14s] OK * checking Rd files ... [1s/1s] OK * checking Rd metadata ... OK * checking Rd line widths ... OK * checking Rd cross-references ... OK * checking for missing documentation entries ... OK * checking for code/documentation mismatches ... OK * checking Rd \usage sections ... OK * checking Rd contents ... OK * checking for unstated dependencies in examples ... OK * checking contents of ‘data’ directory ... OK * checking data for non-ASCII characters ... [0s/0s] OK * checking LazyData ... OK * checking data for ASCII and uncompressed saves ... OK * checking examples ... [19s/23s] OK * checking PDF version of manual ... [6s/9s] OK * checking HTML version of manual ... [2s/5s] OK * checking for non-standard things in the check directory ... OK * DONE Status: 1 NOTE