- using R Under development (unstable) (2025-10-19 r88945)
- using platform: x86_64-pc-linux-gnu
- R was compiled by
Debian clang version 19.1.7 (7)
Debian flang-new version 19.1.7 (7)
- running under: Debian GNU/Linux forky/sid
- using session charset: UTF-8
- checking for file ‘mlr3spatiotempcv/DESCRIPTION’ ... OK
- this is package ‘mlr3spatiotempcv’ version ‘2.3.4’
- package encoding: UTF-8
- checking CRAN incoming feasibility ... [2s/2s] OK
- checking package namespace information ... OK
- checking package dependencies ... OK
- checking if this is a source package ... OK
- checking if there is a namespace ... OK
- checking for executable files ... OK
- checking for hidden files and directories ... OK
- checking for portable file names ... OK
- checking for sufficient/correct file permissions ... OK
- checking whether package ‘mlr3spatiotempcv’ can be installed ... OK
See the install log for details.
- checking package directory ... OK
- checking for future file timestamps ... OK
- checking ‘build’ directory ... OK
- checking DESCRIPTION meta-information ... OK
- checking top-level files ... OK
- checking for left-over files ... OK
- checking index information ... OK
- checking package subdirectories ... OK
- checking code files for non-ASCII characters ... OK
- checking R files for syntax errors ... OK
- checking whether the package can be loaded ... [3s/4s] OK
- checking whether the package can be loaded with stated dependencies ... [2s/3s] OK
- checking whether the package can be unloaded cleanly ... [2s/3s] OK
- checking whether the namespace can be loaded with stated dependencies ... [2s/3s] OK
- checking whether the namespace can be unloaded cleanly ... [3s/5s] OK
- checking loading without being on the library search path ... [2s/3s] OK
- checking whether startup messages can be suppressed ... [3s/4s] OK
- checking use of S3 registration ... OK
- checking dependencies in R code ... OK
- checking S3 generic/method consistency ... OK
- checking replacement functions ... OK
- checking foreign function calls ... OK
- checking R code for possible problems ... [34s/44s] OK
- checking Rd files ... [1s/1s] OK
- checking Rd metadata ... OK
- checking Rd line widths ... OK
- checking Rd cross-references ... OK
- checking for missing documentation entries ... OK
- checking for code/documentation mismatches ... OK
- checking Rd \usage sections ... OK
- checking Rd contents ... OK
- checking for unstated dependencies in examples ... OK
- checking contents of ‘data’ directory ... OK
- checking data for non-ASCII characters ... [2s/2s] OK
- checking LazyData ... OK
- checking data for ASCII and uncompressed saves ... OK
- checking installed files from ‘inst/doc’ ... OK
- checking files in ‘vignettes’ ... OK
- checking examples ... [26s/34s] OK
Examples with CPU (user + system) or elapsed time > 5s
user system elapsed
mlr_resamplings_repeated_spcv_knndm 9.329 0.227 12.368
mlr_resamplings_spcv_knndm 8.060 0.086 12.247
- checking for unstated dependencies in ‘tests’ ... OK
- checking tests ... [142s/64s] OK
Running ‘testthat.R’ [142s/64s]
- checking for unstated dependencies in vignettes ... OK
- checking package vignettes ... OK
- checking re-building of vignette outputs ... [36s/54s] OK
- checking PDF version of manual ... [10s/19s] OK
- checking HTML version of manual ... [5s/8s] NOTE
Found the following HTML validation problems:
TaskClassifST.html:197:1 (TaskClassifST.Rd:170): Warning: <h5> anchor "Usage" already defined
TaskClassifST.html:203:1 (TaskClassifST.Rd:174): Warning: <h5> anchor "Arguments" already defined
TaskClassifST.html:234:1 (TaskClassifST.Rd:191): Warning: <h5> anchor "Usage" already defined
TaskClassifST.html:240:1 (TaskClassifST.Rd:195): Warning: <h5> anchor "Arguments" already defined
TaskClassifST.html:263:1 (TaskClassifST.Rd:208): Warning: <h5> anchor "Usage" already defined
TaskClassifST.html:269:1 (TaskClassifST.Rd:212): Warning: <h5> anchor "Arguments" already defined
TaskRegrST.html:188:1 (TaskRegrST.Rd:140): Warning: <h5> anchor "Usage" already defined
TaskRegrST.html:194:1 (TaskRegrST.Rd:144): Warning: <h5> anchor "Arguments" already defined
TaskRegrST.html:225:1 (TaskRegrST.Rd:161): Warning: <h5> anchor "Usage" already defined
TaskRegrST.html:231:1 (TaskRegrST.Rd:165): Warning: <h5> anchor "Arguments" already defined
TaskRegrST.html:254:1 (TaskRegrST.Rd:178): Warning: <h5> anchor "Usage" already defined
TaskRegrST.html:260:1 (TaskRegrST.Rd:182): Warning: <h5> anchor "Arguments" already defined
assert_spatial_task.html:46:1 (assert_spatial_task.Rd:10): Warning: missing </ul> before </div>
autoplot_multi_fold_dt.html:64:1 (autoplot_multi_fold_dt.Rd:26): Warning: missing </ul> before </div>
mlr_resamplings_repeated_spcv_block.html:225:1 (mlr_resamplings_repeated_spcv_block.Rd:178): Warning: <h5> anchor "Usage" already defined
mlr_resamplings_repeated_spcv_block.html:231:1 (mlr_resamplings_repeated_spcv_block.Rd:182): Warning: <h5> anchor "Arguments" already defined
mlr_resamplings_repeated_spcv_block.html:255:1 (mlr_resamplings_repeated_spcv_block.Rd:196): Warning: <h5> anchor "Usage" already defined
mlr_resamplings_repeated_spcv_block.html:261:1 (mlr_resamplings_repeated_spcv_block.Rd:200): Warning: <h5> anchor "Arguments" already defined
mlr_resamplings_repeated_spcv_block.html:285:1 (mlr_resamplings_repeated_spcv_block.Rd:214): Warning: <h5> anchor "Usage" already defined
mlr_resamplings_repeated_spcv_block.html:291:1 (mlr_resamplings_repeated_spcv_block.Rd:218): Warning: <h5> anchor "Arguments" already defined
mlr_resamplings_repeated_spcv_block.html:315:1 (mlr_resamplings_repeated_spcv_block.Rd:232): Warning: <h5> anchor "Usage" already defined
mlr_resamplings_repeated_spcv_block.html:321:1 (mlr_resamplings_repeated_spcv_block.Rd:236): Warning: <h5> anchor "Arguments" already defined
mlr_resamplings_repeated_spcv_coords.html:154:1 (mlr_resamplings_repeated_spcv_coords.Rd:116): Warning: <h5> anchor "Usage" already defined
mlr_resamplings_repeated_spcv_coords.html:160:1 (mlr_resamplings_repeated_spcv_coords.Rd:120): Warning: <h5> anchor "Arguments" already defined
mlr_resamplings_repeated_spcv_coords.html:184:1 (mlr_resamplings_repeated_spcv_coords.Rd:134): Warning: <h5> anchor "Usage" already defined
mlr_resamplings_repeated_spcv_coords.html:190:1 (mlr_resamplings_repeated_spcv_coords.Rd:138): Warning: <h5> anchor "Arguments" already defined
mlr_resamplings_repeated_spcv_coords.html:214:1 (mlr_resamplings_repeated_spcv_coords.Rd:152): Warning: <h5> anchor "Usage" already defined
mlr_resamplings_repeated_spcv_coords.html:220:1 (mlr_resamplings_repeated_spcv_coords.Rd:156): Warning: <h5> anchor "Arguments" already defined
mlr_resamplings_repeated_spcv_coords.html:244:1 (mlr_resamplings_repeated_spcv_coords.Rd:170): Warning: <h5> anchor "Usage" already defined
mlr_resamplings_repeated_spcv_coords.html:250:1 (mlr_resamplings_repeated_spcv_coords.Rd:174): Warning: <h5> anchor "Arguments" already defined
mlr_resamplings_repeated_spcv_disc.html:140:1 (mlr_resamplings_repeated_spcv_disc.Rd:108): Warning: <h5> anchor "Usage" already defined
mlr_resamplings_repeated_spcv_disc.html:146:1 (mlr_resamplings_repeated_spcv_disc.Rd:112): Warning: <h5> anchor "Arguments" already defined
mlr_resamplings_repeated_spcv_disc.html:170:1 (mlr_resamplings_repeated_spcv_disc.Rd:126): Warning: <h5> anchor "Usage" already defined
mlr_resamplings_repeated_spcv_disc.html:176:1 (mlr_resamplings_repeated_spcv_disc.Rd:130): Warning: <h5> anchor "Arguments" already defined
mlr_resamplings_repeated_spcv_disc.html:200:1 (mlr_resamplings_repeated_spcv_disc.Rd:144): Warning: <h5> anchor "Usage" already defined
mlr_resamplings_repeated_spcv_disc.html:206:1 (mlr_resamplings_repeated_spcv_disc.Rd:148): Warning: <h5> anchor "Arguments" already defined
mlr_resamplings_repeated_spcv_disc.html:230:1 (mlr_resamplings_repeated_spcv_disc.Rd:162): Warning: <h5> anchor "Usage" already defined
mlr_resamplings_repeated_spcv_disc.html:236:1 (mlr_resamplings_repeated_spcv_disc.Rd:166): Warning: <h5> anchor "Arguments" already defined
mlr_resamplings_repeated_spcv_env.html:162:1 (mlr_resamplings_repeated_spcv_env.Rd:121): Warning: <h5> anchor "Usage" already defined
mlr_resamplings_repeated_spcv_env.html:168:1 (mlr_resamplings_repeated_spcv_env.Rd:125): Warning: <h5> anchor "Arguments" already defined
mlr_resamplings_repeated_spcv_env.html:192:1 (mlr_resamplings_repeated_spcv_env.Rd:139): Warning: <h5> anchor "Usage" already defined
mlr_resamplings_repeated_spcv_env.html:198:1 (mlr_resamplings_repeated_spcv_env.Rd:143): Warning: <h5> anchor "Arguments" already defined
mlr_resamplings_repeated_spcv_env.html:222:1 (mlr_resamplings_repeated_spcv_env.Rd:157): Warning: <h5> anchor "Usage" already defined
mlr_resamplings_repeated_spcv_env.html:228:1 (mlr_resamplings_repeated_spcv_env.Rd:161): Warning: <h5> anchor "Arguments" already defined
mlr_resamplings_repeated_spcv_env.html:252:1 (mlr_resamplings_repeated_spcv_env.Rd:175): Warning: <h5> anchor "Usage" already defined
mlr_resamplings_repeated_spcv_env.html:258:1 (mlr_resamplings_repeated_spcv_env.Rd:179): Warning: <h5> anchor "Arguments" already defined
mlr_resamplings_repeated_spcv_knndm.html:192:1 (mlr_resamplings_repeated_spcv_knndm.Rd:157): Warning: <h5> anchor "Usage" already defined
mlr_resamplings_repeated_spcv_knndm.html:198:1 (mlr_resamplings_repeated_spcv_knndm.Rd:161): Warning: <h5> anchor "Arguments" already defined
mlr_resamplings_repeated_spcv_knndm.html:222:1 (mlr_resamplings_repeated_spcv_knndm.Rd:175): Warning: <h5> anchor "Usage" already defined
mlr_resamplings_repeated_spcv_knndm.html:228:1 (mlr_resamplings_repeated_spcv_knndm.Rd:179): Warning: <h5> anchor "Arguments" already defined
mlr_resamplings_repeated_spcv_knndm.html:252:1 (mlr_resamplings_repeated_spcv_knndm.Rd:193): Warning: <h5> anchor "Usage" already defined
mlr_resamplings_repeated_spcv_knndm.html:258:1 (mlr_resamplings_repeated_spcv_knndm.Rd:197): Warning: <h5> anchor "Arguments" already defined
mlr_resamplings_repeated_spcv_knndm.html:282:1 (mlr_resamplings_repeated_spcv_knndm.Rd:211): Warning: <h5> anchor "Usage" already defined
mlr_resamplings_repeated_spcv_knndm.html:288:1 (mlr_resamplings_repeated_spcv_knndm.Rd:215): Warning: <h5> anchor "Arguments" already defined
mlr_resamplings_repeated_spcv_tiles.html:210:1 (mlr_resamplings_repeated_spcv_tiles.Rd:164): Warning: <h5> anchor "Usage" already defined
mlr_resamplings_repeated_spcv_tiles.html:216:1 (mlr_resamplings_repeated_spcv_tiles.Rd:168): Warning: <h5> anchor "Arguments" already defined
mlr_resamplings_repeated_spcv_tiles.html:240:1 (mlr_resamplings_repeated_spcv_tiles.Rd:182): Warning: <h5> anchor "Usage" already defined
mlr_resamplings_repeated_spcv_tiles.html:246:1 (mlr_resamplings_repeated_spcv_tiles.Rd:186): Warning: <h5> anchor "Arguments" already defined
mlr_resamplings_repeated_spcv_tiles.html:270:1 (mlr_resamplings_repeated_spcv_tiles.Rd:200): Warning: <h5> anchor "Usage" already defined
mlr_resamplings_repeated_spcv_tiles.html:276:1 (mlr_resamplings_repeated_spcv_tiles.Rd:204): Warning: <h5> anchor "Arguments" already defined
mlr_resamplings_repeated_spcv_tiles.html:300:1 (mlr_resamplings_repeated_spcv_tiles.Rd:218): Warning: <h5> anchor "Usage" already defined
mlr_resamplings_repeated_spcv_tiles.html:306:1 (mlr_resamplings_repeated_spcv_tiles.Rd:222): Warning: <h5> anchor "Arguments" already defined
mlr_resamplings_repeated_sptcv_cstf.html:166:1 (mlr_resamplings_repeated_sptcv_cstf.Rd:126): Warning: <h5> anchor "Usage" already defined
mlr_resamplings_repeated_sptcv_cstf.html:172:1 (mlr_resamplings_repeated_sptcv_cstf.Rd:130): Warning: <h5> anchor "Arguments" already defined
mlr_resamplings_repeated_sptcv_cstf.html:196:1 (mlr_resamplings_repeated_sptcv_cstf.Rd:144): Warning: <h5> anchor "Usage" already defined
mlr_resamplings_repeated_sptcv_cstf.html:202:1 (mlr_resamplings_repeated_sptcv_cstf.Rd:148): Warning: <h5> anchor "Arguments" already defined
mlr_resamplings_repeated_sptcv_cstf.html:226:1 (mlr_resamplings_repeated_sptcv_cstf.Rd:162): Warning: <h5> anchor "Usage" already defined
mlr_resamplings_repeated_sptcv_cstf.html:232:1 (mlr_resamplings_repeated_sptcv_cstf.Rd:166): Warning: <h5> anchor "Arguments" already defined
mlr_resamplings_repeated_sptcv_cstf.html:256:1 (mlr_resamplings_repeated_sptcv_cstf.Rd:180): Warning: <h5> anchor "Usage" already defined
mlr_resamplings_repeated_sptcv_cstf.html:262:1 (mlr_resamplings_repeated_sptcv_cstf.Rd:184): Warning: <h5> anchor "Arguments" already defined
mlr_resamplings_spcv_block.html:209:1 (mlr_resamplings_spcv_block.Rd:162): Warning: <h5> anchor "Usage" already defined
mlr_resamplings_spcv_block.html:215:1 (mlr_resamplings_spcv_block.Rd:166): Warning: <h5> anchor "Arguments" already defined
mlr_resamplings_spcv_block.html:239:1 (mlr_resamplings_spcv_block.Rd:180): Warning: <h5> anchor "Usage" already defined
mlr_resamplings_spcv_block.html:245:1 (mlr_resamplings_spcv_block.Rd:184): Warning: <h5> anchor "Arguments" already defined
mlr_resamplings_spcv_buffer.html:172:1 (mlr_resamplings_spcv_buffer.Rd:137): Warning: <h5> anchor "Usage" already defined
mlr_resamplings_spcv_buffer.html:178:1 (mlr_resamplings_spcv_buffer.Rd:141): Warning: <h5> anchor "Arguments" already defined
mlr_resamplings_spcv_buffer.html:202:1 (mlr_resamplings_spcv_buffer.Rd:155): Warning: <h5> anchor "Usage" already defined
mlr_resamplings_spcv_buffer.html:208:1 (mlr_resamplings_spcv_buffer.Rd:159): Warning: <h5> anchor "Arguments" already defined
mlr_resamplings_spcv_coords.html:141:1 (mlr_resamplings_spcv_coords.Rd:104): Warning: <h5> anchor "Usage" already defined
mlr_resamplings_spcv_coords.html:147:1 (mlr_resamplings_spcv_coords.Rd:108): Warning: <h5> anchor "Arguments" already defined
mlr_resamplings_spcv_coords.html:171:1 (mlr_resamplings_spcv_coords.Rd:122): Warning: <h5> anchor "Usage" already defined
mlr_resamplings_spcv_coords.html:177:1 (mlr_resamplings_spcv_coords.Rd:126): Warning: <h5> anchor "Arguments" already defined
mlr_resamplings_spcv_disc.html:152:1 (mlr_resamplings_spcv_disc.Rd:110): Warning: <h5> anchor "Usage" already defined
mlr_resamplings_spcv_disc.html:158:1 (mlr_resamplings_spcv_disc.Rd:114): Warning: <h5> anchor "Arguments" already defined
mlr_resamplings_spcv_disc.html:182:1 (mlr_resamplings_spcv_disc.Rd:128): Warning: <h5> anchor "Usage" already defined
mlr_resamplings_spcv_disc.html:188:1 (mlr_resamplings_spcv_disc.Rd:132): Warning: <h5> anchor "Arguments" already defined
mlr_resamplings_spcv_env.html:149:1 (mlr_resamplings_spcv_env.Rd:113): Warning: <h5> anchor "Usage" already defined
mlr_resamplings_spcv_env.html:155:1 (mlr_resamplings_spcv_env.Rd:117): Warning: <h5> anchor "Arguments" already defined
mlr_resamplings_spcv_env.html:179:1 (mlr_resamplings_spcv_env.Rd:131): Warning: <h5> anchor "Usage" already defined
mlr_resamplings_spcv_env.html:185:1 (mlr_resamplings_spcv_env.Rd:135): Warning: <h5> anchor "Arguments" already defined
mlr_resamplings_spcv_knndm.html:179:1 (mlr_resamplings_spcv_knndm.Rd:147): Warning: <h5> anchor "Usage" already defined
mlr_resamplings_spcv_knndm.html:185:1 (mlr_resamplings_spcv_knndm.Rd:151): Warning: <h5> anchor "Arguments" already defined
mlr_resamplings_spcv_knndm.html:209:1 (mlr_resamplings_spcv_knndm.Rd:165): Warning: <h5> anchor "Usage" already defined
mlr_resamplings_spcv_knndm.html:215:1 (mlr_resamplings_spcv_knndm.Rd:169): Warning: <h5> anchor "Arguments" already defined
mlr_resamplings_spcv_tiles.html:196:1 (mlr_resamplings_spcv_tiles.Rd:149): Warning: <h5> anchor "Usage" already defined
mlr_resamplings_spcv_tiles.html:202:1 (mlr_resamplings_spcv_tiles.Rd:153): Warning: <h5> anchor "Arguments" already defined
mlr_resamplings_spcv_tiles.html:226:1 (mlr_resamplings_spcv_tiles.Rd:167): Warning: <h5> anchor "Usage" already defined
mlr_resamplings_spcv_tiles.html:232:1 (mlr_resamplings_spcv_tiles.Rd:171): Warning: <h5> anchor "Arguments" already defined
mlr_resamplings_sptcv_cstf.html:153:1 (mlr_resamplings_sptcv_cstf.Rd:118): Warning: <h5> anchor "Usage" already defined
mlr_resamplings_sptcv_cstf.html:159:1 (mlr_resamplings_sptcv_cstf.Rd:122): Warning: <h5> anchor "Arguments" already defined
mlr_resamplings_sptcv_cstf.html:183:1 (mlr_resamplings_sptcv_cstf.Rd:136): Warning: <h5> anchor "Usage" already defined
mlr_resamplings_sptcv_cstf.html:189:1 (mlr_resamplings_sptcv_cstf.Rd:140): Warning: <h5> anchor "Arguments" already defined
strat_sample_folds.html:57:1 (strat_sample_folds.Rd:17): Warning: missing </ul> before </div>
- checking for non-standard things in the check directory ... OK
- DONE
Status: 1 NOTE