* using log directory ‘/home/hornik/tmp/R.check/r-devel-clang/Work/PKGS/mlmts.Rcheck’ * using R Under development (unstable) (2025-07-13 r88407) * using platform: x86_64-pc-linux-gnu * R was compiled by Debian clang version 19.1.7 (3+b1) Debian flang-new version 19.1.7 (3+b1) * running under: Debian GNU/Linux 13 (trixie) * using session charset: UTF-8 * checking for file ‘mlmts/DESCRIPTION’ ... OK * checking extension type ... Package * this is package ‘mlmts’ version ‘1.1.2’ * package encoding: UTF-8 * checking CRAN incoming feasibility ... [1s/2s] OK * checking package namespace information ... OK * checking package dependencies ... INFO Packages suggested but not available for checking: 'ueadata1', 'ueadata2', 'ueadata3', 'ueadata4', 'ueadata5', 'ueadata6', 'ueadata7', 'ueadata8' * checking if this is a source package ... OK * checking if there is a namespace ... OK * checking for executable files ... OK * checking for hidden files and directories ... OK * checking for portable file names ... OK * checking for sufficient/correct file permissions ... OK * checking whether package ‘mlmts’ can be installed ... OK See 'https://www.r-project.org/nosvn/R.check/r-devel-linux-x86_64-debian-clang/mlmts-00install.html' for details. * checking package directory ... OK * checking for future file timestamps ... OK * checking DESCRIPTION meta-information ... OK * checking top-level files ... OK * checking for left-over files ... OK * checking index information ... OK * checking package subdirectories ... OK * checking code files for non-ASCII characters ... OK * checking R files for syntax errors ... OK * checking whether the package can be loaded ... [0s/0s] OK * checking whether the package can be loaded with stated dependencies ... [0s/0s] OK * checking whether the package can be unloaded cleanly ... [0s/0s] OK * checking whether the namespace can be loaded with stated dependencies ... [0s/0s] OK * checking whether the namespace can be unloaded cleanly ... [0s/0s] OK * checking loading without being on the library search path ... [0s/0s] OK * checking use of S3 registration ... OK * checking dependencies in R code ... OK * checking S3 generic/method consistency ... OK * checking replacement functions ... OK * checking foreign function calls ... OK * checking R code for possible problems ... [11s/14s] OK * checking Rd files ... [3s/4s] OK * checking Rd metadata ... OK * checking Rd line widths ... OK * checking Rd cross-references ... OK * checking for missing documentation entries ... OK * checking for code/documentation mismatches ... OK * checking Rd \usage sections ... OK * checking Rd contents ... OK * checking for unstated dependencies in examples ... OK * checking contents of ‘data’ directory ... OK * checking data for non-ASCII characters ... [1s/1s] OK * checking LazyData ... OK * checking data for ASCII and uncompressed saves ... OK * checking examples ... [73s/83s] OK Examples with CPU (user + system) or elapsed time > 5s user system elapsed dis_qcd 7.201 0.310 7.913 outlier_detection 6.484 0.379 7.798 plot_2d_scaling 5.931 0.174 6.947 dis_spectral 5.025 0.281 5.817 dis_dtw_2 4.452 0.245 5.567 * checking for unstated dependencies in ‘tests’ ... OK * checking tests ... [1s/2s] OK Running ‘testthat.R’ [1s/1s] * checking PDF version of manual ... [9s/14s] OK * checking HTML version of manual ... [4s/6s] OK * checking for non-standard things in the check directory ... OK * DONE Status: OK